BEGIN:VCALENDAR
VERSION:2.0
PRODID:-//jEvents 2.0 for Joomla//EN
CALSCALE:GREGORIAN
METHOD:PUBLISH
BEGIN:VEVENT
UID:4e2218dfa9b0df156cbe06c92611d10d
CATEGORIES:Polar Online Events
CREATED:20211201T121912
SUMMARY:Live event from Antarctica with marine biologist Dr. Amy Moran
LOCATION:Online
DESCRIPTION:Join marine biologist Amy Moran and her team live from McMurdo Station, Ant
 arctica as they conduct research in the coldest ocean water on the planet! 
 In this live Zoom event, learn how researchers dive under sea ice to collec
 t sea creatures and discover how animals like sea spiders and sea urchins s
 urvive in the frigid waters of the Southern Ocean. \nWhen? December 10, at 
 1pm EST\nPre-registration is required: https://usap.zoomgov.com/webinar/reg
 ister/1916376090196/WN_OQf7EO-8TZivPLZDT66k6g\n
X-ALT-DESC;FMTTYPE=text/html:<p style="text-align: justify;">Join marine biologist Amy Moran and her tea
 m live from McMurdo Station, Antarctica as they conduct research in the col
 dest ocean water on the planet! In this live Zoom event, learn how research
 ers dive under sea ice to collect sea creatures and discover how animals li
 ke sea spiders and sea urchins survive in the frigid waters of the Southern
  Ocean.&nbsp;</p><p><strong>When? </strong>December 10, at 1pm EST</p><p st
 yle="text-align: justify;">Pre-registration is required: <a href="https://u
 sap.zoomgov.com/webinar/register/1916376090196/WN_OQf7EO-8TZivPLZDT66k6g" t
 arget="_blank" rel="noopener">https://usap.zoomgov.com/webinar/register/191
 6376090196/WN_OQf7EO-8TZivPLZDT66k6g</a></p>
DTSTAMP:20260425T131750Z
DTSTART;TZID=UTC;VALUE=DATE:20211210
DTEND;TZID=UTC;VALUE=DATE:20211211
SEQUENCE:0
TRANSP:OPAQUE
END:VEVENT
END:VCALENDAR