BEGIN:VCALENDAR
VERSION:2.0
PRODID:-//jEvents 2.0 for Joomla//EN
CALSCALE:GREGORIAN
METHOD:PUBLISH
BEGIN:VEVENT
UID:238fe7c5fc0857e793dacb29ca31d7b2
CATEGORIES:Polar Conferences, Meetings and Events
CREATED:20211122T084654
SUMMARY:ESA Living Planet Symposium (Deadline for abstracts extended until 10 December)
LOCATION:Bonn\, Germany
DESCRIPTION:<p style="text-align: justify;">The next <a href="https://lps22.esa.int/fro
 ntend/index.php" target="_blank" rel="noopener"><strong>ESA Living Planet S
 ymposium</strong></a> will take place from <strong>23-27 May 2022 in Bonn</
 strong>, Germany.</p><p style="text-align: justify;">Please note the extend
 ed deadline, of 10 December, to submit abstracts for ESA’s forthcoming Livi
 ng Planet Symposium 2022 (#LPS22) at the World Conference Centre, in Bonn, 
 Germany on 23–27 May 2022 (See: <a href="https://lps22.esa.int/" target="_b
 lank" rel="noopener">https://lps22.esa.int/</a>) <br /> <br />In the <a hre
 f="https://lps22.esa.int/frontend/index.php?folder_id=4294&amp;page_id=" ta
 rget="_blank" rel="noopener">LPS22 Programme</a> you will find the followin
 g Polar and Cryosphere Science Theme sessions: </p><ul style="text-align: j
 ustify;"><li>A9.01 Continuity in Cryosphere observations: from CryoSat to C
 RISTAL</li><li>A9.02 CRYO2ICE: a multi-sensor approach to Earth science</li
 ><li>A9.03 The NASA-ESA Arctic Methane and Permafrost Challenge (AMPAC) Ini
 tiative</li><li>A9.04 Mass Balance of the Cryosphere - Session on Results</
 li><li>A9.05 Measuring mountain glacier changes from space</li><li>A9.06 Se
 a Ice Remote Sensing</li><li>A9.07 Advancements in Remote Sensing of Season
 al Snow</li></ul><p style="text-align: justify;">Before submitting an abstr
 act you are invited to consult the <a href="https://lps22.esa.int/frontend/
 index.php?folder_id=4294&amp;page_id=" target="_blank" rel="noopener">scien
 tific session descriptions</a>&nbsp;of each of these sessions in the prelim
 inary programme, under the <a href="https://lps22.esa.int/frontend/index.ph
 p?folder_id=4294&amp;page_id=#themeA9" target="_blank" rel="noopener">Polar
  Science and Cryosphere</a> Theme. <br /><a href="https://lps22.esa.int/fro
 ntend/index.php?basics_login_action=show-login&amp;basics_login_controller=
 login&amp;page_id=18448" target="_blank" rel="noopener">Abstract submission
  portal</a> <br />Please note the <span style="text-decoration: underline;"
 >final deadline of 10 December 2021 for abstract submissions</span>. A subm
 ission fee of 75 euros (25 euros for students) will apply for each abstract
 . <br />Notification of abstract acceptance: second half of February 2022<b
 r /> Deadline for registration: 30 April 2022</p>
DTSTAMP:20260420T183107Z
DTSTART;TZID=UTC;VALUE=DATE:20220523
DTEND;TZID=UTC;VALUE=DATE:20220528
SEQUENCE:0
TRANSP:OPAQUE
END:VEVENT
END:VCALENDAR