BEGIN:VCALENDAR
VERSION:2.0
PRODID:-//jEvents 2.0 for Joomla//EN
CALSCALE:GREGORIAN
METHOD:PUBLISH
BEGIN:VEVENT
UID:e885c86122d9388f8a09f027c9c1290d
CATEGORIES:Field and Summer Schools
CREATED:20211118T113913
SUMMARY:DEEPICE Winter school on snow sciences - Call for applications (deadline 12 December)
LOCATION:Finse\, Norway
DESCRIPTION:In the framework of the DEEPICE project (https://deepice.cnrs.fr/), a winte
 r school on snow-process sciences will be organized in Finse (Norway) in Ma
 rch 2022 (20-26). The school will focus on snow-process sciences with theor
 etical and practical courses and exercises. It is aimed at PhD students who
  are involved in ice core climate record interpretation.\n6 places are avai
 lable for external students. Applications are now open until the 12th of De
 cember 2021.\nPlease visit the <a href="https://deepice.cnrs.fr/deepice-sno
 w-sciences-winter-school/" target="_blank" rel="noopener">dedicated page</a
 > for more information on the program and how to apply.\n
X-ALT-DESC;FMTTYPE=text/html:<p style="text-align: justify;">In the framework of the <a href="https://de
 epice.cnrs.fr/" target="_blank" rel="noopener"><span id="m_9536677553128454
 36OBJ_PREFIX_DWT11926_com_zimbra_url">DEEPICE project</span></a>, a winter 
 school on snow-process sciences will be organized in <strong><span id="m_95
 3667755312845436DWT11928">Finse</span> (Norway) in March 2022 (20-26)</stro
 ng>. The school will focus on snow-process sciences with theoretical and pr
 actical courses and exercises. It is aimed at PhD students who are involved
  in ice core climate record interpretation.</p><p style="text-align: justif
 y;"><strong>6 places are available for external students</strong>. <strong>
 Applications are now open until the 12th of December 2021.</strong></p><p s
 tyle="text-align: justify;">Please visit the <span id="m_953667755312845436
 OBJ_PREFIX_DWT11929_com_zimbra_url"><span id="m_953667755312845436OBJ_PREFI
 X_DWT13089_com_zimbra_url" role="link"><a href="https://deepice.cnrs.fr/dee
 pice-snow-sciences-winter-school/" target="_blank" rel="noopener">dedicated
  page</a> for more information on the program and how to apply.</span></spa
 n></p>
DTSTAMP:20260420T214204Z
DTSTART;TZID=UTC;VALUE=DATE:20220320
DTEND;TZID=UTC;VALUE=DATE:20220327
SEQUENCE:0
TRANSP:OPAQUE
END:VEVENT
END:VCALENDAR