BEGIN:VCALENDAR
VERSION:2.0
PRODID:-//jEvents 2.0 for Joomla//EN
CALSCALE:GREGORIAN
METHOD:PUBLISH
BEGIN:VEVENT
UID:7741e9274559de1ef9436611901e74d6
CATEGORIES:Polar Online Events
CREATED:20211118T102111
SUMMARY:AGU Town Hall (Online Only): Scientific Drilling in the Polar Regions
LOCATION:Online
DESCRIPTION:The U.S. Ice Drilling Program (IDP) will hold the AGU Town Hall on Scientif
 ic Drilling in the Polar Regions on Tuesday, 7 December 2021, from 18:15-19
 :15 Central Time. This is an online only event. We hope to see you there!\n
 Abstract: Ice sheets, glaciers, and the underlying bedrock, sediment, and p
 ermafrost hold crucial evidence of past climate, ice sheet dynamics, and cr
 atonic geology. National and international collaboration for drilling in th
 e remote Polar Regions requires strategic coordination between science, tec
 hnology, and logistics. This meeting will provide the research community wi
 th brief updates from the US Ice Drilling Program, Ice Core Young Scientist
 s (ICYS), International Partnerships in Ice Core Sciences (IPICS), GreenDri
 ll, and Hercules Dome. In addition, opportunities for community involvement
  will be showcased, and input from the audience will be solicited.\nDate: T
 uesday, 7 December 2021. Online Only.\n Time: 18:15-19:15 Central Time\n AG
 U meeting website (https://agu.confex.com/agu/fm21/meetingapp.cgi/Session/1
 21992)\n
X-ALT-DESC;FMTTYPE=text/html:<p style="text-align: justify;">The U.S. Ice Drilling Program (IDP) will ho
 ld the&nbsp;<strong>AGU Town Hall</strong> on <strong>Scientific Drilling i
 n the Polar Regions</strong>&nbsp;on&nbsp;<strong>Tuesday, 7 December 2021<
 /strong>, from&nbsp;<strong>18:15-19:15&nbsp;Central Time</strong>.&nbsp;Th
 is is an <strong>online only event</strong>.&nbsp;We hope to see you there!
 </p><p style="text-align: justify;">Abstract: Ice sheets, glaciers, and the
  underlying bedrock, sediment, and permafrost hold crucial evidence of past
  climate, ice sheet dynamics, and cratonic geology. National and internatio
 nal collaboration for drilling in the remote Polar Regions requires strateg
 ic coordination between science, technology, and logistics. This meeting wi
 ll provide the research community with brief updates from the US Ice Drilli
 ng Program, Ice Core Young Scientists (ICYS), International Partnerships in
  Ice Core Sciences (IPICS), GreenDrill, and Hercules Dome. In addition, opp
 ortunities for community involvement will be showcased, and input from the 
 audience will be solicited.</p><p style="text-align: justify;"><strong>Date
 :</strong>&nbsp;Tuesday, 7 December 2021. Online Only.<br /> <strong>Time:<
 /strong>&nbsp;18:15-19:15&nbsp;Central Time<br /> <a href="https://agu.conf
 ex.com/agu/fm21/meetingapp.cgi/Session/121992" target="_blank" rel="noopene
 r"><strong>AGU meeting website</strong></a></p>
DTSTAMP:20260420T072439Z
DTSTART;TZID=UTC;VALUE=DATE:20211207
DTEND;TZID=UTC;VALUE=DATE:20211208
SEQUENCE:0
TRANSP:OPAQUE
END:VEVENT
END:VCALENDAR