BEGIN:VCALENDAR
VERSION:2.0
PRODID:-//jEvents 2.0 for Joomla//EN
CALSCALE:GREGORIAN
METHOD:PUBLISH
BEGIN:VEVENT
UID:1e6bdd8e41d2a10cc8ef4163208f6fd7
CATEGORIES:Field and Summer Schools
CREATED:20211115T105711
SUMMARY:Snow and atmosphere field work training at Col du Lautaret, France, March 2022
LOCATION:Col du Lautaret
DESCRIPTION:Every winter, we organize a training on Snow and Atmosphere at Col du Lauta
 ret in the French Alps for the master Earth Sciences at University Grenoble
  Alpes (UGA).\nThis year, the training is open to 8 international students 
 at master level or beginning of their PhD.\nThe program comprises field wor
 k by group of 3 persons (6-7h/day) and lectures (1h/day) on the following t
 opics:\n- snow stratigraphy in snowpits, snow metamorphism (2x 0.5 day)\n- 
 snow thermal regime (0.5 day).\n- snow albedo and surface energy budget, mi
 cro-meteorology (0.5 day).\n- snow depth distribution by GPR and DGPS and d
 ata processing (3x 0.5 day).\n- atmospheric ozone (0.5 day).\n- snow optics
  (0.5 day).\n- data processing and interpretation (0.5 day)\nThe training w
 ill be held 28 February – 5 March 2022 (Monday to Saturday included), durin
 g the peak of the snow season. 13 local students from UGA will attend. The 
 fees are 450€, and include the courses, basic accommodation in chalets on s
 ite (Jardin alpin du Lautaret) and food (each group is responsible for cook
 ing for one day).\nCol du Lautaret is at the altitude of 2100m.a.s.l and cl
 imate conditions in March can be harsh – with sustained -15°C and windy as 
 in 2018 – or clement – 0°C and sunshine as in 2017. While all the field act
 ivities take place within 200 m around the chalets, good health conditions,
  adequate clothing and some initial experience with mountain environment ar
 e a prerequisite. Road access to the pass (and the training site) is occasi
 onally closed for a few hours to a full day during snowfall and storm, whic
 h may alter the program or the end date.\nTo apply, please send us an email
  with CV, details of your master curriculum and motivations before 1 Decemb
 er 2021. We will give a response within 3 weeks.\nBest regards,\nGhislain P
 icard, Manu Le Meur, Didier Voisin\n \nTraining flyer: https://snow.univ-gr
 enoble-alpes.fr/files/flyer-lautaret.pdf\nJardin alpin du Lautaret: <a href
 ="https://www.jardinalpindulautaret.fr/?language=en" target="_blank" rel="n
 oopener">https://www.jardinalpindulautaret.fr/?language=en</a>\nUniversity 
 Grenoble Alpes: https://www.univ-grenoble-alpes.fr/\nPictures: <a href="htt
 ps://www.google.com/search?q=col+du+lautaret+winter&amp;tbm=isch" target="_
 blank" rel="noopener">https://www.google.com/search?q=col+du+lautaret+winte
 r&amp;tbm=isch</a>\nWebcam: https://www.skaping.com/serrechevalier/coldulau
 taret\nP.S. For PhD students experienced in snow science, we recommend to a
 pply to the Snow Science Winter School rather than this training: <a href="
 https://www.slf.ch/en/about-the-slf/events-and-courses/snow-science-winter-
 school.html" target="_blank" rel="noopener">https://www.slf.ch/en/about-the
 -slf/events-and-courses/snow-science-winter-school.html</a>\n
X-ALT-DESC;FMTTYPE=text/html:<p lang="en-US" style="text-align: justify;">Every winter, we organize a <s
 trong>training on Snow and Atmosphere at Col du Lautaret in the French Alps
 </strong> for the master Earth Sciences at University Grenoble Alpes (UGA).
 </p><p lang="en-US" style="text-align: justify;"><strong>This year, the tra
 ining is open to 8 international students at master level or beginning of t
 heir PhD.</strong></p><p lang="en-US" style="text-align: justify;">The prog
 ram comprises field work by group of 3 persons (6-7h/day) and lectures (1h/
 day) on the following topics:</p><p lang="en-US" style="text-align: justify
 ;">- snow stratigraphy in snowpits, snow metamorphism (2x 0.5 day)<br />- s
 now thermal regime (0.5 day).<br />- snow albedo and surface energy budget,
  micro-meteorology (0.5 day).<br />- snow depth distribution by GPR and DGP
 S and data processing (3x 0.5 day).<br />- atmospheric ozone (0.5 day).<br 
 />- snow optics (0.5 day).<br />- data processing and interpretation (0.5 d
 ay)</p><p lang="en-US" style="text-align: justify;">The training will be he
 ld <strong>28 February – 5 March 2022</strong> (Monday to Saturday included
 ), during the peak of the snow season. 13 local students from UGA will atte
 nd. The fees are 450€, and include the courses, basic accommodation in chal
 ets on site (Jardin alpin du Lautaret) and food (each group is responsible 
 for cooking for one day).</p><p lang="en-US" style="text-align: justify;">C
 ol du Lautaret is at the altitude of 2100m.a.s.l and climate conditions in 
 March can be harsh – with sustained -15°C and windy as in 2018 – or clement
  – 0°C and sunshine as in 2017. While all the field activities take place w
 ithin 200 m around the chalets, good health conditions, adequate clothing a
 nd some initial experience with mountain environment are a prerequisite. Ro
 ad access to the pass (and the training site) is occasionally closed for a 
 few hours to a full day during snowfall and storm, which may alter the prog
 ram or the end date.</p><p lang="en-US" style="text-align: justify;"><stron
 g>To apply, please send us an email with CV, details of your master curricu
 lum and motivations before 1 December 2021.</strong> We will give a respons
 e within 3 weeks.</p><p lang="en-US" style="text-align: justify;">Best rega
 rds,</p><p lang="en-US" style="text-align: justify;">Ghislain Picard, Manu 
 Le Meur, Didier Voisin</p><p>&nbsp;</p><p lang="en-US" style="text-align: j
 ustify;">Training flyer: <a href="https://snow.univ-grenoble-alpes.fr/files
 /flyer-lautaret.pdf" target="_blank" rel="noopener">https://snow.univ-greno
 ble-alpes.fr/files/flyer-lautaret.pdf</a></p><p lang="en-US" style="text-al
 ign: justify;">Jardin alpin du Lautaret: <a href="https://www.jardinalpindu
 lautaret.fr/?language=en" target="_blank" rel="noopener">https://www.jardin
 alpindulautaret.fr/?language=en</a></p><p lang="en-US" style="text-align: j
 ustify;">University Grenoble Alpes: <a href="https://www.univ-grenoble-alpe
 s.fr/" target="_blank" rel="noopener">https://www.univ-grenoble-alpes.fr/</
 a></p><p lang="en-US" style="text-align: justify;">Pictures: <a href="https
 ://www.google.com/search?q=col+du+lautaret+winter&amp;tbm=isch" target="_bl
 ank" rel="noopener">https://www.google.com/search?q=col+du+lautaret+winter&
 amp;tbm=isch</a></p><p lang="en-US" style="text-align: justify;">Webcam: <a
  href="https://www.skaping.com/serrechevalier/coldulautaret" target="_blank
 " rel="noopener">https://www.skaping.com/serrechevalier/coldulautaret</a></
 p><p lang="en-US" style="text-align: justify;">P.S. For PhD students experi
 enced in snow science, we recommend to apply to the Snow Science Winter Sch
 ool rather than this training: <a href="https://www.slf.ch/en/about-the-slf
 /events-and-courses/snow-science-winter-school.html" target="_blank" rel="n
 oopener">https://www.slf.ch/en/about-the-slf/events-and-courses/snow-scienc
 e-winter-school.html</a></p>
DTSTAMP:20260420T093459Z
DTSTART;TZID=UTC;VALUE=DATE:20220228
DTEND;TZID=UTC;VALUE=DATE:20220306
SEQUENCE:0
TRANSP:OPAQUE
END:VEVENT
END:VCALENDAR