BEGIN:VCALENDAR
VERSION:2.0
PRODID:-//jEvents 2.0 for Joomla//EN
CALSCALE:GREGORIAN
METHOD:PUBLISH
BEGIN:VEVENT
UID:1b1e3d3d9867abdbd20e70de77a6df8f
CATEGORIES:Polar Online Events
CREATED:20211115T103810
SUMMARY:November 2021 NWS Alaska Climate Outlook Briefing
LOCATION:Online
DESCRIPTION:Friday, November 19 (12pm AKST)\nNovember 2021 NWS Alaska Climate Outlook B
 riefing (https://uaf-accap.org/event/november2021-nws-briefing/) - Rick Tho
 man, Alaska Center for Climate Assessment &amp; Policy, University of Alask
 a Fairbanks\nThe tools and techniques for making monthly and season scale c
 limate forecasts are rapidly changing, with the potential to provide useful
  forecasts at the month and longer range. We will review recent climate con
 ditions around Alaska, review some forecast tools and finish up the Climate
  Prediction Center’s forecast for December and winter season. Join the gath
 ering online to learn more about Alaska climate and weather.\n \nMore infor
 mation and registration: <a href="https://uaf-accap.org/event/november2021-
 nws-briefing" target="_blank" rel="noopener">https://uaf-accap.org/event/no
 vember2021-nws-briefing</a>\n
X-ALT-DESC;FMTTYPE=text/html:<p dir="ltr" style="text-align: justify;">Friday, <strong>November 19 (12pm
  AKST)</strong></p><p dir="ltr" style="text-align: justify;"><a href="https
 ://uaf-accap.org/event/november2021-nws-briefing/" target="_blank" rel="noo
 pener">November 2021 NWS Alaska Climate Outlook Briefing</a> - Rick Thoman,
  Alaska Center for Climate Assessment &amp; Policy, University of Alaska Fa
 irbanks</p><p dir="ltr" style="text-align: justify;">The tools and techniqu
 es for making monthly and season scale climate forecasts are rapidly changi
 ng, with the potential to provide useful forecasts at the month and longer 
 range. We will review recent climate conditions around Alaska, review some 
 forecast tools and finish up the Climate Prediction Center’s forecast for D
 ecember and winter season. Join the gathering online to learn more about Al
 aska climate and weather.</p><p style="text-align: justify;">&nbsp;</p><p d
 ir="ltr" style="text-align: justify;">More information and registration: <a
  href="https://uaf-accap.org/event/november2021-nws-briefing" target="_blan
 k" rel="noopener">https://uaf-accap.org/event/november2021-nws-briefing</a>
 </p>
DTSTAMP:20260420T034515Z
DTSTART;TZID=UTC;VALUE=DATE:20211119
DTEND;TZID=UTC;VALUE=DATE:20211120
SEQUENCE:0
TRANSP:OPAQUE
END:VEVENT
END:VCALENDAR