BEGIN:VCALENDAR
VERSION:2.0
PRODID:-//jEvents 2.0 for Joomla//EN
CALSCALE:GREGORIAN
METHOD:PUBLISH
BEGIN:VEVENT
UID:ff6009b69766ab8aa64ea75fcd45b332
CATEGORIES:Polar Online Events
CREATED:20211115T103544
SUMMARY:Webinar: VAWS: A tale of two ice floes
LOCATION:Online
DESCRIPTION:<p dir="ltr" style="text-align: justify;">Date changed: Thursday, <strong>N
 ovember 18 (11am AKST)</strong></p><p dir="ltr" style="text-align: justify;
 "><a href="https://uaf-accap.org/event/vaws-a-tale-of-two-ice-floes/" targe
 t="_blank" rel="noopener">VAWS: A Tale of Two Ice Floes</a> - Andy Mahoney 
 &amp; Melinda Webster, University of Alaska Fairbanks</p><p dir="ltr" style
 ="text-align: justify;">During the winter of 2019-2020, two drifting ice fl
 oes, thousands of miles apart, formed the temporary homes for two different
  Arctic operations. In late 2019, the icebreaker Polarstern was frozen into
  sea ice in the Central Arctic as the centerpiece of the year-long MOSAiC e
 xpedition. And, in February 2020, an ice camp was established roughly 150 m
 iles offshore in the Alaska Beaufort Sea as the base of on-ice activity for
  the U.S. Navy’s biennial ICEX exercise. In this webinar, we will discuss t
 he weather and ice conditions at each location and how this impacted the sc
 ience and logistics. In the process, we will introduce some of the science 
 that was carried on these two ice floes and reflect on how the unexpected w
 eather and ice conditions can create challenges, but also offer new insight
 s.</p><p dir="ltr" style="text-align: justify;">More information and regist
 ration: <a href="https://uaf-accap.org/event/vaws-a-tale-of-two-ice-floes/"
  target="_blank" rel="noopener">https://uaf-accap.org/event/vaws-a-tale-of-
 two-ice-floes/</a></p>
DTSTAMP:20260420T053010Z
DTSTART;TZID=UTC;VALUE=DATE:20211118
DTEND;TZID=UTC;VALUE=DATE:20211119
SEQUENCE:0
TRANSP:OPAQUE
END:VEVENT
END:VCALENDAR