BEGIN:VCALENDAR
VERSION:2.0
PRODID:-//jEvents 2.0 for Joomla//EN
CALSCALE:GREGORIAN
METHOD:PUBLISH
BEGIN:VEVENT
UID:2a84f8d56cc5294f7a9ecae819f539f4
CATEGORIES:Polar Conferences, Meetings and Events
CREATED:20160419T191404
SUMMARY:Arctic Science Summit Week 2017
LOCATION:Prague\, Czech Republic
DESCRIPTION:<p>More information: http://www.assw2017.eu/</p>
DTSTAMP:20260422T230700Z
DTSTART;TZID=UTC;VALUE=DATE:20170331
DTEND;TZID=UTC;VALUE=DATE:20170408
SEQUENCE:0
TRANSP:OPAQUE
END:VEVENT
END:VCALENDAR