BEGIN:VCALENDAR
VERSION:2.0
PRODID:-//jEvents 2.0 for Joomla//EN
CALSCALE:GREGORIAN
METHOD:PUBLISH
BEGIN:VEVENT
UID:9fcab4594f463d3b76cefd0db2332711
CATEGORIES:Polar Online Events
CREATED:20211110T110154
SUMMARY: Antarctic Science Bursary: tips for potential applicants - 2022 and Q+A session 2
LOCATION:Online
DESCRIPTION:<p style="text-align: justify;">In coordination with the <a href="https://w
 ww.apecs.is/" target="_blank" rel="noopener">Association of Polar Early Car
 eer Scientists (APECS)</a>, Antarctic Science Ltd. is running a webinar to 
 help potential applicants of 2022 Antarctic Science International Bursary. 
 This bursary runs every year and is for up to £6000 to support PhD or early
  career researchers to extend the scope of an existing research project. Mo
 re details here: <a href="http://www.antarcticsciencebursary.org.uk/.">http
 ://www.antarcticsciencebursary.org.uk/.</a> A great opportunity to get top-
 up funding for that exciting idea of yours!</p><hr id="system-readmore" /><
 p style="text-align: justify;">The webinar will explain more about the burs
 ary and advice on how to submit a successful application. Previous recipien
 ts of this bursary will share their experiences on the usefulness of this b
 ursary in their research careers in Antarctic science. This will be followe
 d by a Q+A session, where you can ask any bursary related question to our p
 anel of past award recipients and members of the Antarctic Science bursary 
 board.</p><p style="text-align: justify;">The webinar will be at <strong>3:
 00 pm (GMT) and again at 8:00 pm (GMT) on Friday, February 11th</strong>, p
 lease <strong>register</strong> here:</p><p style="text-align: justify;">· 
 3:00 pm slot: <a href="https://us02web.zoom.us/webinar/register/WN_-oH3qANI
 SnGv5pOxs2vx7A" title="https://us02web.zoom.us/webinar/register/WN_-oH3qANI
 SnGv5pOxs2vx7A">https://us02web.zoom.us/webinar/register/WN_-oH3qANISnGv5pO
 xs2vx7A</a></p><p style="text-align: justify;">· 8:00 pm slot: <a href="htt
 ps://us02web.zoom.us/webinar/register/WN_zdQCFeMIR1Kj-puquaF5Dg" title="htt
 ps://us02web.zoom.us/webinar/register/WN_zdQCFeMIR1Kj-puquaF5Dg">https://us
 02web.zoom.us/webinar/register/WN_zdQCFeMIR1Kj-puquaF5Dg</a></p>
CONTACT:shridhar.jawak(at)gmail.com
DTSTAMP:20260420T230716Z
DTSTART;TZID=UTC:20220211T200000
DTEND;TZID=UTC:20220211T210000
SEQUENCE:0
TRANSP:OPAQUE
END:VEVENT
END:VCALENDAR