BEGIN:VCALENDAR
VERSION:2.0
PRODID:-//jEvents 2.0 for Joomla//EN
CALSCALE:GREGORIAN
METHOD:PUBLISH
BEGIN:VEVENT
UID:cca93812ef81b224c1deb7328d3fb6dd
CATEGORIES:Polar Online Events
CREATED:20211102T115109
SUMMARY:NASEM Polar Research Board Fall Meeting - Day 2
LOCATION:Online
DESCRIPTION:The Polar Research Board (https://www.nationalacademies.org/prb/polar-resea
 rch-board) of the National Academies of Sciences, Engineering, and Medicine
  (PRB / NASEM) will hold it's Fall Board Meeting as a series of online sess
 ions as shown below. If you are interested to join any of these sessions, <
 a href="https://www.eventbrite.com/e/polar-research-board-fall-meeting-tick
 ets-198383098187?aff=odeimcmailchimp&amp;mc_cid=4a41f16202&amp;mc_eid" targ
 et="_blank" rel="noopener">please register at the link provided</a>.\n \n N
 ovember 15 (3-5pm ET). This session will include:  (i) discussions with sel
 ect federal agency polar program leaders about current priorities, opportun
 ities and challenges; (ii) updates on developments in international polar s
 cience cooperation through IASC and SCAR;  (iii) updates on recent/current 
 PRB (and related NASEM) activities.\n \n November 19 (2-5pm ET). This sessi
 on will explore current developments, and possible opportunities for new PR
 B efforts related to: (i) assessment of health risks/concerns for Arctic-re
 gion populations; (ii) prospects for expanding science cooperation in the R
 ussian Arctic.\n \n November 30 (3-5pm ET). This is a joint session with th
 e Board on Atmospheric Sciences and Climate (BASC) and Ocean Studies Board 
 (OSB) on “Tipping Points in the Climate System”. We will consider scientifi
 c advances made since the last major NASEM study on this topic (in 2013) an
 d explore what new Academies activities could help advance scientific under
 standing and public communication about this concept.\n \n To register for 
 any of the meeting sessions: <a href="https://www.eventbrite.com/e/polar-re
 search-board-fall-meeting-tickets-198383098187?aff=odeimcmailchimp&amp;mc_c
 id=4a41f16202&amp;mc_eid" target="_blank" rel="noopener"></a>\n \n More inf
 ormation about the NASEM Polar Research Board can be found here: <a href="h
 ttps://www.nationalacademies.org/prb/polar-research-board" target="_blank" 
 rel="noopener"></a> (https://www.nationalacademies.org/prb/polar-research-b
 oard)<a href="https://www.nationalacademies.org/prb/polar-research-board" t
 arget="_blank" rel="noopener">https://www.nationalacademies.org/prb/polar-r
 esearch-board</a>\n
X-ALT-DESC;FMTTYPE=text/html:<p style="text-align: justify;">The <strong><a href="https://www.nationalac
 ademies.org/prb/polar-research-board" target="_blank" rel="noopener">Polar 
 Research Board</a> of the National Academies of Sciences,&nbsp;Engineering,
  and Medicine (PRB / NASEM)</strong> will hold it's Fall Board&nbsp;Meeting
  as a series of online sessions as shown below. If you&nbsp;are interested 
 to join any of these sessions, <a href="https://www.eventbrite.com/e/polar-
 research-board-fall-meeting-tickets-198383098187?aff=odeimcmailchimp&amp;mc
 _cid=4a41f16202&amp;mc_eid" target="_blank" rel="noopener">please register 
 at the link provided</a>.<br /> <br /> <strong>November 15 (3-5pm ET)</stro
 ng>. This session will include:&nbsp; (i)&nbsp;discussions with select fede
 ral agency polar program leaders&nbsp;about current priorities, opportuniti
 es and challenges; (ii)&nbsp;updates on developments in international polar
  science&nbsp;cooperation through IASC and SCAR;&nbsp; (iii) updates on&nbs
 p;recent/current PRB (and related NASEM) activities.<br /> <br /> <strong>N
 ovember 19 (2-5pm ET).</strong> This session will explore current&nbsp;deve
 lopments, and possible opportunities for new PRB efforts&nbsp;related to: (
 i) assessment of health risks/concerns for&nbsp;Arctic-region populations; 
 (ii) prospects for expanding science&nbsp;cooperation in the Russian Arctic
 .<br /> <br /> <strong>November 30 (3-5pm ET). </strong>This is a joint ses
 sion with the Board&nbsp;on Atmospheric Sciences and Climate (BASC) and Oce
 an Studies&nbsp;Board (OSB) on “Tipping Points in the Climate System”. We&n
 bsp;will consider scientific advances made since the last major NASEM&nbsp;
 study on this topic (in 2013) and explore what new Academies&nbsp;activitie
 s could help advance scientific understanding and public&nbsp;communication
  about this concept.<br /> <br /> To register for any of the meeting sessio
 ns: <a href="https://www.eventbrite.com/e/polar-research-board-fall-meeting
 -tickets-198383098187?aff=odeimcmailchimp&amp;mc_cid=4a41f16202&amp;mc_eid"
  target="_blank" rel="noopener"></a><a href="https://www.eventbrite.com/e/p
 olar-research-board-fall-meeting-tickets-198383098187?aff=odeimcmailchimp&a
 mp;mc_cid=4a41f16202&amp;mc_eid" target="_blank" rel="noopener"></a><a href
 ="https://www.eventbrite.com/e/polar-research-board-fall-meeting-tickets-19
 8383098187?aff=odeimcmailchimp&amp;mc_cid=4a41f16202&amp;mc_eid" target="_b
 lank" rel="noopener">https://www.eventbrite.com/e/polar-research-board-fall
 -meeting-tickets-198383098187?aff=odeimcmailchimp&amp;mc_cid=4a41f16202&amp
 ;mc_eid</a><br /> <br /> More information about the NASEM Polar Research Bo
 ard can be found here: <a href="https://www.nationalacademies.org/prb/polar
 -research-board" target="_blank" rel="noopener"></a><a href="https://www.na
 tionalacademies.org/prb/polar-research-board" target="_blank" rel="noopener
 "></a><a href="https://www.nationalacademies.org/prb/polar-research-board" 
 target="_blank" rel="noopener">https://www.nationalacademies.org/prb/polar-
 research-board</a></p>
DTSTAMP:20260420T034443Z
DTSTART;TZID=UTC;VALUE=DATE:20211119
DTEND;TZID=UTC;VALUE=DATE:20211120
SEQUENCE:0
TRANSP:OPAQUE
END:VEVENT
END:VCALENDAR