BEGIN:VCALENDAR
VERSION:2.0
PRODID:-//jEvents 2.0 for Joomla//EN
CALSCALE:GREGORIAN
METHOD:PUBLISH
BEGIN:VEVENT
UID:f164263ea91f79d747dcaa5969d1ad34
CATEGORIES:Polar Online Events
CREATED:20211101T083307
SUMMARY:Virtual workshop on Ethics and Methods in Arctic Transformative Research
LOCATION:Online
DESCRIPTION:This workshop is open to researchers from all disciplines, policy makers, a
 ctivists, and others with an interest in Arctic research and research ethic
 s. \n \n We explicitly want to encourage natural scientists to participate.
  \n \n The workshop will include presentations and discussion-based session
 s between participants. Please see the preliminary programme and more infor
 mation about the concept and sessions attached. \n \n Contributors will inc
 lude Anna Burdenski (University of Vienna, Austria), Stephan Dudeck (Founda
 tion for Siberian Cultures, Germany), Shelly Elverum (Ikaarvik, Canada), Lo
 uise Flaherty (Inhabit Media Inc., Canada), Erich Kasten (Foundation for Si
 berian Cultures, Germany), Britt Kramvig (UiT, The Arctic University of Nor
 way), Angela McIntyre (University of British Columbia, Canada), Justin Milt
 on (Ikaarvik, Canada), Elle Merete Omma (Saami Council, Sápmi), Barbara Sch
 ellhammer (Munich School of Philosophy, Germany), Jorrit van der Schot (Uni
 versity of Graz, Austria), Stephen Williams (IASS, Germany), Stan Wilson (U
 niversity of Alberta, University of Saskatchewan, Council of Elders for Opa
 skwayak Cree Nation, Canada).\n \n If you would like to participate in this
  workshop, please send an e-mail to vilena.valeeva[at]iass-potsdam.de befor
 e 19 November 2021. \n \n Please also note that we may need to restrict the
  number of participants to enable mutual learning.  \n \n For more informat
 ion, see also our workshop website (https://www.arctic-ethics.org/). If you
  have any further questions or comments, please do not hesitate to get in c
 ontact!\n \n We look forward to hearing from you! \n\n
X-ALT-DESC;FMTTYPE=text/html:<p style="text-align: justify;">This workshop is open to researchers from a
 ll disciplines, policy makers, activists, and others with an interest in Ar
 ctic research and research ethics.&nbsp;<br /> <br /> We explicitly want to
  encourage natural scientists to participate.&nbsp;<br /> <br /> The worksh
 op will include presentations and discussion-based sessions between partici
 pants.&nbsp;Please see the preliminary programme and more information about
  the concept and sessions attached.&nbsp;<br /> <br /> Contributors will in
 clude&nbsp;<strong>Anna Burdenski&nbsp;</strong>(University of Vienna, Aust
 ria),&nbsp;<strong>Stephan Dudeck</strong>&nbsp;(Foundation for Siberian Cu
 ltures, Germany),&nbsp;<strong>Shelly Elverum</strong>&nbsp;(Ikaarvik, Cana
 da),&nbsp;<strong>Louise Flaherty&nbsp;</strong>(Inhabit Media Inc., Canada
 ),&nbsp;<strong>Erich Kasten&nbsp;</strong>(Foundation for Siberian Culture
 s, Germany),&nbsp;<strong>Britt Kramvig&nbsp;</strong>(UiT, The Arctic Univ
 ersity of Norway),&nbsp;<strong>Angela McIntyre</strong>&nbsp;(University o
 f British Columbia, Canada),&nbsp;<strong>Justin Milton&nbsp;</strong>(Ikaa
 rvik, Canada),&nbsp;<strong>Elle Merete Omma</strong>&nbsp;(Saami Council, 
 Sápmi),&nbsp;<strong>Barbara Schellhammer</strong>&nbsp;(Munich School of P
 hilosophy, Germany),&nbsp;<strong>Jorrit van der Schot</strong>&nbsp;(Unive
 rsity of Graz, Austria),&nbsp;<strong>Stephen Williams</strong>&nbsp;(IASS,
  Germany),&nbsp;<strong>Stan</strong> <strong>Wilson</strong>&nbsp;(Univers
 ity&nbsp;of Alberta,&nbsp;University&nbsp;of Saskatchewan, Council of Elder
 s for Opaskwayak Cree Nation, Canada).<br /> <br /> If you would like to pa
 rticipate in this workshop,&nbsp;please send an e-mail to&nbsp;<span style=
 "text-decoration: underline;">vilena.valeeva[at]iass-potsdam.de</span><stro
 ng>&nbsp;before 19 November 2021.&nbsp;</strong><br /> <br /> Please also n
 ote that we may need to restrict the number of participants to enable mutua
 l learning. &nbsp;<br /> <br /> For more&nbsp;information, see also our wor
 kshop <strong><a href="https://www.arctic-ethics.org/" target="_blank" rel=
 "noopener">website</a>. </strong>If you have any further questions or comme
 nts, please do not hesitate to get in contact!<br /> <br /> <strong>We look
  forward to hearing from you! <br /></strong></p>
DTSTAMP:20260420T093739Z
DTSTART;TZID=UTC;VALUE=DATE:20211125
DTEND;TZID=UTC;VALUE=DATE:20211127
SEQUENCE:0
TRANSP:OPAQUE
END:VEVENT
END:VCALENDAR