BEGIN:VCALENDAR
VERSION:2.0
PRODID:-//jEvents 2.0 for Joomla//EN
CALSCALE:GREGORIAN
METHOD:PUBLISH
BEGIN:VEVENT
UID:891bc54cd0077223162018845a8a431c
CATEGORIES:Polar Online Events
CREATED:20211028T144157
SUMMARY:NSF Office of Polar Programs Postdoctoral Research Fellowship​ Program Webinar
LOCATION:Online
DESCRIPTION:NSF Office of Polar Programs Postdoctoral Research Fellowship​ Program Webi
 nar\nNovember 10, 2021 4:00 PM  to November 10, 2021 5:00 PM\nZoom\nJoin th
 e Office of Polar Programs (OPP) to learn more about the upcoming February 
 2022 proposal deadline for the Postdoctoral Research Fellowships program​. 
 The Postdoctoral Research Fellowships (PRF) provide opportunities for early
  career scientists, including social scientists, to accomplish one or more 
 of the following goals:\nExpand their work across traditional disciplinary 
 linesDevelop new partnerships connecting the polar regions and/or non-polar
  research communitiesProvide entry to researchers who have traditionally ha
 d limited access to polar research resources, sites and facilitiesThe fello
 wship program encourages the integration of new investigators who have not 
 previously worked in polar regions and/or innovative techniques that have n
 ot previously been applied to polar science into polar research.Join OPP Pr
 ogram Directors to learn more about the PRF, eligibility, upcoming deadline
 s, and more.  \nRegister here (https://nsf.zoomgov.com/webinar/register/WN_
 OO-Tx12CTJWhG4lqqrVpDw)<a href="https://nsf.zoomgov.com/webinar/register/WN
 _OO-Tx12CTJWhG4lqqrVpDw"></a>\n
X-ALT-DESC;FMTTYPE=text/html:<p style="text-align: justify;"><strong><span lang="EN-US">NSF Office of Po
 lar Programs Postdoctoral Research Fellowship​ Program Webinar</span></stro
 ng><br /><strong>November 10, 2021 4:00 PM&nbsp; to November 10, 2021 5:00 
 PM</strong><br /><strong>Zoom</strong></p><p style="text-align: justify;">J
 oin the <strong>Office of Polar Programs (OPP)</strong> to learn more about
  the upcoming February 2022 proposal deadline for the <strong>Postdoctoral 
 Research Fellowships program</strong>​. The Postdoctoral Research Fellowshi
 ps (PRF) provide opportunities for early career scientists, including socia
 l scientists, to accomplish one or more of the following goals:</p><ul styl
 e="text-align: justify;"><li data-mce-word-list="1">Expand their work acros
 s traditional disciplinary lines</li><li data-mce-word-list="1">Develop new
  partnerships connecting the polar regions and/or non-polar research commun
 ities</li><li data-mce-word-list="1">Provide entry to researchers who have 
 traditionally had limited access to polar research resources, sites and fac
 ilities</li><li data-mce-word-list="1">The fellowship program encourages th
 e integration of new investigators who have not previously worked in polar 
 regions and/or innovative techniques that have not previously been applied 
 to polar science into polar research.</li></ul><p style="text-align: justif
 y;">Join OPP Program Directors to learn more about the PRF, eligibility, up
 coming deadlines, and more. &nbsp;</p><p style="text-align: justify;"><a hr
 ef="https://nsf.zoomgov.com/webinar/register/WN_OO-Tx12CTJWhG4lqqrVpDw" tar
 get="_blank" rel="noopener">Register here</a><a href="https://nsf.zoomgov.c
 om/webinar/register/WN_OO-Tx12CTJWhG4lqqrVpDw"></a></p>
DTSTAMP:20260420T093539Z
DTSTART;TZID=UTC;VALUE=DATE:20211110
DTEND;TZID=UTC;VALUE=DATE:20211111
SEQUENCE:0
TRANSP:OPAQUE
END:VEVENT
END:VCALENDAR