BEGIN:VCALENDAR
VERSION:2.0
PRODID:-//jEvents 2.0 for Joomla//EN
CALSCALE:GREGORIAN
METHOD:PUBLISH
BEGIN:VEVENT
UID:4e2acd53cb6f3a295ca3a075a6c02994
CATEGORIES:Polar Online Events
CREATED:20211028T143914
SUMMARY:NSF Office of Polar Programs Antarctic Section Virtual Office Hours
LOCATION:Online
DESCRIPTION:NSF Office of Polar Programs Antarctic Section Virtual Office Hours\nOctobe
 r 29, 2021 3:00 PM  to October 29, 2021 4:00 PM\nZoom\nThe Antarctic Scienc
 es (ANT) and Antarctic Infrastructure and Logistics (AIL) Sections of the O
 PP will be hosting this virtual Office Hours to:\nShare information regardi
 ng evolving plans for upcoming seasonsProvide NSF and OPP updatesInform you
  of funding opportunitiesAnd engage with you in a question and answer sessi
 onThese Office Hours sessions are designed to allow the USAP science commun
 ity to ask questions, share concerns, and offer suggestions on how ANT/AIL 
 can more effectively aid the recovery from the impacts of COVID-19 and to f
 oster the growth, diversity, and resilience of the Antarctic science commun
 ity.\nRegister here (https://nsf.zoomgov.com/webinar/register/WN_S805diyQTk
 mOaZdv6lCBOA)<a href="https://nsf.zoomgov.com/webinar/register/WN_S805diyQT
 kmOaZdv6lCBOA"></a>\n
X-ALT-DESC;FMTTYPE=text/html:<p><strong>NSF Office of Polar Programs Antarctic Section Virtual Office Ho
 urs<br />October 29, 2021 3:00 PM&nbsp; to October 29, 2021 4:00 PM</strong
 ><br /><strong>Zoom</strong></p><p style="text-align: justify;">The <strong
 >Antarctic Sciences (ANT)</strong> and <strong>Antarctic Infrastructure and
  Logistics (AIL)</strong> Sections of the<strong> OPP </strong>will be host
 ing this <strong>virtual Office Hours</strong> to:</p><ul style="text-align
 : justify;"><li data-mce-word-list="1">Share information regarding evolving
  plans for upcoming seasons</li><li data-mce-word-list="1">Provide NSF and 
 OPP updates</li><li data-mce-word-list="1">Inform you of funding opportunit
 ies</li><li data-mce-word-list="1">And engage with you in a question and an
 swer session</li></ul><p style="text-align: justify;">These Office Hours se
 ssions are designed to allow the USAP science community to ask questions, s
 hare concerns, and offer suggestions on how ANT/AIL can more effectively ai
 d the recovery from the impacts of COVID-19 and to foster the growth, diver
 sity, and resilience of the Antarctic science community.</p><p style="text-
 align: justify;"><a href="https://nsf.zoomgov.com/webinar/register/WN_S805d
 iyQTkmOaZdv6lCBOA" target="_blank" rel="noopener">Register here</a><a href=
 "https://nsf.zoomgov.com/webinar/register/WN_S805diyQTkmOaZdv6lCBOA"></a></
 p>
DTSTAMP:20260420T015322Z
DTSTART;TZID=UTC;VALUE=DATE:20211029
DTEND;TZID=UTC;VALUE=DATE:20211030
SEQUENCE:0
TRANSP:OPAQUE
END:VEVENT
END:VCALENDAR