BEGIN:VCALENDAR
VERSION:2.0
PRODID:-//jEvents 2.0 for Joomla//EN
CALSCALE:GREGORIAN
METHOD:PUBLISH
BEGIN:VEVENT
UID:4e0e7030ec5f1e2280579da41157a30f
CATEGORIES:Field and Summer Schools
CREATED:20211027T112040
SUMMARY:20th International Swiss Climate Summer School
LOCATION:Grindelwald\, Switzerland
DESCRIPTION:20th Swiss Climate Summer School (https://www.oeschger.unibe.ch/studies/sum
 mer_school/2022/scope/index_eng.html)\n Extreme weather and climate: from a
 tmospheric processes to impacts on ecosystems and society\n28 August - 2 Se
 ptember 2022\n Grindelwald, Switzerland\nSwiss Climate Research, the networ
 k of leading Swiss institutions in climate research and education, invites 
 young scientists (PhD students and postdocs) to join high-profile climate r
 esearchers in a scenic Swiss Alpine setting for keynote lectures, workshops
  and poster sessions on the occasion of the 20th Swiss Climate Summer Schoo
 l 2022.\nScope\n Always with a focus on extreme weather and climate, specif
 ic topics include:\n\n - Introduction: the atmospheric perspective and the 
 impacts perspective\n - Atmospheric processes and statistical concepts\n - 
 Impacts of extreme events on ecosystems, humans and society\n - Why should 
 we care?Lecturers for keynotes and workshops (confirmed)\n Claus Beisbart (
 U Bern, CH); Stefan Brem (BABS, CH); David Bresch (ETH Zurich, CH); Stefan 
 Brönnimann (U Bern, CH); Erich Fischer (ETH Zurich, CH); Jörg Franke (U Ber
 n, CH), Katja Frieler (PIK Potsdam, D); Thomas Frölicher (U Bern, CH); Rebe
 cca Morss (UCAR/NCAR Boulder, USA); Christian Otto (PIK Potsdam, D); Christ
 oph C. Raible (U Bern, CH); Olivia Romppainen-Martius (U Bern, CH); Alexand
 er Ruane (NASA GISS, USA); Sonia I. Seneviratne (ETH Zurich, CH); Thomas F.
  Stocker (U Bern, CH).\nParticipation is highly competitive and will be lim
 ited to a maximum of 70. The registration fee (1300 CHF) includes half boar
 d accommodation, excursion and teaching material.\n– – – – – – – – – – – – 
 – – – – – – – – – – – – – – – – – – – – – – – – – – – – – – – – – – –\n Dea
 dline for applications: 16 January 2022\n – – – – – – – – – – – – – – – – –
  – – – – – – – – – – – – – – – – – – – – – – – – – – –\n Detailed informati
 on and the application form are available at:\n <a href="http://www.oeschge
 r.unibe.ch/summerschool" target="_blank" rel="noopener">http://www.oeschger
 .unibe.ch/summerschool</a>\nOeschger Centre for Climate Change Research\n U
 niversity of Bern, Switzerland\n  (mailto:info@oeschger.unibe.ch)This email
  address is being protected from spambots. You need JavaScript enabled to v
 iew it.
				document.getElementById('cloak63e86b011700ecc8eab75ed1629afbd5'
 ).innerHTML = '';
				var prefix = '&#109;a' + 'i&#108;' + '&#116;o';
				v
 ar path = 'hr' + 'ef' + '=';
				var addy63e86b011700ecc8eab75ed1629afbd5 =
  '&#105;nf&#111;' + '&#64;';
				addy63e86b011700ecc8eab75ed1629afbd5 = add
 y63e86b011700ecc8eab75ed1629afbd5 + '&#111;&#101;schg&#101;r' + '&#46;' + '
 &#117;n&#105;b&#101;' + '&#46;' + 'ch';
				var addy_text63e86b011700ecc8ea
 b75ed1629afbd5 = '&#105;nf&#111;' + '&#64;' + '&#111;&#101;schg&#101;r' + '
 &#46;' + '&#117;n&#105;b&#101;' + '&#46;' + 'ch';document.getElementById('c
 loak63e86b011700ecc8eab75ed1629afbd5').innerHTML += '<a ' + path + '\'' + p
 refix + ':' + addy63e86b011700ecc8eab75ed1629afbd5 + '\'>'+addy_text63e86b0
 11700ecc8eab75ed1629afbd5+'';
		\n
X-ALT-DESC;FMTTYPE=text/html:<p style="text-align: justify;"><strong><a href="https://www.oeschger.unibe
 .ch/studies/summer_school/2022/scope/index_eng.html" target="_blank" rel="n
 oopener">20th Swiss Climate Summer School</a><br /> Extreme weather and cli
 mate: from atmospheric processes to impacts on ecosystems and society</stro
 ng></p><p style="text-align: justify;">28 August - 2 September 2022<br /> G
 rindelwald, Switzerland</p><p style="text-align: justify;">Swiss Climate Re
 search, the network of leading Swiss institutions in climate research and e
 ducation, invites young scientists (PhD students and postdocs) to join high
 -profile climate researchers in a scenic Swiss Alpine setting for keynote l
 ectures, workshops and poster sessions on the occasion of the <strong>20<su
 p>th</sup>&nbsp;Swiss Climate Summer School 2022</strong>.</p><p style="tex
 t-align: justify;"><strong>Scope<br /> </strong>Always with a focus on extr
 eme weather and climate, specific topics include:</p><ul style="text-align:
  justify;"><li>Introduction: the atmospheric perspective and the impacts pe
 rspective</li><li>Atmospheric processes and statistical concepts</li><li>Im
 pacts of extreme events on ecosystems, humans and society</li><li>Why shoul
 d we care?</li></ul><p style="text-align: justify;"><strong>Lecturers for k
 eynotes and workshops (confirmed)<br /> </strong>Claus Beisbart (U Bern, CH
 ); Stefan Brem (BABS, CH); David Bresch (ETH Zurich, CH); Stefan Brönnimann
  (U Bern, CH); Erich Fischer (ETH Zurich, CH); Jörg Franke (U Bern, CH), Ka
 tja Frieler (PIK Potsdam, D); Thomas Frölicher (U Bern, CH); Rebecca Morss 
 (UCAR/NCAR Boulder, USA); Christian Otto (PIK Potsdam, D); Christoph C. Rai
 ble (U Bern, CH); Olivia Romppainen-Martius (U Bern, CH); Alexander Ruane (
 NASA GISS, USA); Sonia I. Seneviratne (ETH Zurich, CH); Thomas F. Stocker (
 U Bern, CH).</p><p style="text-align: justify;">Participation is highly com
 petitive and will be limited to a maximum of 70. The registration fee (1300
  CHF) includes half board accommodation, excursion and teaching material.</
 p><p style="text-align: justify;">– – – – – – – – – – – – – – – – – – – – –
  – – – – – – – – – – – – – – – – – – – – – – – – – –<br /> <strong>Deadline
  for applications: 16 January 2022<br /> </strong>– – – – – – – – – – – – –
  – – – – – – – – – – – – – – – – – – – – – – – – – – – – – – –<br /> Detail
 ed information and the application form are available at:<br /> <strong><a 
 href="http://www.oeschger.unibe.ch/summerschool" target="_blank" rel="noope
 ner">http://www.oeschger.unibe.ch/summerschool</a></strong></p><p style="te
 xt-align: justify;">Oeschger Centre for Climate Change Research<br /> Unive
 rsity of Bern, Switzerland<br /> <a href="mailto:info@oeschger.unibe.ch"></
 a><span id="cloak63e86b011700ecc8eab75ed1629afbd5">This email address is be
 ing protected from spambots. You need JavaScript enabled to view it.</span>
 <script type='text/javascript'>
				document.getElementById('cloak63e86b011
 700ecc8eab75ed1629afbd5').innerHTML = '';
				var prefix = '&#109;a' + 'i&#
 108;' + '&#116;o';
				var path = 'hr' + 'ef' + '=';
				var addy63e86b0117
 00ecc8eab75ed1629afbd5 = '&#105;nf&#111;' + '&#64;';
				addy63e86b011700ec
 c8eab75ed1629afbd5 = addy63e86b011700ecc8eab75ed1629afbd5 + '&#111;&#101;sc
 hg&#101;r' + '&#46;' + '&#117;n&#105;b&#101;' + '&#46;' + 'ch';
				var add
 y_text63e86b011700ecc8eab75ed1629afbd5 = '&#105;nf&#111;' + '&#64;' + '&#11
 1;&#101;schg&#101;r' + '&#46;' + '&#117;n&#105;b&#101;' + '&#46;' + 'ch';do
 cument.getElementById('cloak63e86b011700ecc8eab75ed1629afbd5').innerHTML +=
  '<a ' + path + '\'' + prefix + ':' + addy63e86b011700ecc8eab75ed1629afbd5 
 + '\'>'+addy_text63e86b011700ecc8eab75ed1629afbd5+'<\/a>';
		</script></p>
DTSTAMP:20260419T171306Z
DTSTART;TZID=UTC;VALUE=DATE:20220828
DTEND;TZID=UTC;VALUE=DATE:20220903
SEQUENCE:0
TRANSP:OPAQUE
END:VEVENT
END:VCALENDAR