BEGIN:VCALENDAR
VERSION:2.0
PRODID:-//jEvents 2.0 for Joomla//EN
CALSCALE:GREGORIAN
METHOD:PUBLISH
BEGIN:VEVENT
UID:36141264bafe87402517d859b743e439
CATEGORIES:Polar Online Events
CREATED:20211027T111028
SUMMARY:IARPC Diversity & Inclusion Discussion Group: Co-Production and Collaboration in Arctic Research, Featuring Alice Qannik Glenn of Coffee & Quaq
LOCATION:Online
DESCRIPTION:On November 5, 9-10:30am AKT / 1-2:30pm ET, the IARPC Diversity &amp; Inclu
 sion Working Group will be holding a discussion about co-production and col
 laboration in Arctic research, featuring a discussion with Alice Qannik Gle
 nn of the Coffee &amp; Quaq podcast.This will be an open, informal event fo
 cused on conversation, curiosity, and learning. We hope that this supportiv
 e learning environment will lead towards action and change. All are welcome
 !\nBefore the event, we strongly encourage you to listen to the Coffee &amp
 ; Quaq episode AK Natives on the Front Line: Behind the Story (https://www.
 coffeeandquaq.com/post/ak-natives-on-the-front-line-behind-the-story). (If 
 you’re keen for more, you can listen to <a href="https://www.spreaker.com/u
 ser/coffeeandquaq/ak-natives-on-the-frontline-ep-2-hunting?utm_medium=widge
 t&amp;utm_source=user%3A10663336&amp;utm_term=episode_title" target="_blank
 " rel="noopener">more episodes</a> or read  (https://www.hcn.org/issues/52.
 7/indigenous-affairs-climate-change-what-choice-do-we-have)a couple related
  <a href="https://pulitzercenter.org/blog/behind-story-alaska-natives-front
 -line" target="_blank" rel="noopener">articles</a>, too!)\nMore information
 : https://www.iarpccollaborations.org/events/21856\n
X-ALT-DESC;FMTTYPE=text/html:<div style="text-align: justify;"><strong>On November 5</strong>, 9-10:30am
  AKT / 1-2:30pm ET, the <strong>IARPC Diversity &amp; Inclusion Working Gro
 up</strong> will be holding a discussion about co-production and collaborat
 ion in Arctic research, featuring a discussion with Alice Qannik Glenn of t
 he Coffee &amp; Quaq podcast.</div><div><p style="text-align: justify;">Thi
 s will be an open, informal event focused on conversation, curiosity, and l
 earning. We hope that this supportive learning environment will lead toward
 s action and change. All are welcome!</p><p style="text-align: justify;">Be
 fore the event, we strongly encourage you to listen to the Coffee &amp; Qua
 q episode <a href="https://www.coffeeandquaq.com/post/ak-natives-on-the-fro
 nt-line-behind-the-story" target="_blank" rel="noopener">AK Natives on the 
 Front Line: Behind the Story</a>. (If you’re keen for more, you can listen 
 to <a href="https://www.spreaker.com/user/coffeeandquaq/ak-natives-on-the-f
 rontline-ep-2-hunting?utm_medium=widget&amp;utm_source=user%3A10663336&amp;
 utm_term=episode_title" target="_blank" rel="noopener">more episodes</a> or
  <a href="https://www.hcn.org/issues/52.7/indigenous-affairs-climate-change
 -what-choice-do-we-have" target="_blank" rel="noopener">read </a>a couple r
 elated <a href="https://pulitzercenter.org/blog/behind-story-alaska-natives
 -front-line" target="_blank" rel="noopener">articles</a>, too!)</p><p style
 ="text-align: justify;">More information: <a href="https://www.iarpccollabo
 rations.org/events/21856" target="_blank" rel="noopener">https://www.iarpcc
 ollaborations.org/events/21856</a></p></div>
DTSTAMP:20260420T072827Z
DTSTART;TZID=UTC;VALUE=DATE:20211105
DTEND;TZID=UTC;VALUE=DATE:20211106
SEQUENCE:0
TRANSP:OPAQUE
END:VEVENT
END:VCALENDAR