BEGIN:VCALENDAR
VERSION:2.0
PRODID:-//jEvents 2.0 for Joomla//EN
CALSCALE:GREGORIAN
METHOD:PUBLISH
BEGIN:VEVENT
UID:ef81aaa570f1f4c76d65a0ac6d00a87f
CATEGORIES:Polar Online Events
CREATED:20211027T110456
SUMMARY:Navigating the New Arctic Annual Community Meeting
LOCATION:Online
DESCRIPTION:Organizers announce the upcoming Navigating the New Arctic (NNA) Annual Com
 munity Meeting for investigators and partners. This meeting will take place
  online 8-10 November 2021.\nThis meeting, held in cooperation between the 
 NNA Community Office and the National Science Foundation’s NNA Working Grou
 p, will provide an important opportunity for NNA project teams, Arctic comm
 unity members, Indigenous and Traditional knowledge holders, decision maker
 s, prospective research teams, and other experts to gather to discuss and h
 ighlight progress, opportunities, and challenges across the NNA initiative.
 \nThis meeting will host plenary presentations, discussion panels, workshop
  style events, and collaboratively developed training opportunities. Each d
 ay of the meeting will revolve around a distinct theme: strengthening equit
 y in research, identifying elements for convergence research, or building a
  foundation for action.\nFor more information and to register, go to:\n NNA
  Annual Community Meeting webpage (https://whova.com/web/nnaam_202111/)\n
X-ALT-DESC;FMTTYPE=text/html:<p style="text-align: justify;">Organizers announce the upcoming <strong>Na
 vigating the New Arctic (NNA) Annual Community Meeting</strong> for investi
 gators and partners. This meeting will take place <strong>online 8-10 Novem
 ber 2021</strong>.</p><p style="text-align: justify;">This meeting, held in
  cooperation between the NNA Community Office and the National Science Foun
 dation’s NNA Working Group, will provide an important opportunity for NNA p
 roject teams, Arctic community members, Indigenous and Traditional knowledg
 e holders, decision makers, prospective research teams, and other experts t
 o gather to discuss and highlight progress, opportunities, and challenges a
 cross the NNA initiative.</p><p style="text-align: justify;">This meeting w
 ill host plenary presentations, discussion panels, workshop style events, a
 nd collaboratively developed training opportunities. Each day of the meetin
 g will revolve around a distinct theme: strengthening equity in research, i
 dentifying elements for convergence research, or building a foundation for 
 action.</p><p style="text-align: justify;">For more information and to regi
 ster, go to:<br /> <a href="https://whova.com/web/nnaam_202111/" target="_b
 lank" rel="noopener">NNA Annual Community Meeting webpage</a></p>
DTSTAMP:20260420T034648Z
DTSTART;TZID=UTC;VALUE=DATE:20211108
DTEND;TZID=UTC;VALUE=DATE:20211111
SEQUENCE:0
TRANSP:OPAQUE
END:VEVENT
END:VCALENDAR