BEGIN:VCALENDAR
VERSION:2.0
PRODID:-//jEvents 2.0 for Joomla//EN
CALSCALE:GREGORIAN
METHOD:PUBLISH
BEGIN:VEVENT
UID:d2dfa74792e2a112c33dff1af0d2034a
CATEGORIES:Polar Online Events
CREATED:20211027T105842
SUMMARY:IACS open plenary meeting
LOCATION:Online
DESCRIPTION:The open planetary meeting of the International Association of Cryospheric 
 Sciences will be held online this year on 17 November, with the same progra
 mme running twice at 08:00-09:00 UTC and 16:00-17:00 UTC to accommodate dif
 ferent time zones. The agenda will include brief presentations of the activ
 ities of all IACS Working Groups (https://cryosphericsciences.org/activitie
 s/working-groups/), <a href="https://cryosphericsciences.org/organization/s
 tanding-groups/" target="_blank" rel="noopener">Standing Groups</a> and Joi
 nt Commissions (https://cryosphericsciences.org/organization/joint-commissi
 ons/).\n<a href="https://cryosphericsciences.org/iacs-plenary-2021/" target
 ="_blank" rel="noopener">To request a meeting link, please reply to the IAC
 S Secretary General</a>.\n
X-ALT-DESC;FMTTYPE=text/html:<p style="text-align: justify;">The open planetary meeting of the <strong>I
 nternational Association of Cryospheric Sciences</strong> will be held onli
 ne this year on 17 November, with the same programme running twice at 08:00
 -09:00 UTC and 16:00-17:00 UTC to accommodate different time zones. The age
 nda will include brief presentations of the activities of all <a href="http
 s://cryosphericsciences.org/activities/working-groups/" target="_blank" rel
 ="noopener">IACS Working Groups</a>, <a href="https://cryosphericsciences.o
 rg/organization/standing-groups/" target="_blank" rel="noopener">Standing G
 roups</a> and <a href="https://cryosphericsciences.org/organization/joint-c
 ommissions/" target="_blank" rel="noopener">Joint Commissions</a>.</p><p st
 yle="text-align: justify;"><a href="https://cryosphericsciences.org/iacs-pl
 enary-2021/" target="_blank" rel="noopener">To request a meeting link, plea
 se reply to the IACS Secretary General</a>.</p>
DTSTAMP:20260424T091830Z
DTSTART;TZID=UTC;VALUE=DATE:20211117
DTEND;TZID=UTC;VALUE=DATE:20211118
SEQUENCE:0
TRANSP:OPAQUE
END:VEVENT
END:VCALENDAR