BEGIN:VCALENDAR
VERSION:2.0
PRODID:-//jEvents 2.0 for Joomla//EN
CALSCALE:GREGORIAN
METHOD:PUBLISH
BEGIN:VEVENT
UID:c646df5b81dc30c2fcb2dfe53aec26bf
CATEGORIES:Polar Conferences, Meetings and Events
CREATED:20170104T203621
SUMMARY:IGS Kyoto 2017/18 symposium
LOCATION:Kyoto\, Japan
DESCRIPTION:The cryosphere is now acknowledged as a unique biome that, in spite of the 
 cold and harsh conditions, is inhabited by a diverse range of micro- and ma
 cro-organisms. The presence and activity of organisms within the cryosphere
  also demands attention from glaciologists with interests in the physical a
 nd chemical properties of snow or ice. This is because melting and the crys
 tallization of snow and ice are enhanced or even induced by the presence an
 d activity of organisms. This symposium will therefore provide an opportuni
 ty for glaciologists and biologists to meet and discuss the various phenome
 na associated with life in the cold.\n\nThe International Glaciological Soc
 iety will hold an International Symposium on ‘Cryosphere and Biosphere’ in 
 2018 (http://www.seppyo.org/~igs2018/). The symposium will be held at the h
 eart of Kyoto, former imperial capital of Japan, from 14–19 March 2018.\nPl
 ease go to <a href="https://www.igsoc.org/symposia/2018/kyoto/">https://www
 .igsoc.org/symposia/2018/kyoto/</a>  and register your interest to attend. 
 That way you will ensure you'll receive all communications relating to the 
 symposium.\nSecond circular (http://www.seppyo.org/~igs2018/pdf/kyoto2ndcir
 c_web.pdf)\n
X-ALT-DESC;FMTTYPE=text/html:<p>The cryosphere is now acknowledged as a unique biome that, in spite of t
 he cold and harsh conditions, is inhabited by a diverse range of micro- and
  macro-organisms. The presence and activity of organisms within the cryosph
 ere also demands attention from glaciologists with interests in the physica
 l and chemical properties of snow or ice. This is because melting and the c
 rystallization of snow and ice are enhanced or even induced by the presence
  and activity of organisms. This symposium will therefore provide an opport
 unity for glaciologists and biologists to meet and discuss the various phen
 omena associated with life in the cold.<br /><br />The International Glacio
 logical Society will hold an <a href="http://www.seppyo.org/~igs2018/" targ
 et="_blank" rel="noopener noreferrer"><strong>International Symposium on ‘C
 ryosphere and Biosphere’ in 2018</strong></a>. The symposium will be held a
 t the heart of Kyoto, former imperial capital of Japan, from 14–19 March 20
 18.</p><p>Please go to <a href="https://www.igsoc.org/symposia/2018/kyoto/"
 >https://www.igsoc.org/symposia/2018/kyoto/</a> &nbsp;and register your int
 erest to attend. That way you will ensure you'll receive all communications
  relating to the symposium.</p><p><a href="http://www.seppyo.org/~igs2018/p
 df/kyoto2ndcirc_web.pdf" target="_blank" rel="noopener noreferrer">Second c
 ircular</a></p>
DTSTAMP:20260422T031911Z
DTSTART;TZID=UTC;VALUE=DATE:20180314
DTEND;TZID=UTC;VALUE=DATE:20180320
SEQUENCE:0
TRANSP:OPAQUE
END:VEVENT
END:VCALENDAR