BEGIN:VCALENDAR
VERSION:2.0
PRODID:-//jEvents 2.0 for Joomla//EN
CALSCALE:GREGORIAN
METHOD:PUBLISH
BEGIN:VEVENT
UID:0bd7a49ac1620e84f863cab03ad98eb7
CATEGORIES:Field and Summer Schools
CREATED:20211019T141308
SUMMARY:7th EGU Snow Science Winter School 2022 - application deadline 12 November
LOCATION:Sodankylä\, Finland
DESCRIPTION:The 7th EGU Snow Science Winter School 2022 will take place from 13-19 Febr
 uary 2022 in Sodankylä, Finland, with the special topic "Snow and its spati
 al variability". Further information is available on the website (https://w
 ww.slf.ch/en/about-the-slf/events-and-courses/snow-science-winter-school.ht
 ml). Registration is a two-step process, the first deadline is November 12,
  2021. Due to different reasons, we can only accommodate 16 students, which
  will be selected for participation by a committee.  The organization commi
 tteeAnna Kontu and Juha Lemmetyinen (FMI), Neige Calonne and Marie Dumon (M
 eteo-France), Martin Schneebeli (WSL-SLF)
X-ALT-DESC;FMTTYPE=text/html:<div style="text-align: justify;"><strong>The 7th EGU Snow Science Winter S
 chool 2022 will take place from&nbsp;13-19 February 2022 in&nbsp;Sodankylä,
  Finland, with the special topic "Snow and its spatial variability"</strong
 >.</div><div style="text-align: justify;">&nbsp;</div><div style="text-alig
 n: justify;">Further information is available on the <a href="https://www.s
 lf.ch/en/about-the-slf/events-and-courses/snow-science-winter-school.html" 
 target="_blank" rel="noopener">website</a>. Registration is a two-step proc
 ess,<strong> the first deadline is November 12, 2021</strong>. Due to diffe
 rent reasons, we can only accommodate 16 students, which will be selected f
 or participation by a committee.&nbsp;</div><div style="text-align: justify
 ;">&nbsp;</div><div style="text-align: justify;">The organization committee
 </div><div style="text-align: justify;">Anna Kontu and Juha Lemmetyinen&nbs
 p;(FMI), Neige Calonne and Marie Dumon&nbsp;(Meteo-France), Martin Schneebe
 li (WSL-SLF)</div>
DTSTAMP:20260420T180825Z
DTSTART;TZID=UTC;VALUE=DATE:20220213
DTEND;TZID=UTC;VALUE=DATE:20220220
SEQUENCE:0
TRANSP:OPAQUE
END:VEVENT
END:VCALENDAR