BEGIN:VCALENDAR
VERSION:2.0
PRODID:-//jEvents 2.0 for Joomla//EN
CALSCALE:GREGORIAN
METHOD:PUBLISH
BEGIN:VEVENT
UID:170653103b6cf57e9a8b3e6943480ad7
CATEGORIES:Polar Online Events
CREATED:20211019T140826
SUMMARY:PYRN RCOP Student day
LOCATION:Online
DESCRIPTION:Are you a young researcher attending the RCOP/ICCRE 2021 conference? If so,
  join PYRN for our student day on Sunday, October 24 from 8:00 am to 12:15 
 pm (Fairbanks AK time). These few hours will be packed with networking oppo
 rtunities, lectures from esteemed professionals and a chance to have a disc
 ussion on work-life balance in academia. Click here to register (https://fo
 rms.gle/sFp4TFNmmcovPvR26), and a zoom link for attendance will be sent to 
 your email!\nIf you're planning to present a poster or an oral presentation
 , please feel free to consider entering our friendly competition for best p
 oster and oral presentation, the winner of each section is awarded $200 CAD
 , and runner up will be awarded $100 CAD. <a href="https://docs.google.com/
 forms/d/e/1FAIpQLSeN2fMpbVsIZ6cw5upQuNLZMX4y8p94uygSRFa3X0Ze9M__Bw/viewform
 " target="_blank" rel="noopener">Follow this link to register</a> and provi
 de the necessary information.\nIf you have any questions, please feel free 
 to reach out to us at PYRN and we will be happy to help, you can reach us a
 t  (mailto:contact@pyrn.org)This email address is being protected from spam
 bots. You need JavaScript enabled to view it.
				document.getElementById('
 cloak9467f76da4c1ea44da4de2fa863642cb').innerHTML = '';
				var prefix = '&
 #109;a' + 'i&#108;' + '&#116;o';
				var path = 'hr' + 'ef' + '=';
				var 
 addy9467f76da4c1ea44da4de2fa863642cb = 'c&#111;nt&#97;ct' + '&#64;';
				ad
 dy9467f76da4c1ea44da4de2fa863642cb = addy9467f76da4c1ea44da4de2fa863642cb +
  'pyrn' + '&#46;' + '&#111;rg';
				var addy_text9467f76da4c1ea44da4de2fa86
 3642cb = 'c&#111;nt&#97;ct' + '&#64;' + 'pyrn' + '&#46;' + '&#111;rg';docum
 ent.getElementById('cloak9467f76da4c1ea44da4de2fa863642cb').innerHTML += '<
 a ' + path + '\'' + prefix + ':' + addy9467f76da4c1ea44da4de2fa863642cb + '
 \'>'+addy_text9467f76da4c1ea44da4de2fa863642cb+'';
		.\nLooking forward to 
 seeing all of you at the RCOP/ICCRE conference at the end of the month!\nAd
 am Kirkwood, on behalf of the PYRN ExCom\n
X-ALT-DESC;FMTTYPE=text/html:<p style="text-align: justify;"><strong>Are you a young researcher attendin
 g the RCOP/ICCRE 2021 conference</strong>? If so, join <strong>PYRN</strong
 > for our student day on Sunday, <strong>October&nbsp;24 from 8:00 am to 12
 :15 pm (Fairbanks AK time)</strong>. These few hours will be packed with ne
 tworking opportunities, lectures from&nbsp;esteemed professionals and a cha
 nce to have a discussion on work-life balance in academia. <a href="https:/
 /forms.gle/sFp4TFNmmcovPvR26" target="_blank" rel="noopener">Click here to 
 register</a>, and a zoom link for attendance will be sent to your email!</p
 ><p style="text-align: justify;">If you're planning to present a poster or 
 an oral presentation, please feel free to consider entering our friendly co
 mpetition for best&nbsp;poster and oral presentation, the winner of each se
 ction is awarded $200 CAD, and runner up will be awarded $100 CAD. <a href=
 "https://docs.google.com/forms/d/e/1FAIpQLSeN2fMpbVsIZ6cw5upQuNLZMX4y8p94uy
 gSRFa3X0Ze9M__Bw/viewform" target="_blank" rel="noopener">Follow this link 
 to register</a> and provide the necessary information.</p><p style="text-al
 ign: justify;">If you have any questions, please feel free to reach out to 
 us at PYRN and we will be happy to help, you can reach us&nbsp;at <a href="
 mailto:contact@pyrn.org" target="_blank"></a><span id="cloak9467f76da4c1ea4
 4da4de2fa863642cb">This email address is being protected from spambots. You
  need JavaScript enabled to view it.</span><script type='text/javascript'>

 				document.getElementById('cloak9467f76da4c1ea44da4de2fa863642cb').innerH
 TML = '';
				var prefix = '&#109;a' + 'i&#108;' + '&#116;o';
				var path 
 = 'hr' + 'ef' + '=';
				var addy9467f76da4c1ea44da4de2fa863642cb = 'c&#111
 ;nt&#97;ct' + '&#64;';
				addy9467f76da4c1ea44da4de2fa863642cb = addy9467f
 76da4c1ea44da4de2fa863642cb + 'pyrn' + '&#46;' + '&#111;rg';
				var addy_t
 ext9467f76da4c1ea44da4de2fa863642cb = 'c&#111;nt&#97;ct' + '&#64;' + 'pyrn'
  + '&#46;' + '&#111;rg';document.getElementById('cloak9467f76da4c1ea44da4de
 2fa863642cb').innerHTML += '<a ' + path + '\'' + prefix + ':' + addy9467f76
 da4c1ea44da4de2fa863642cb + '\'>'+addy_text9467f76da4c1ea44da4de2fa863642cb
 +'<\/a>';
		</script>.</p><p style="text-align: justify;">Looking forward t
 o seeing all of you at the RCOP/ICCRE conference at the end of the month!</
 p><p style="text-align: justify;">Adam Kirkwood, on behalf of the PYRN ExCo
 m</p>
DTSTAMP:20260420T015153Z
DTSTART;TZID=UTC;VALUE=DATE:20211024
DTEND;TZID=UTC;VALUE=DATE:20211025
SEQUENCE:0
TRANSP:OPAQUE
END:VEVENT
END:VCALENDAR