BEGIN:VCALENDAR
VERSION:2.0
PRODID:-//jEvents 2.0 for Joomla//EN
CALSCALE:GREGORIAN
METHOD:PUBLISH
BEGIN:VEVENT
UID:29ccd9e5c39d7dc2c76b704e7510149e
CATEGORIES:Polar Conferences, Meetings and Events
CREATED:20211015T080538
SUMMARY:AAG 2022: Polar Geography Sessions - Call for papers (18 October)
LOCATION:NYC and Online
DESCRIPTION:CfP AAG 2022: Polar Geography Sessions\nNYC &amp; online (25 February - 1 M
 arch 2022)\nNorthern geographies: Arctic, high-latitude, and cold region re
 search and engagements\n\nThe Polar Geography Specialty Group seeks papers 
 from human and physical geographers examining Arctic, high-latitude, and co
 ld regions in order to reckon with the rapid and dramatic socioeconomic, ge
 ophysical, and environmental changes that the region is experiencing. We we
 lcome scholars employing qualitative and/or quantitative methods, such as e
 thnography, geovisualization, discourse analysis, and remote sensing. We al
 so seek papers across a range of scales, from specific case studies to more
  pan-regional approaches, and a range of temporalities, too. Sessions will 
 seek to synthesize research on historical processes in the Arctic and sub-A
 rctic to present dynamics in order to support efforts to project future cha
 nge. These sessions will speak to two of AAG 2022's themes, "The Changing N
 orth American Continent" and "Climate Justice."\nAcross these sessions, we 
 hope to encourage discussion and debate about how to work towards more just
  and sustainable northern communities from the local to international scale
 . We also aim to stimulate conversations about how to pursue more inclusive
  research designed and carried out in partnership with rightsholders and st
 akeholders in a manner that bridges Indigenous and Western ontologies and m
 ethodologies.\nWe welcome both in-person and virtual presentations. Please 
 submit your abstract (250 words or less) to Mia Bennett at  (mailto:miabenn
 @uw.edu)This email address is being protected from spambots. You need JavaS
 cript enabled to view it.
				document.getElementById('cloakd51e7344dd78e1a
 1619d06c40a84bb2d').innerHTML = '';
				var prefix = '&#109;a' + 'i&#108;' 
 + '&#116;o';
				var path = 'hr' + 'ef' + '=';
				var addyd51e7344dd78e1a1
 619d06c40a84bb2d = 'm&#105;&#97;b&#101;nn' + '&#64;';
				addyd51e7344dd78e
 1a1619d06c40a84bb2d = addyd51e7344dd78e1a1619d06c40a84bb2d + '&#117;w' + '&
 #46;' + '&#101;d&#117;';
				var addy_textd51e7344dd78e1a1619d06c40a84bb2d 
 = 'm&#105;&#97;b&#101;nn' + '&#64;' + '&#117;w' + '&#46;' + '&#101;d&#117;'
 ;document.getElementById('cloakd51e7344dd78e1a1619d06c40a84bb2d').innerHTML
  += '<a ' + path + '\'' + prefix + ':' + addyd51e7344dd78e1a1619d06c40a84bb
 2d + '\'>'+addy_textd51e7344dd78e1a1619d06c40a84bb2d+'';
		 by 18 October a
 t 11:59 PM ET. Accepted presenters will be notified before the AAG abstract
  submission deadline of 19 October. \nThere will also be an award for under
 graduate and graduate papers. Students must be a member and attending (eith
 er virtually or in-person) AAG 2022 to be eligible. More information regard
 ing the awards is forthcoming.\nPlease also stay tuned for information rega
 rding a social event at the AAG 2022.\n\nThe Polar Geography Specialty Grou
 p looks forward to seeing you online or in-person in New York next February
 !\n
X-ALT-DESC;FMTTYPE=text/html:<p style="text-align: justify;"><strong>CfP AAG 2022: Polar Geography Sessi
 ons</strong></p><p style="text-align: justify;"><strong>NYC &amp; online (2
 5 February - 1 March 2022)</strong></p><p style="text-align: justify;"><str
 ong>Northern geographies: Arctic, high-latitude, and cold region research a
 nd engagements<br /><br /></strong>The Polar Geography Specialty Group seek
 s papers from human and physical geographers examining Arctic, high-latitud
 e, and cold regions in order to reckon with the rapid and dramatic socioeco
 nomic, geophysical, and environmental changes that the region is experienci
 ng. We welcome scholars employing qualitative and/or quantitative methods, 
 such as ethnography, geovisualization, discourse analysis, and remote sensi
 ng. We also seek papers across a range of scales, from specific case studie
 s to more pan-regional approaches, and a range of temporalities, too. Sessi
 ons will seek to synthesize research on historical processes in the Arctic 
 and sub-Arctic to present dynamics in order to support efforts to project f
 uture change. These sessions will speak to two of AAG 2022's themes, "The C
 hanging North American Continent" and "Climate Justice."</p><p style="text-
 align: justify;">Across these sessions, we hope to encourage discussion and
  debate about how to work towards more just and sustainable northern commun
 ities from the local to international scale. We also aim to stimulate conve
 rsations about how to pursue more inclusive research designed and carried o
 ut in partnership with rightsholders and stakeholders in a manner that brid
 ges Indigenous and Western ontologies and methodologies.</p><p style="text-
 align: justify;">We welcome both in-person and virtual presentations. Pleas
 e submit your abstract (250 words or less) to Mia Bennett at&nbsp;<a href="
 mailto:miabenn@uw.edu" target="_blank"></a><span id="cloakd51e7344dd78e1a16
 19d06c40a84bb2d">This email address is being protected from spambots. You n
 eed JavaScript enabled to view it.</span><script type='text/javascript'>
		
 		document.getElementById('cloakd51e7344dd78e1a1619d06c40a84bb2d').innerHTM
 L = '';
				var prefix = '&#109;a' + 'i&#108;' + '&#116;o';
				var path = 
 'hr' + 'ef' + '=';
				var addyd51e7344dd78e1a1619d06c40a84bb2d = 'm&#105;&
 #97;b&#101;nn' + '&#64;';
				addyd51e7344dd78e1a1619d06c40a84bb2d = addyd5
 1e7344dd78e1a1619d06c40a84bb2d + '&#117;w' + '&#46;' + '&#101;d&#117;';
			
 	var addy_textd51e7344dd78e1a1619d06c40a84bb2d = 'm&#105;&#97;b&#101;nn' + 
 '&#64;' + '&#117;w' + '&#46;' + '&#101;d&#117;';document.getElementById('cl
 oakd51e7344dd78e1a1619d06c40a84bb2d').innerHTML += '<a ' + path + '\'' + pr
 efix + ':' + addyd51e7344dd78e1a1619d06c40a84bb2d + '\'>'+addy_textd51e7344
 dd78e1a1619d06c40a84bb2d+'<\/a>';
		</script>&nbsp;by&nbsp;<strong>18 Octob
 er</strong>&nbsp;at 11:59 PM ET. Accepted presenters will be notified befor
 e the AAG abstract submission deadline of 19 October.&nbsp;</p><p style="te
 xt-align: justify;">There will also be an&nbsp;<strong>award</strong>&nbsp;
 for undergraduate and graduate papers. Students must be a member and attend
 ing (either virtually or in-person) AAG 2022 to be eligible. More informati
 on regarding the awards is forthcoming.</p><p style="text-align: justify;">
 Please also stay tuned for information regarding a&nbsp;<strong>social even
 t&nbsp;</strong>at the AAG 2022.<br /><br />The Polar Geography Specialty G
 roup looks forward to seeing you online or in-person in New York next Febru
 ary!</p>
DTSTAMP:20260420T093621Z
DTSTART;TZID=UTC;VALUE=DATE:20220225
DTEND;TZID=UTC;VALUE=DATE:20220302
SEQUENCE:0
TRANSP:OPAQUE
END:VEVENT
END:VCALENDAR