BEGIN:VCALENDAR
VERSION:2.0
PRODID:-//jEvents 2.0 for Joomla//EN
CALSCALE:GREGORIAN
METHOD:PUBLISH
BEGIN:VEVENT
UID:379352d7c95d42b0ccfc865e4415750e
CATEGORIES:Polar Conferences, Meetings and Events
CREATED:20170104T203339
SUMMARY:Lower Yenisei Observation Network Workshop 2017
LOCATION:Russia
DESCRIPTION:<p style="text-align: justify;"><strong>A second edition of Lower Yenisei O
 bservation Network Workshop</strong> will take place in <strong>July–August
  2017</strong>, as convened last summer.</p><p style="text-align: justify;"
 >We are inviting you to participate in this amazing event, at once scientif
 ic and social, aboard a passenger cruise ship Aleksandr Matrosov, on its sc
 heduled passage from Krasnoyarsk to Igarka!<br />Climate change in the high
  latitudes is amplified, as compared to temperate regions. This makes Arcti
 c and Subarctic ecosystems a focal point for numerous research disciplines.
  The Yenisei is the largest Arctic river in terms of annual runoff, but it 
 remains the least studied catchment in this region. The aim of the LYON2 wo
 rkshop is to exchange our findings, share our knowledge and to federate our
  research efforts in the Yenisei basin. <br />The LYON2 registration form c
 an be filled via the following link: <a href="https://goo.gl/forms/0BKudLkq
 vvp21zQ72">https://goo.gl/forms/0BKudLkqvvp21zQ72</a> <br />Please note tha
 t a student summer school, « Arctic Hydrology and Freshwater Biogeochemistr
 y », will be organized ahead boat departure in Krasnoyarsk and within the L
 YON2 framework co–jointly by Siberian Federal University and Sergeev Instit
 ute of Environmental Geoscience, RAS.<br />First LYON2 circular (attached) 
 will provide you with further details.</p><p style="text-align: justify;"><
 strong>Registration form submission deadline: 28 February 2017.</strong></p
 ><p style="text-align: justify;">We will be grateful if you forward this me
 ssage to your colleagues who can find the scope of the workshop relevant to
  their research.</p>
DTSTAMP:20260424T065346Z
DTSTART;TZID=UTC;VALUE=DATE:20170701
DTEND;TZID=UTC;VALUE=DATE:20170802
SEQUENCE:0
TRANSP:OPAQUE
END:VEVENT
END:VCALENDAR