BEGIN:VCALENDAR
VERSION:2.0
PRODID:-//jEvents 2.0 for Joomla//EN
CALSCALE:GREGORIAN
METHOD:PUBLISH
BEGIN:VEVENT
UID:76e728e3b318ca9a2538c3df531f4678
CATEGORIES:Polar Conferences, Meetings and Events
CREATED:20211008T140355
SUMMARY:International Workshop on Antarctic RINGS (postponed)
LOCATION:Tromsø\, Norway
DESCRIPTION:***UPDATE***\nThe pandemic situation has been highly uncertain and the RING
 S Steering Committee considers that it is not fully societally responsible 
 to organize the workshop as originally planned under this circumstance. The
 refore, we decided to postpone the workshop to 27-30 June, 2022, and regist
 ration will be re-opened in March.\nFor a meanwhile, please refer the origi
 nal workshop announcement at:  (https://www.scar.org/scar-news/rings-news/r
 ings-workshop-2022/)<a href="https://www.scar.org/scar-news/rings-news/ring
 s-workshop-2022/" target="_blank" rel="noopener">https://www.scar.org/scar-
 news/rings-news/rings-workshop-2022/</a>\n \nSCAR Action Group RINGS (https
 ://www.scar.org/science/rings/about/) will organize a 4-day workshop from 9
 -12 March, 2022. The primary goal of this workshop is to generate synergies
  and international cooperation to develop more accurate and complete refere
 nce bed topography data for robust assessments of ice discharge from all ar
 ound Antarctica. The secondary goal is to discuss relevant science plans fo
 r the ice sheet’s marginal zone.\nWe welcome both Action Group members and 
 non-members from multiple disciplines related to RINGS. We uphold SCAR’s va
 lues of diversity and inclusion and strongly encourage Early Career Researc
 hers to attend the workshop. Full information about this workshop is availa
 ble <a href="https://www.scar.org/scar-news/rings-news/rings-workshop-2022/
 " target="_blank" rel="noopener">here</a>.\nTo register your interest, plea
 se visit the registration page (https://docs.google.com/forms/d/e/1FAIpQLSe
 iUEZE7459SDoNe9o7VDpRHFnrRQuay1JOF83l5RxNZQFeBQ/viewform).\nRegistration de
 adline is Monday, 7 November.\nRene, Fausto, Kirsty, Tom, Felicity, Cui, Ge
 ir, and Kenny\nSteering Committee, SCAR Action Group RINGS\n<a href="https:
 //www.scar.org/science/rings/about/" target="_blank" rel="noopener"></a>htt
 ps://www.scar.org/science/rings/about/\n
X-ALT-DESC;FMTTYPE=text/html:<p><strong>***UPDATE***</strong></p><p>The pandemic situation has been high
 ly uncertain and the RINGS Steering Committee considers that it is not full
 y societally responsible to organize the workshop as originally planned und
 er this circumstance. Therefore, <strong>we decided to postpone the worksho
 p to 27-30 June, 2022, and registration will be re-opened in March.</strong
 ></p><p>For a meanwhile, please refer the original workshop announcement at
 : <a href="https://www.scar.org/scar-news/rings-news/rings-workshop-2022/" 
 data-saferedirecturl="https://www.google.com/url?q=https://www.scar.org/sca
 r-news/rings-news/rings-workshop-2022/&amp;source=gmail&amp;ust=16418874888
 44000&amp;usg=AOvVaw3rfEIM2g5zNXydKJ6oWBmP"></a><a href="https://www.scar.o
 rg/scar-news/rings-news/rings-workshop-2022/" target="_blank" rel="noopener
 ">https://www.scar.org/scar-news/rings-news/rings-workshop-2022/</a></p><p>
 &nbsp;</p><p><a href="https://www.scar.org/science/rings/about/" target="_b
 lank" rel="noopener"><strong>SCAR Action Group RINGS</strong></a> will orga
 nize a 4-day workshop from <strong>9-12 March, 2022.</strong> The primary g
 oal of this workshop is to generate synergies and international cooperation
  to develop more accurate and complete reference bed topography data for ro
 bust assessments of ice discharge from all around Antarctica. The secondary
  goal is to discuss relevant science plans for the ice sheet’s marginal zon
 e.</p><p>We welcome both Action Group members and non-members from multiple
  disciplines related to RINGS. We uphold SCAR’s values of diversity and inc
 lusion and strongly encourage Early Career Researchers to attend the worksh
 op. Full information about this workshop is available <a href="https://www.
 scar.org/scar-news/rings-news/rings-workshop-2022/" target="_blank" rel="no
 opener">here</a>.</p><p>To register your interest, please visit the <a href
 ="https://docs.google.com/forms/d/e/1FAIpQLSeiUEZE7459SDoNe9o7VDpRHFnrRQuay
 1JOF83l5RxNZQFeBQ/viewform" target="_blank" rel="noopener">registration pag
 e</a>.</p><p><strong>Registration deadline is Monday, 7 November.</strong><
 /p><p><span lang="EN-US">Rene, Fausto, Kirsty, Tom, Felicity, Cui, Geir, an
 d Kenny</span><br />Steering Committee, SCAR Action Group RINGS</p><p><a hr
 ef="https://www.scar.org/science/rings/about/" target="_blank" rel="noopene
 r"></a><a href="https://www.scar.org/science/rings/about/">https://www.scar
 .org/science/rings/about/</a></p>
DTSTAMP:20260420T093908Z
DTSTART;TZID=UTC;VALUE=DATE:20220309
DTEND;TZID=UTC;VALUE=DATE:20220313
SEQUENCE:0
TRANSP:OPAQUE
END:VEVENT
END:VCALENDAR