BEGIN:VCALENDAR
VERSION:2.0
PRODID:-//jEvents 2.0 for Joomla//EN
CALSCALE:GREGORIAN
METHOD:PUBLISH
BEGIN:VEVENT
UID:c2f1e216bad7e9bacd92e938290b8d00
CATEGORIES:Polar Conferences, Meetings and Events
CREATED:20211008T074602
SUMMARY:WAIS Workshop 2022
LOCATION:Estes Park\, CO USA
DESCRIPTION:The WAIS Workshop Organizing Committee is pleased to announce that the 2022
  edition of the West Antarctic Ice Sheet Workshop will take place September
  26–29, 2022, in Estes Park, CO USA.\nSponsored by the NSF and NASA, the wo
 rkshop focuses on marine ice-sheet and adjacent earth systems, with particu
 lar emphasis on the West Antarctic Ice Sheet. We also wanted to let you all
  know that recordings from the 2021 WAIS Workshop are now available on YouT
 ube (https://www.youtube.com/playlist?list=PLaPrVYyxSZsjPuV_fvrwO91tLPgyVlm
 Fe). Our <a href="https://drive.google.com/file/d/1j5iYa1y7xjXFrJtTb25M57p3
 wJPrAVbK/view" target="_blank" rel="noopener">2021 workshop booklet</a> has
  direct links to view the recording of any specific talk. As a reminder, yo
 u can also view talks from 2019 (agenda (https://drive.google.com/file/d/1k
 iiBI1xf0u8rYmqsSUz8-rz9DjrmmSDD/view), <a href="https://www.youtube.com/pla
 ylist?list=PLaPrVYyxSZsiAUQZi-KAtp4YOfcEMdGpO" target="_blank" rel="noopene
 r">YouTube playlist</a>) and 2020 (agenda (https://drive.google.com/file/d/
 1fVMW2ERvzrB1mbirczQjUcyJaHcqNAe4/view), <a href="https://www.youtube.com/p
 laylist?list=PLaPrVYyxSZsiGQ-2avZCBFtBTJFY78Kix" target="_blank" rel="noope
 ner">YouTube playlist</a>).\n \n To stay up-to-date on all things WAIS Work
 shop, sign up for our email distribution list .\n \n Best,\n \n The WAIS Wo
 rkshop Organizing Committee\n
X-ALT-DESC;FMTTYPE=text/html:<p style="text-align: justify;">The <strong>WAIS Workshop Organizing Commit
 tee</strong> is pleased to announce that the <strong>2022 edition of the We
 st Antarctic Ice Sheet Workshop will take place September 26–29, 2022, in E
 stes Park, CO USA</strong>.</p><p style="text-align: justify;">Sponsored by
  the <strong>NSF</strong> and <strong>NASA</strong>, the workshop focuses o
 n marine ice-sheet and adjacent earth systems, with particular emphasis on 
 the West Antarctic Ice Sheet.&nbsp;We also wanted to let you all know that 
 recordings from the 2021 WAIS Workshop are now <a href="https://www.youtube
 .com/playlist?list=PLaPrVYyxSZsjPuV_fvrwO91tLPgyVlmFe" target="_blank" rel=
 "noopener">available on YouTube</a>. Our <a href="https://drive.google.com/
 file/d/1j5iYa1y7xjXFrJtTb25M57p3wJPrAVbK/view" target="_blank" rel="noopene
 r">2021 workshop booklet</a>&nbsp;has direct links to view the recording of
  any specific talk. As a reminder, you can also view talks from 2019 (<a hr
 ef="https://drive.google.com/file/d/1kiiBI1xf0u8rYmqsSUz8-rz9DjrmmSDD/view"
  target="_blank" rel="noopener">agenda</a>, <a href="https://www.youtube.co
 m/playlist?list=PLaPrVYyxSZsiAUQZi-KAtp4YOfcEMdGpO" target="_blank" rel="no
 opener">YouTube playlist</a>) and 2020 (<a href="https://drive.google.com/f
 ile/d/1fVMW2ERvzrB1mbirczQjUcyJaHcqNAe4/view" target="_blank" rel="noopener
 ">agenda</a>, <a href="https://www.youtube.com/playlist?list=PLaPrVYyxSZsiG
 Q-2avZCBFtBTJFY78Kix" target="_blank" rel="noopener">YouTube playlist</a>).
 <br /> <br /> To stay up-to-date on all things WAIS Workshop, sign up for o
 ur email distribution list <a href="https://waisworkshop.us5.list-manage.co
 m/subscribe?u=899f758df5f1161ee9a993d3e&amp;id=489522cb53" target="_blank" 
 rel="noopener">here</a>.<br /> <br /> Best,<br /> <br /> The WAIS Workshop 
 Organizing Committee</p>
DTSTAMP:20260421T171441Z
DTSTART;TZID=UTC;VALUE=DATE:20220926
DTEND;TZID=UTC;VALUE=DATE:20220930
SEQUENCE:0
TRANSP:OPAQUE
END:VEVENT
END:VCALENDAR