BEGIN:VCALENDAR
VERSION:2.0
PRODID:-//jEvents 2.0 for Joomla//EN
CALSCALE:GREGORIAN
METHOD:PUBLISH
BEGIN:VEVENT
UID:4885dab25c4994ead455d8528397e4cd
CATEGORIES:Polar Online Events
CREATED:20211005T095027
SUMMARY:SIPN2 Webinar: 2021 Sea Ice Outlook Post-Season Review
LOCATION:Online
DESCRIPTION:The Sea Ice Prediction Network-Phase 2 (SIPN2 (https://www.arcus.org/sipn))
  announces a call for registration for the upcoming webinar and discussion:
  "2021 Sea Ice Outlook Post-Season Review". This event will be held on Mond
 ay, 11 October 2021. Starting time for the 90-minute webinar is: 9:00 a.m. 
 (AKDT), 10:00 a.m. (PDT), 11:00 a.m. (MDT) 12:00 p.m. (CDT), 1:00 p.m. (EDT
 ), 5:00 p.m. (UTC), and 7:00 pm (CET).\n<a href="https://www.arcus.org/sipn
 /meetings/webinars/register" target="_blank" rel="noopener">Please Register
  Here</a>\nThis webinar will provide a post-season review of the 2021 Sea I
 ce Outlook (SIO (https://www.arcus.org/sipn/sea-ice-outlook)) with three 10
 -minute presentations from members of <a href="https://www.arcus.org/sipn/p
 roject-team" target="_blank" rel="noopener">SIPN2 Project Team</a> includin
 g:\n\n - An overview of observed conditions during the 2021 Arctic sea-ice 
 retreat season, by Walt Meier (https://nsidc.org/research/bios/meier.html);
 \n - A summary of how the sea-ice extent predictions contributed to the SIO
  performed in comparison to the observed September monthly mean extent, by 
 <a href="https://atmos.washington.edu/~ed/" target="_blank" rel="noopener">
 Edward Blanchard-Wrigglesworth</a>; and\n - An overview of lessons learned 
 from the SIPN2 project, by Uma Bhatt (http://ffden-2.phys.uaf.edu/usbhatt/)
 .Twenty minutes for open discussion will follow each of the three presentat
 ions.\nThis webinar is designed for the sea-ice research community and othe
 rs interested in information about sea-ice forecasting. While this is an op
 en event, attendees should be aware that the discussions will largely be of
  a technical nature.\n<a href="https://www.arcus.org/sipn/meetings/webinars
 /october-2021" target="_blank" rel="noopener">Further Information</a>\nThe 
 webinar will be archived and available online after the event.\n \n
X-ALT-DESC;FMTTYPE=text/html:<p style="text-align: justify;">The Sea Ice Prediction Network-Phase 2 (<a 
 href="https://www.arcus.org/sipn" target="_blank" rel="noopener">SIPN2</a>)
  announces a call for registration for the upcoming webinar and discussion:
  <strong>"2021 Sea Ice Outlook Post-Season Review". </strong>This event wil
 l be held on <strong>Monday, 11 October 2021</strong>. Starting time for th
 e 90-minute webinar is: 9:00 a.m. (AKDT), 10:00 a.m. (PDT), 11:00 a.m. (MDT
 ) 12:00 p.m. (CDT), 1:00 p.m. (EDT), 5:00 p.m. (UTC), and 7:00 pm (CET).</p
 ><p style="text-align: justify;"><a href="https://www.arcus.org/sipn/meetin
 gs/webinars/register" target="_blank" rel="noopener">Please Register Here</
 a></p><p style="text-align: justify;">This webinar will provide a post-seas
 on review of the 2021 Sea Ice Outlook (<a href="https://www.arcus.org/sipn/
 sea-ice-outlook" target="_blank" rel="noopener">SIO</a>) with three 10-minu
 te presentations from members of <a href="https://www.arcus.org/sipn/projec
 t-team" target="_blank" rel="noopener">SIPN2 Project Team</a> including:</p
 ><ul style="text-align: justify;"><li>An overview of observed conditions du
 ring the 2021 Arctic sea-ice retreat season, by <a href="https://nsidc.org/
 research/bios/meier.html" target="_blank" rel="noopener">Walt Meier</a>;</l
 i><li>A summary of how the sea-ice extent predictions contributed to the SI
 O performed in comparison to the observed September monthly mean extent, by
  <a href="https://atmos.washington.edu/~ed/" target="_blank" rel="noopener"
 >Edward Blanchard-Wrigglesworth</a>; and</li><li>An overview of lessons lea
 rned from the SIPN2 project, by <a href="http://ffden-2.phys.uaf.edu/usbhat
 t/" target="_blank" rel="noopener">Uma Bhatt</a>.</li></ul><p style="text-a
 lign: justify;">Twenty minutes for open discussion will follow each of the 
 three presentations.</p><p style="text-align: justify;">This webinar is des
 igned for the sea-ice research community and others interested in informati
 on about sea-ice forecasting. While this is an open event, attendees should
  be aware that the discussions will largely be of a technical nature.</p><p
  style="text-align: justify;"><a href="https://www.arcus.org/sipn/meetings/
 webinars/october-2021" target="_blank" rel="noopener">Further Information</
 a></p><p style="text-align: justify;">The webinar will be archived and avai
 lable online after the event.</p><p>&nbsp;</p>
DTSTAMP:20260420T015240Z
DTSTART;TZID=UTC;VALUE=DATE:20211011
DTEND;TZID=UTC;VALUE=DATE:20211012
SEQUENCE:0
TRANSP:OPAQUE
END:VEVENT
END:VCALENDAR