BEGIN:VCALENDAR
VERSION:2.0
PRODID:-//jEvents 2.0 for Joomla//EN
CALSCALE:GREGORIAN
METHOD:PUBLISH
BEGIN:VEVENT
UID:e8a4b824f46e2d2d356a273ad142759c
CATEGORIES:Polar Online Events
CREATED:20211005T094324
SUMMARY: Call for Registration: ARCUS Webinar with Dr. Kirsi Latola, UArctic’s Vice-President of Networks
LOCATION:Online
DESCRIPTION:Call for Registration - ARCUS WebinarArctic Research Consortium of the U.S.
  (ARCUS)  Date/Time: Tuesday, 19 October 2021, 9:00 a.m. AKDT (1:00 p.m. ED
 T/5:00 p.m. GMT).Speaker: Dr. Kirsi Latola (UArctic)Presentation Title: UAr
 ctic Thematic Networks: A Tool for Joint Research and Education To register
  for the event, go to: https://www.arcus.org/research-seminar-series Please
  join the Arctic Research Consortium of the U.S. (ARCUS) for an upcoming we
 binar with Dr. Kirsi Latola, UArctic’s Vice-President of Networks, titled U
 Arctic Thematic Networks: A Tool for Joint Research and Education.  The web
 inar will be held via Zoom on Tuesday, 19 October 2021 at 9:00 a.m. AKDT (1
 :00 p.m. EDT/5:00 p.m. GMT). Seminar Abstract: The University of the Arctic
  (UArctic) is a network of 230 universities, colleges, research institutes,
  and other organizations concerned with education and research in and about
  the North. UArctic builds and strengthens collective resources and infrast
 ructures that enable member institutions to better serve their constituents
  and their regions. The tools for joint research and research-based educati
 on are Thematic Networks. Thematic networks are theme-based international a
 nd diverse groups of individuals and organizations who create opportunities
  for students, conduct joint research, and share knowledge on topical Arcti
 c issues. In this presentation, Dr. Latola will talk about UArctic’s Themat
 ic Networks, how they are endorsed, how they function, and the different pa
 thways that individual researchers and institutions can take to participate
  in them. She will show examples of Thematic Network joint activities, and 
 will also briefly share news on the next UArctic Congress 2022, which will 
 be held in Moscow in October 2022. Instructions for accessing the webinar w
 ill be sent to registrants prior to the event. To register for the event, g
 o to: <a href="https://www.arcus.org/research-seminar-series" target="_blan
 k" rel="noopener">https://www.arcus.org/research-seminar-series</a>For ques
 tions, contact:\nBrit Myers\nEmail: This email address is being protected f
 rom spambots. You need JavaScript enabled to view it.
				document.getEleme
 ntById('cloak81b60deaa092df9b2b25f0979b58a5bc').innerHTML = '';
				var pre
 fix = '&#109;a' + 'i&#108;' + '&#116;o';
				var path = 'hr' + 'ef' + '=';

 				var addy81b60deaa092df9b2b25f0979b58a5bc = 'br&#105;t' + '&#64;';
				a
 ddy81b60deaa092df9b2b25f0979b58a5bc = addy81b60deaa092df9b2b25f0979b58a5bc 
 + '&#97;rc&#117;s' + '&#46;' + '&#111;rg';
				var addy_text81b60deaa092df9
 b2b25f0979b58a5bc = 'br&#105;t[&#97;t]&#97;rc&#117;s.&#111;rg';document.get
 ElementById('cloak81b60deaa092df9b2b25f0979b58a5bc').innerHTML += '<a ' + p
 ath + '\'' + prefix + ':' + addy81b60deaa092df9b2b25f0979b58a5bc + '\'>'+ad
 dy_text81b60deaa092df9b2b25f0979b58a5bc+'';
		 
X-ALT-DESC;FMTTYPE=text/html:<div style="text-align: justify;"><strong>Call for Registration - ARCUS Web
 inar</strong></div><div style="text-align: justify;">Arctic Research Consor
 tium of the U.S. (ARCUS)&nbsp;</div><div style="text-align: justify;">&nbsp
 ;</div><div style="text-align: justify;"><strong>Date/Time:&nbsp;</strong>T
 uesday, 19 October 2021, 9:00 a.m. AKDT (1:00 p.m. EDT/5:00 p.m. GMT).</div
 ><div style="text-align: justify;"><strong>Speaker:</strong>&nbsp;Dr. Kirsi
  Latola (UArctic)</div><div style="text-align: justify;"><strong>Presentati
 on Title:</strong>&nbsp;<em>UArctic Thematic Networks: A Tool for Joint Res
 earch and Education</em></div><div style="text-align: justify;">&nbsp;</div
 ><div style="text-align: justify;">To register for the event, go to: <a hre
 f="https://www.arcus.org/research-seminar-series" target="_blank" rel="noop
 ener">https://www.arcus.org/research-seminar-series</a></div><div style="te
 xt-align: justify;">&nbsp;</div><div style="text-align: justify;">Please jo
 in the Arctic Research Consortium of the U.S. (ARCUS) for an upcoming webin
 ar with Dr. Kirsi Latola, UArctic’s Vice-President of Networks, titled&nbsp
 ;<em>UArctic Thematic Networks: A Tool for Joint Research and Education</em
 >.&nbsp;&nbsp;The webinar will be held via Zoom on Tuesday, 19 October 2021
  at 9:00 a.m. AKDT (1:00 p.m. EDT/5:00 p.m. GMT).</div><div style="text-ali
 gn: justify;">&nbsp;</div><div style="text-align: justify;"><strong>Seminar
  Abstract:&nbsp;</strong></div><div style="text-align: justify;">The Univer
 sity of the Arctic (UArctic) is a network of 230 universities, colleges, re
 search institutes, and other organizations concerned with education and res
 earch in and about the North. UArctic builds and strengthens collective res
 ources and infrastructures that enable member institutions to better serve 
 their constituents and their regions. The tools for joint research and rese
 arch-based education are Thematic Networks. Thematic networks are theme-bas
 ed international and diverse groups of individuals and organizations who cr
 eate opportunities for students, conduct joint research, and share knowledg
 e on topical Arctic issues.</div><div style="text-align: justify;">&nbsp;</
 div><div style="text-align: justify;">In this presentation, Dr. Latola will
  talk about UArctic’s Thematic Networks, how they are endorsed, how they fu
 nction, and the different pathways that individual&nbsp;researchers and ins
 titutions can take to participate in them. She will show examples of Themat
 ic Network joint activities, and will also briefly share news on the next U
 Arctic Congress 2022, which will be held in Moscow in October 2022.</div><d
 iv style="text-align: justify;">&nbsp;</div><div style="text-align: justify
 ;">Instructions for accessing the webinar will be sent to registrants prior
  to the event.</div><div style="text-align: justify;">&nbsp;</div><div styl
 e="text-align: justify;">To register for the event, go to: <a href="https:/
 /www.arcus.org/research-seminar-series" target="_blank" rel="noopener">http
 s://www.arcus.org/research-seminar-series</a></div><div style="text-align: 
 justify;">For questions, contact:<br />Brit Myers<br />Email:&nbsp;<span id
 ="cloak81b60deaa092df9b2b25f0979b58a5bc">This email address is being protec
 ted from spambots. You need JavaScript enabled to view it.</span><script ty
 pe='text/javascript'>
				document.getElementById('cloak81b60deaa092df9b2b2
 5f0979b58a5bc').innerHTML = '';
				var prefix = '&#109;a' + 'i&#108;' + '&
 #116;o';
				var path = 'hr' + 'ef' + '=';
				var addy81b60deaa092df9b2b25
 f0979b58a5bc = 'br&#105;t' + '&#64;';
				addy81b60deaa092df9b2b25f0979b58a
 5bc = addy81b60deaa092df9b2b25f0979b58a5bc + '&#97;rc&#117;s' + '&#46;' + '
 &#111;rg';
				var addy_text81b60deaa092df9b2b25f0979b58a5bc = 'br&#105;t[&
 #97;t]&#97;rc&#117;s.&#111;rg';document.getElementById('cloak81b60deaa092df
 9b2b25f0979b58a5bc').innerHTML += '<a ' + path + '\'' + prefix + ':' + addy
 81b60deaa092df9b2b25f0979b58a5bc + '\'>'+addy_text81b60deaa092df9b2b25f0979
 b58a5bc+'<\/a>';
		</script>&nbsp;</div>
DTSTAMP:20260420T015154Z
DTSTART;TZID=UTC;VALUE=DATE:20211019
DTEND;TZID=UTC;VALUE=DATE:20211020
SEQUENCE:0
TRANSP:OPAQUE
END:VEVENT
END:VCALENDAR