BEGIN:VCALENDAR
VERSION:2.0
PRODID:-//jEvents 2.0 for Joomla//EN
CALSCALE:GREGORIAN
METHOD:PUBLISH
BEGIN:VEVENT
UID:d1db88a23a1a7cf1d04601eb94c04c64
CATEGORIES:Polar Conferences, Meetings and Events
CREATED:20211005T093946
SUMMARY:Arctic Days in St. Petersburg - 2021: International Scientific Cooperation in the Arctic in the era of Climate Change
LOCATION:St. Petersburg\, Russia
DESCRIPTION:<p style="text-align: justify;">Russian State Hydrometeorological Universit
 y together with the Moscow State Institute of International Relations (Univ
 ersity) of the Ministry of Foreign Affairs of the Russian Federation invite
 &nbsp;you&nbsp;to participate in the International Scientific and Practical
  Conference "<strong>ARCTIC DAYS IN ST. PETERSBURG - 2021: INTERNATIONAL SC
 IENTIFIC COOPERATION IN THE ARCTIC IN THE ERA OF CLIMATE CHANGE</strong>" t
 hrough the Russian-French Civil Society Forum "TriDialogue," <strong>Novemb
 er 25 - 26, 2021</strong> in St. Petersburg, Russia.</p><p style="text-alig
 n: justify;">The purpose of the Conference is to form an international&nbsp
 ;interdisciplinary platform for discussing topical issues of climate change
  and assessing their impact on further&nbsp;socio-economic development and 
 international cooperation in the Arctic. Special attention will be paying t
 o find the ways to&nbsp;implement an environmentally sustainable model of d
 evelopment of the region.&nbsp;The conference will be attended by leading s
 cientists from&nbsp;Russia, France, Norway, Finland and other countries, th
 e representatives of the Trianon Dialogue, leaders of organizations of Indi
 genous peoples of the North, representatives of the diplomatic corps and re
 levant state authorities, as well as&nbsp;&nbsp;professional associations t
 hat are engaged in research in the Arctic region and are focused on the dev
 elopment of economic and scientific cooperation in the Arctic.<br /> <br />
  <br /> We offer the following sessions:<br /> <br /> <strong>1.&nbsp;Clima
 te change and sustainable development in the Arctic<br /> &nbsp;&nbsp;&nbsp
 ;&nbsp;region</strong><br /> (November 26, 2021, 10:00 - 13:00 Moscow Stand
 ard Time&nbsp;(MSK), UTC +3)<br /> <br /> <strong>2.&nbsp;Changing the gas 
 and aerosol composition of the Arctic<br /> &nbsp;&nbsp;&nbsp;&nbsp;atmosph
 ere in a changing climate</strong><br /> (November 26, 2021, 10:00 -&nbsp;1
 3:00 Moscow Standard Time (MSK), UTC +3)<br /> <br /> <strong>3.&nbsp;Ecosy
 stems of the Arctic region in the face of global change</strong><br /> &nbs
 p;(November 26, 2021, 14:00 - 17:00 Moscow Standard Time (MSK), UTC&nbsp;+3
 )<br /> <br /> <strong>4.&nbsp;Socio-economic aspects of Arctic development
 </strong><br /> (November 26,&nbsp;2021, 14:00 - 17:00 Moscow Standard Time
  (MSK), UTC +3)<br /> <br /> Deadline for abstract submission:<strong>&nbsp
 ;November&nbsp;7, 2021</strong><br /> Please send your abstract to&nbsp;<st
 rong><span id="cloakd0db5da63387c6ca4419e7abd7dc46a6">This email address is
  being protected from spambots. You need JavaScript enabled to view it.</sp
 an><script type='text/javascript'>
				document.getElementById('cloakd0db5d
 a63387c6ca4419e7abd7dc46a6').innerHTML = '';
				var prefix = '&#109;a' + '
 i&#108;' + '&#116;o';
				var path = 'hr' + 'ef' + '=';
				var addyd0db5da
 63387c6ca4419e7abd7dc46a6 = '&#97;rct&#105;cd&#97;ys2021' + '&#64;';
				ad
 dyd0db5da63387c6ca4419e7abd7dc46a6 = addyd0db5da63387c6ca4419e7abd7dc46a6 +
  'rsh&#117;' + '&#46;' + 'r&#117;';
				var addy_textd0db5da63387c6ca4419e7
 abd7dc46a6 = '&#97;rct&#105;cd&#97;ys2021' + '&#64;' + 'rsh&#117;' + '&#46;
 ' + 'r&#117;';document.getElementById('cloakd0db5da63387c6ca4419e7abd7dc46a
 6').innerHTML += '<a ' + path + '\'' + prefix + ':' + addyd0db5da63387c6ca4
 419e7abd7dc46a6 + '\'>'+addy_textd0db5da63387c6ca4419e7abd7dc46a6+'<\/a>';

 		</script></strong><br /> <br /><strong>Questions</strong> regarding the p
 articipation and materials presentation can be sent to the executive secret
 ary, E.V. Platonova:&nbsp;<span style="text-decoration: underline;"><span i
 d="cloakde65d19080d468a71be4c5aca5b47e8f">This email address is being prote
 cted from spambots. You need JavaScript enabled to view it.</span><script t
 ype='text/javascript'>
				document.getElementById('cloakde65d19080d468a71b
 e4c5aca5b47e8f').innerHTML = '';
				var prefix = '&#109;a' + 'i&#108;' + '
 &#116;o';
				var path = 'hr' + 'ef' + '=';
				var addyde65d19080d468a71be
 4c5aca5b47e8f = 'pl&#97;t&#111;n&#111;v&#97;' + '&#64;';
				addyde65d19080
 d468a71be4c5aca5b47e8f = addyde65d19080d468a71be4c5aca5b47e8f + 'rsh&#117;'
  + '&#46;' + 'r&#117;';
				var addy_textde65d19080d468a71be4c5aca5b47e8f =
  'pl&#97;t&#111;n&#111;v&#97;' + '&#64;' + 'rsh&#117;' + '&#46;' + 'r&#117;
 ';document.getElementById('cloakde65d19080d468a71be4c5aca5b47e8f').innerHTM
 L += '<a ' + path + '\'' + prefix + ':' + addyde65d19080d468a71be4c5aca5b47
 e8f + '\'>'+addy_textde65d19080d468a71be4c5aca5b47e8f+'<\/a>';
		</script><
 /span></p><p style="text-align: justify;"><strong>Please see more details</
 strong> <strong>here:</strong> <a href="http://www.rshu.ru/university/scien
 ce/konf_arctic2021/info_letter_eng_2.pdf" target="_blank" rel="noopener">ht
 tp://www.rshu.ru/university/science/konf_arctic2021/info_letter_eng_2.pdf</
 a></p>
DTSTAMP:20260420T052950Z
DTSTART;TZID=UTC;VALUE=DATE:20211125
DTEND;TZID=UTC;VALUE=DATE:20211127
SEQUENCE:0
TRANSP:OPAQUE
END:VEVENT
END:VCALENDAR