BEGIN:VCALENDAR
VERSION:2.0
PRODID:-//jEvents 2.0 for Joomla//EN
CALSCALE:GREGORIAN
METHOD:PUBLISH
BEGIN:VEVENT
UID:05c36c9145d809f4524741aa1336615b
CATEGORIES:Polar Conferences, Meetings and Events
CREATED:20211001T121928
SUMMARY:17th AMS Conference on Polar Meteorology and Oceanography - Call for Papers
LOCATION:Madison\, Wisconsin
DESCRIPTION:The 17th Conference on Polar Meteorology and Oceanography, sponsored by the
  American Meteorological Society and organized by the AMS Polar Meteorology
  and Oceanography Committee, will be held at the Monona Terrace in Madison,
  WI, August 8-12, 2022.  The conference will be held jointly with the AMS 2
 5th Conference on Satellite Meteorology, and the AMS 16 the Conference on C
 loud Physics/16th Conference on Atmospheric Radiation as part of the Collec
 tive Madison Meeting.\n \nPapers are solicited for sessions that cover a wi
 de range of topics on polar meteorology and oceanography. A list and detail
 ed description of sessions can be found at the following abstract submissio
 n link for the 17th Conference on Polar Meteorology and Oceanography ( (htt
 ps://ams.confex.com/ams/CMM2022/oasys.epl)<a href="https://ams.confex.com/a
 ms/CMM2022/oasys.epl" target="_blank" rel="noopener">https://ams.confex.com
 /ams/CMM2022/oasys.epl</a>). \nPlease submit your abstract electronically v
 ia the AMS conference website by 14 April 2022 (see the website for instruc
 tions). The abstract submission fee of $95 USD is charged at the time of su
 bmission and refundable only if the abstract is not accepted. Authors of ac
 cepted presentations will be notified via email by mid-May 2022.\n \nWhile 
 we are aware there is continued uncertainty associated with the COVID-19 pa
 ndemic, at this time we believe this conference will take place entirely in
 -person. Specific details regarding the conference program and format will 
 be posted by AMS as soon as they are available. We encourage all presenters
  and attendees to visit the meeting website often to stay up to date on the
  latest news.\n \nSubmissions by students, early-career scientists, and und
 errepresented groups will be prioritized, and limited funds in the form of 
 registration fee waivers or travel grants are available to support particip
 ation and further details will be available when abstract acceptance notifi
 cations are sent.\n \nFor further program information please contact the pr
 ogram chair, Alice DuVivier, National Center for Atmospheric Research (emai
 l: This email address is being protected from spambots. You need JavaScript
  enabled to view it.
				document.getElementById('cloak22e6fa7e3d160a19f02d
 d5d23e8a54b9').innerHTML = '';
				var prefix = '&#109;a' + 'i&#108;' + '&#
 116;o';
				var path = 'hr' + 'ef' + '=';
				var addy22e6fa7e3d160a19f02dd
 5d23e8a54b9 = 'd&#117;v&#105;v&#105;&#101;r' + '&#64;';
				addy22e6fa7e3d1
 60a19f02dd5d23e8a54b9 = addy22e6fa7e3d160a19f02dd5d23e8a54b9 + '&#117;c&#97
 ;r' + '&#46;' + '&#101;d&#117;';
				var addy_text22e6fa7e3d160a19f02dd5d23
 e8a54b9 = 'd&#117;v&#105;v&#105;&#101;r[&#97;t]&#117;c&#97;r.&#101;d&#117;'
 ;document.getElementById('cloak22e6fa7e3d160a19f02dd5d23e8a54b9').innerHTML
  += '<a ' + path + '\'' + prefix + ':' + addy22e6fa7e3d160a19f02dd5d23e8a54
 b9 + '\'>'+addy_text22e6fa7e3d160a19f02dd5d23e8a54b9+'';
		) or co-chair, T
 ristan L’Ecuyer, University of Wisconsin-Madison (email: This email address
  is being protected from spambots. You need JavaScript enabled to view it.

 				document.getElementById('cloakde256067b9016dadbd55cbe45ef62738').innerH
 TML = '';
				var prefix = '&#109;a' + 'i&#108;' + '&#116;o';
				var path 
 = 'hr' + 'ef' + '=';
				var addyde256067b9016dadbd55cbe45ef62738 = 'tl&#10
 1;c&#117;y&#101;r' + '&#64;';
				addyde256067b9016dadbd55cbe45ef62738 = ad
 dyde256067b9016dadbd55cbe45ef62738 + 'w&#105;sc' + '&#46;' + '&#101;d&#117;
 ';
				var addy_textde256067b9016dadbd55cbe45ef62738 = 'tl&#101;c&#117;y&#1
 01;r[&#97;t]w&#105;sc.&#101;d&#117;';document.getElementById('cloakde256067
 b9016dadbd55cbe45ef62738').innerHTML += '<a ' + path + '\'' + prefix + ':' 
 + addyde256067b9016dadbd55cbe45ef62738 + '\'>'+addy_textde256067b9016dadbd5
 5cbe45ef62738+'';
		).
X-ALT-DESC;FMTTYPE=text/html:<div dir="ltr">The 17th Conference on Polar Meteorology and Oceanography, s
 ponsored by the American Meteorological Society and organized by the AMS Po
 lar Meteorology and Oceanography Committee, will be held at the Monona Terr
 ace in Madison, WI, August 8-12, 2022.&nbsp; The conference will be held jo
 intly with the AMS 25th Conference on Satellite Meteorology, and the AMS 16
  the Conference on Cloud Physics/16th Conference on Atmospheric Radiation a
 s part of the Collective Madison Meeting.<br />&nbsp;<br />Papers are solic
 ited for sessions that cover a wide range of topics on polar meteorology an
 d oceanography. <strong>A list and detailed description of sessions can be 
 found at the following abstract submission link for the 17th Conference on 
 Polar Meteorology and Oceanography (</strong><a href="https://ams.confex.co
 m/ams/CMM2022/oasys.epl" target="_blank" rel="noopener" data-saferedirectur
 l="https://www.google.com/url?q=https://ams.confex.com/ams/CMM2022/oasys.ep
 l&amp;source=gmail&amp;ust=1646475106469000&amp;usg=AOvVaw0FXy41vBdkiWwgCUK
 LHPfI"></a><a href="https://ams.confex.com/ams/CMM2022/oasys.epl" target="_
 blank" rel="noopener">https://ams.confex.com/ams/CMM2022/oasys.epl</a>)<str
 ong>.</strong></div><div dir="ltr">&nbsp;<br /><strong>Please submit your a
 bstract electronically via the AMS conference website by 14 April 2022 (see
  the website for instructions). </strong>The abstract submission fee of $95
  USD is charged at the time of submission and refundable only if the abstra
 ct is not accepted. Authors of accepted presentations will be notified via 
 email by mid-May 2022.<br />&nbsp;<br />While we are aware there is continu
 ed uncertainty associated with the COVID-19 pandemic, <strong>at this time 
 we believe this conference will take place entirely in-person.</strong> Spe
 cific details regarding the conference program and format will be posted by
  AMS as soon as they are available. We encourage all presenters and attende
 es to visit the meeting website often to stay up to date on the latest news
 .<br />&nbsp;<br />Submissions by students, early-career scientists, and un
 derrepresented groups will be prioritized, and limited funds in the form of
  registration fee waivers or travel grants are available to support partici
 pation and further details will be available when abstract acceptance notif
 ications are sent.<br />&nbsp;<br />For further program information please 
 contact the program chair, Alice DuVivier, National Center for Atmospheric 
 Research (email: <span id="cloak22e6fa7e3d160a19f02dd5d23e8a54b9">This emai
 l address is being protected from spambots. You need JavaScript enabled to 
 view it.</span><script type='text/javascript'>
				document.getElementById(
 'cloak22e6fa7e3d160a19f02dd5d23e8a54b9').innerHTML = '';
				var prefix = '
 &#109;a' + 'i&#108;' + '&#116;o';
				var path = 'hr' + 'ef' + '=';
				var
  addy22e6fa7e3d160a19f02dd5d23e8a54b9 = 'd&#117;v&#105;v&#105;&#101;r' + '&
 #64;';
				addy22e6fa7e3d160a19f02dd5d23e8a54b9 = addy22e6fa7e3d160a19f02dd
 5d23e8a54b9 + '&#117;c&#97;r' + '&#46;' + '&#101;d&#117;';
				var addy_tex
 t22e6fa7e3d160a19f02dd5d23e8a54b9 = 'd&#117;v&#105;v&#105;&#101;r[&#97;t]&#
 117;c&#97;r.&#101;d&#117;';document.getElementById('cloak22e6fa7e3d160a19f0
 2dd5d23e8a54b9').innerHTML += '<a ' + path + '\'' + prefix + ':' + addy22e6
 fa7e3d160a19f02dd5d23e8a54b9 + '\'>'+addy_text22e6fa7e3d160a19f02dd5d23e8a5
 4b9+'<\/a>';
		</script>) or co-chair, Tristan L’Ecuyer, University of Wisc
 onsin-Madison (email: <span id="cloakde256067b9016dadbd55cbe45ef62738">This
  email address is being protected from spambots. You need JavaScript enable
 d to view it.</span><script type='text/javascript'>
				document.getElement
 ById('cloakde256067b9016dadbd55cbe45ef62738').innerHTML = '';
				var prefi
 x = '&#109;a' + 'i&#108;' + '&#116;o';
				var path = 'hr' + 'ef' + '=';
		
 		var addyde256067b9016dadbd55cbe45ef62738 = 'tl&#101;c&#117;y&#101;r' + '&
 #64;';
				addyde256067b9016dadbd55cbe45ef62738 = addyde256067b9016dadbd55c
 be45ef62738 + 'w&#105;sc' + '&#46;' + '&#101;d&#117;';
				var addy_textde2
 56067b9016dadbd55cbe45ef62738 = 'tl&#101;c&#117;y&#101;r[&#97;t]w&#105;sc.&
 #101;d&#117;';document.getElementById('cloakde256067b9016dadbd55cbe45ef6273
 8').innerHTML += '<a ' + path + '\'' + prefix + ':' + addyde256067b9016dadb
 d55cbe45ef62738 + '\'>'+addy_textde256067b9016dadbd55cbe45ef62738+'<\/a>';

 		</script>).</div>
DTSTAMP:20260419T150704Z
DTSTART;TZID=UTC;VALUE=DATE:20220808
DTEND;TZID=UTC;VALUE=DATE:20220813
SEQUENCE:0
TRANSP:OPAQUE
END:VEVENT
END:VCALENDAR