BEGIN:VCALENDAR
VERSION:2.0
PRODID:-//jEvents 2.0 for Joomla//EN
CALSCALE:GREGORIAN
METHOD:PUBLISH
BEGIN:VEVENT
UID:ba9f32d59304315daa3e4c4bc3f26c76
CATEGORIES:Polar Online Events
CREATED:20210928T085846
SUMMARY:Webinar: The Next Thirty Years of Antarctic Protection
LOCATION:Online
DESCRIPTION:October 4 marks the 30th Anniversary of the signing of the Madrid or Enviro
 nmental Protocol. ASOC seeks to celebrate this occasion with an event that 
 commemorates the successes of the Protocol while also encouraging greater g
 lobal ambition for the next thirty years of Antarctic protection.\nThis fre
 e-ranging and provocative event will bring forward new ideas and challenge 
 world leaders participating in Antarctic governance to increase their ambit
 ion at the Antarctic Treaty Consultative Meeting and CCAMLR, while conveyin
 g the importance the public places on Antarctic protection. Join ASOC and d
 istinguished guests on 7 October 1:00-2:00 EDT in an invigorating discussio
 n on the future of Antarctic protection. Register here:  (https://bit.ly/3t
 J3zhy)<a href="https://bit.ly/3tJ3zhy">https://bit.ly/3tJ3zhy</a>\n
X-ALT-DESC;FMTTYPE=text/html:<p style="text-align: justify;">October 4 marks the 30th Anniversary of the
  signing of the Madrid or Environmental Protocol. <strong>ASOC</strong> see
 ks to celebrate this occasion with an event that commemorates the successes
  of the Protocol while also encouraging greater global ambition for the nex
 t thirty years of Antarctic protection.</p><p style="text-align: justify;">
 This free-ranging and provocative event will bring forward new ideas and ch
 allenge world leaders participating in Antarctic governance to increase the
 ir ambition at the Antarctic Treaty Consultative Meeting and CCAMLR, while 
 conveying the importance the public places on Antarctic protection. Join AS
 OC and distinguished guests on <strong>7 October 1:00-2:00 EDT</strong> in 
 an invigorating discussion on the future of Antarctic protection. Register 
 here: <a href="https://bit.ly/3tJ3zhy" target="_blank" rel="noopener"></a><
 a href="https://bit.ly/3tJ3zhy">https://bit.ly/3tJ3zhy</a></p>
DTSTAMP:20260420T015155Z
DTSTART;TZID=UTC;VALUE=DATE:20211007
DTEND;TZID=UTC;VALUE=DATE:20211008
SEQUENCE:0
TRANSP:OPAQUE
END:VEVENT
END:VCALENDAR