BEGIN:VCALENDAR
VERSION:2.0
PRODID:-//jEvents 2.0 for Joomla//EN
CALSCALE:GREGORIAN
METHOD:PUBLISH
BEGIN:VEVENT
UID:6b53599423947b5df6933fa0335677a6
CATEGORIES:Polar Online Events
CREATED:20210927T072227
SUMMARY:Northwest Glaciologists’ Annual Meeting (virtual)
LOCATION:Online
DESCRIPTION:<p style="text-align: justify;">Please consider joining us for the <strong>
 Annual Meeting of the Northwest Glaciologists</strong>. This meeting is an 
 informal gathering with no abstracts, no pre-registration, and a strong his
 tory of student participation.</p><p style="text-align: justify;">The meeti
 ng will be held virtually again this year:</p><p style="text-align: justify
 ;"><strong>13-15 Oct 2021, Wednesday-Friday, 13:00 PDT start (PDT = UTC-7:0
 0)</strong></p><p style="text-align: justify;">If you are interested in att
 ending, please send us an email: <span id="cloak3bd1441e4b3f0cc7e618f780475
 906ef">This email address is being protected from spambots. You need JavaSc
 ript enabled to view it.</span><script type='text/javascript'>
				document
 .getElementById('cloak3bd1441e4b3f0cc7e618f780475906ef').innerHTML = '';
		
 		var prefix = '&#109;a' + 'i&#108;' + '&#116;o';
				var path = 'hr' + 'ef
 ' + '=';
				var addy3bd1441e4b3f0cc7e618f780475906ef = 'n&#111;rthw&#101;s
 tgl&#97;c&#105;&#111;l&#111;g&#105;sts2021' + '&#64;';
				addy3bd1441e4b3f
 0cc7e618f780475906ef = addy3bd1441e4b3f0cc7e618f780475906ef + 'gm&#97;&#105
 ;l' + '&#46;' + 'c&#111;m';
				var addy_text3bd1441e4b3f0cc7e618f780475906
 ef = 'n&#111;rthw&#101;stgl&#97;c&#105;&#111;l&#111;g&#105;sts2021' + '&#64
 ;' + 'gm&#97;&#105;l' + '&#46;' + 'c&#111;m';document.getElementById('cloak
 3bd1441e4b3f0cc7e618f780475906ef').innerHTML += '<a ' + path + '\'' + prefi
 x + ':' + addy3bd1441e4b3f0cc7e618f780475906ef + '\'>'+addy_text3bd1441e4b3
 f0cc7e618f780475906ef+'<\/a>';
		</script>. Indicate if you are interested 
 in giving a talk or poster, and if you are, the general topic of your prese
 ntation. Meeting details will be sent directly to participants.</p><p style
 ="text-align: justify;">More information: <a href="http://www.sfu.ca/~gflow
 ers/nwg2021" target="_blank" rel="noopener">http://www.sfu.ca/~gflowers/nwg
 2021</a> .</p>
DTSTAMP:20260420T015710Z
DTSTART;TZID=UTC;VALUE=DATE:20211013
DTEND;TZID=UTC;VALUE=DATE:20211016
SEQUENCE:0
TRANSP:OPAQUE
END:VEVENT
END:VCALENDAR