BEGIN:VCALENDAR
VERSION:2.0
PRODID:-//jEvents 2.0 for Joomla//EN
CALSCALE:GREGORIAN
METHOD:PUBLISH
BEGIN:VEVENT
UID:9b041de76b355210fd2f7d62f0c17044
CATEGORIES:Polar Conferences, Meetings and Events
CREATED:20210924T152555
SUMMARY:International Symposium on Ice in a Sustainable Society (ISS)
LOCATION:Bilbao\, Spain
DESCRIPTION:The meeting will be held 5–10 June 2022, in Conference Auditorium, Bizkaia 
 Aretoa, Bilbao, Basque Country, Spain.Online abstract submission (https://w
 ww.abstracts.igsoc.org/88a/) for the International Symposium on ‘Ice in a S
 ustainable Society (ISS)’ is now open. Please note that the abstract submis
 sion system is separate from the IGS Connect. You will have to register you
 r details if you have not submitted an abstract with us before.\nAbstract s
 ubmission deadline: 18 March 2022\nEarly registration deadline: 25 March 20
 22\nGrants for students and early-career researchers\nThe Department of Edu
 cation of the Basque Government has awarded a grant to the ISS Symposium to
  fund accommodation and/or registration fees for a limited number of studen
 ts and early-career researchers, up to and including the age of 30. Full or
  partial fellowships will be awarded on a competitive basis, giving priorit
 y to candidates <a href="https://iss.bc3research.org/participation/presenta
 tions/" data-saferedirecturl="https://www.google.com/url?q=https://iss.bc3r
 esearch.org/participation/presentations/&amp;source=gmail&amp;ust=164753600
 4271000&amp;usg=AOvVaw3HBFlQMNlVqehkmZt1wwjm">presenting their work</a> dur
 ing the symposium (go to abstract submission (https://iss.bc3research.org/p
 articipation/abstract-submission/)). If you wish to apply for one of these 
 grants please This email address is being protected from spambots. You need
  JavaScript enabled to view it.
				document.getElementById('cloakc136dafdf
 a60fa1f99a1911d904095ae').innerHTML = '';
				var prefix = '&#109;a' + 'i&#
 108;' + '&#116;o';
				var path = 'hr' + 'ef' + '=';
				var addyc136dafdfa
 60fa1f99a1911d904095ae = '&#105;ss' + '&#64;';
				addyc136dafdfa60fa1f99a1
 911d904095ae = addyc136dafdfa60fa1f99a1911d904095ae + 'bc3r&#101;s&#101;&#9
 7;rch' + '&#46;' + '&#111;rg';
				var addy_textc136dafdfa60fa1f99a1911d904
 095ae = 's&#101;nd &#117;s &#97;n &#101;m&#97;&#105;l';document.getElementB
 yId('cloakc136dafdfa60fa1f99a1911d904095ae').innerHTML += '<a ' + path + '\
 '' + prefix + ':' + addyc136dafdfa60fa1f99a1911d904095ae + '\'>'+addy_textc
 136dafdfa60fa1f99a1911d904095ae+'';
		 (iss *at* bc3research.org) with the 
 following structure:\nSubject: ISS grant application – your full name\nAtta
 ched files: Curriculum Vitae (in .pdf) &amp; Motivation letter (max. 500 wo
 rds)\nBody:\n\n - Full name and date of birth.\n - Title and reference numb
 er of the proposal (abstract) submitted to the Symposium.\n - Indicate if y
 ou want to apply for a registration fee grant, for accommodation grant, or 
 both.\n - Any other relevant requirements.If you have not already done so, 
 please <a href="https://community.igsoc.org/events/6176b5a9b4b59f00080f8579
 /description" target="_blank" rel="noopener" data-saferedirecturl="https://
 www.google.com/url?q=https://community.igsoc.org/events/6176b5a9b4b59f00080
 f8579/description&amp;source=gmail&amp;ust=1643124025022000&amp;usg=AOvVaw3
 R3c6figNJso5gwO2TMUFe">register your interest to attend</a> as that will en
 sure you receive all future communications relating to the symposium. Forma
 l registration should open beginning of April.\nPlease go to  (https://www.
 abstracts.igsoc.org/88a/)<a href="https://www.abstracts.igsoc.org/88a/" tar
 get="_blank" rel="noopener"></a>https://www.abstracts.igsoc.org/88a/ and su
 bmit your abstracts.\n<a href="https://www.igsoc.org/symposia/2022/bilbao20
 22/bilbao2ndcirc_web.pdf" target="_blank" rel="noopener" data-saferedirectu
 rl="https://www.google.com/url?q=https://www.igsoc.org/symposia/2022/bilbao
 2022/bilbao2ndcirc_web.pdf&amp;source=gmail&amp;ust=1643124025022000&amp;us
 g=AOvVaw00Kg5LYhOvOllTx49mYKAe">The second circular</a> is posted on the IG
 S website.\nPlease use the symposium hashtag #IGSBilbao2022 when you tweet 
 about it.\nYou will find further information on the local Bilbao website (h
 ttps://iss.bc3research.org/).\n
X-ALT-DESC;FMTTYPE=text/html:<div>The meeting will be held&nbsp;<strong>5–10 June 2022</strong>, in Conf
 erence Auditorium, Bizkaia Aretoa, Bilbao, Basque Country, Spain.</div><div
  class="jev_evdt_desc"><p><strong><a href="https://www.abstracts.igsoc.org/
 88a/" target="_blank" rel="noopener" data-saferedirecturl="https://www.goog
 le.com/url?q=https://www.abstracts.igsoc.org/88a/&amp;source=gmail&amp;ust=
 1643124025022000&amp;usg=AOvVaw3vL6OQwPXQRnd-26lnZ7qm">Online abstract subm
 ission</a></strong>&nbsp;for the International Symposium on ‘<strong>Ice in
  a Sustainable Society (ISS)</strong>’ is now open.&nbsp;Please note that t
 he abstract submission system is separate from the IGS Connect. You will ha
 ve to register your details if you have not submitted an abstract with us b
 efore.</p><p class="event-title"><strong>Abstract submission deadline: 18 M
 arch 2022</strong></p><p class="event-title"><strong>Early registration dea
 dline: 25 March 2022</strong></p><p><strong>Grants for students and early-c
 areer researchers</strong></p><p>The Department of Education of the Basque 
 Government has awarded a grant to the ISS Symposium to fund accommodation a
 nd/or registration fees for a limited number of students and early-career r
 esearchers, up to and including the age of 30. Full or partial fellowships 
 will be awarded on a competitive basis, giving priority to candidates&nbsp;
 <a href="https://iss.bc3research.org/participation/presentations/" data-saf
 eredirecturl="https://www.google.com/url?q=https://iss.bc3research.org/part
 icipation/presentations/&amp;source=gmail&amp;ust=1647536004271000&amp;usg=
 AOvVaw3HBFlQMNlVqehkmZt1wwjm">presenting their work</a>&nbsp;during the sym
 posium (go to&nbsp;<a href="https://iss.bc3research.org/participation/abstr
 act-submission/" data-saferedirecturl="https://www.google.com/url?q=https:/
 /iss.bc3research.org/participation/abstract-submission/&amp;source=gmail&am
 p;ust=1647536004271000&amp;usg=AOvVaw0fy7wNYBaymmKABVVYvPn_">abstract submi
 ssion</a>). If you wish to apply for one of these grants please&nbsp;<span 
 id="cloakc136dafdfa60fa1f99a1911d904095ae">This email address is being prot
 ected from spambots. You need JavaScript enabled to view it.</span><script 
 type='text/javascript'>
				document.getElementById('cloakc136dafdfa60fa1f9
 9a1911d904095ae').innerHTML = '';
				var prefix = '&#109;a' + 'i&#108;' + 
 '&#116;o';
				var path = 'hr' + 'ef' + '=';
				var addyc136dafdfa60fa1f99
 a1911d904095ae = '&#105;ss' + '&#64;';
				addyc136dafdfa60fa1f99a1911d9040
 95ae = addyc136dafdfa60fa1f99a1911d904095ae + 'bc3r&#101;s&#101;&#97;rch' +
  '&#46;' + '&#111;rg';
				var addy_textc136dafdfa60fa1f99a1911d904095ae = 
 's&#101;nd &#117;s &#97;n &#101;m&#97;&#105;l';document.getElementById('clo
 akc136dafdfa60fa1f99a1911d904095ae').innerHTML += '<a ' + path + '\'' + pre
 fix + ':' + addyc136dafdfa60fa1f99a1911d904095ae + '\'>'+addy_textc136dafdf
 a60fa1f99a1911d904095ae+'<\/a>';
		</script>&nbsp;(iss *at* bc3research.org
 ) with the following structure:</p><p><strong>Subject:</strong>&nbsp;ISS gr
 ant application –&nbsp;<em>your full name</em><br /><strong>Attached files:
 </strong>&nbsp;Curriculum Vitae (in .pdf) &amp; Motivation letter (max. 500
  words)<br /><strong>Body:</strong></p><ul><li>Full name and date of birth.
 </li><li>Title and reference number of the proposal (abstract) submitted to
  the Symposium.</li><li>Indicate if you want to apply for a registration fe
 e grant, for accommodation grant, or both.</li><li>Any other relevant requi
 rements.</li></ul><p>If you have not already done so, please&nbsp;<strong><
 a href="https://community.igsoc.org/events/6176b5a9b4b59f00080f8579/descrip
 tion" target="_blank" rel="noopener" data-saferedirecturl="https://www.goog
 le.com/url?q=https://community.igsoc.org/events/6176b5a9b4b59f00080f8579/de
 scription&amp;source=gmail&amp;ust=1643124025022000&amp;usg=AOvVaw3R3c6figN
 Jso5gwO2TMUFe">register your interest to attend</a>&nbsp;</strong>as that w
 ill ensure you receive all future communications relating to the symposium.
  Formal registration should open beginning of April.</p><p>Please go to&nbs
 p;<a href="https://www.abstracts.igsoc.org/88a/" data-saferedirecturl="http
 s://www.google.com/url?q=https://www.abstracts.igsoc.org/88a/&amp;source=gm
 ail&amp;ust=1643124025022000&amp;usg=AOvVaw3vL6OQwPXQRnd-26lnZ7qm"></a><a h
 ref="https://www.abstracts.igsoc.org/88a/" target="_blank" rel="noopener"><
 /a><a href="https://www.abstracts.igsoc.org/88a/">https://www.abstracts.igs
 oc.org/88a/</a>&nbsp;and submit your abstracts.</p><p><strong><a href="http
 s://www.igsoc.org/symposia/2022/bilbao2022/bilbao2ndcirc_web.pdf" target="_
 blank" rel="noopener" data-saferedirecturl="https://www.google.com/url?q=ht
 tps://www.igsoc.org/symposia/2022/bilbao2022/bilbao2ndcirc_web.pdf&amp;sour
 ce=gmail&amp;ust=1643124025022000&amp;usg=AOvVaw00Kg5LYhOvOllTx49mYKAe">The
  second circular</a></strong>&nbsp;is posted on the IGS website.</p><p>Plea
 se use the symposium hashtag #IGSBilbao2022 when you tweet about it.</p><p>
 You will find further information on the&nbsp;<strong><a href="https://iss.
 bc3research.org/" target="_blank" rel="noopener" data-saferedirecturl="http
 s://www.google.com/url?q=https://iss.bc3research.org/&amp;source=gmail&amp;
 ust=1643124025022000&amp;usg=AOvVaw1OuiWa6sG9axErZLhURh_P"><strong>local Bi
 lbao website</strong></a></strong>.</p></div>
DTSTAMP:20260420T230347Z
DTSTART;TZID=UTC;VALUE=DATE:20220605
DTEND;TZID=UTC;VALUE=DATE:20220611
SEQUENCE:0
TRANSP:OPAQUE
END:VEVENT
END:VCALENDAR