BEGIN:VCALENDAR
VERSION:2.0
PRODID:-//jEvents 2.0 for Joomla//EN
CALSCALE:GREGORIAN
METHOD:PUBLISH
BEGIN:VEVENT
UID:70f8eafbb39775ee429bc1da40502a55
CATEGORIES:Polar Online Events
CREATED:20210922T114357
SUMMARY:Polar Pride Day 2021
DESCRIPTION:With the start of Polar Week, our countdown to Polar Pride Day on the 18th 
 November has begun! With 2 months to go we would like to invite you to join
  the UK Polar Network, and our partners in the British Antarctic Survey and
  the Diversity in UK Polar Science Initiative, in celebrating this day with
  your organisations and institutions.\nPolar Pride Day launched in 2020 wit
 h participation from 49 countries with over 2000 tweets, 35 news stories an
 d a global reach of over 12.8 million people! In 2021 we want to build on t
 his success and take the Polar Pride message to an even bigger audience and
  we need your help to do it. \nA particular highlight of last year were the
  images of celebrations in the field. If you have plans to celebrate at eit
 her pole, at your institute or virtually, please make sure that you take so
 me photos or video to share on the day. Please see here the ideas for runni
 ng your own event (https://apecs.is/images/Articles/Files/Polar_Pride_2021_
 Summary.pdf). \nPlease share widely, stay in touch, and let us know what yo
 u’ll be getting up to!  \nBest wishes,  \nMadeline Anderson &amp; Victoria 
 Dutch \nEDI Co-Officers, UK Polar Network (<a href="https://polarnetwork.or
 g/"></a>https://polarnetwork.org/) \nTwitter:@UKPolarNetwork\n
X-ALT-DESC;FMTTYPE=text/html:<p>With the start of Polar Week, our countdown to <strong>Polar Pride Day</
 strong> on the <strong>18th November</strong> has begun! With 2 months to g
 o we would like to invite you to join the UK Polar Network, and our partner
 s in the British Antarctic Survey and the Diversity in UK Polar Science Ini
 tiative, in celebrating this day with your organisations and institutions.<
 /p><p>Polar Pride Day launched in 2020 with participation from 49 countries
  with over 2000 tweets, 35 news stories and a global reach of over 12.8 mil
 lion people! In 2021 we want to build on this success and take the Polar Pr
 ide message to an even bigger audience and we need your help to do it.&nbsp
 ;</p><p>A particular highlight of last year were the images of celebrations
  in the field. If you have plans to celebrate at either pole, at your insti
 tute or virtually, please make sure that you take some photos or video to s
 hare on the day. Please see <strong><a href="https://apecs.is/images/Articl
 es/Files/Polar_Pride_2021_Summary.pdf">here the ideas for running your own 
 event</a></strong>.&nbsp;</p><p>Please share widely, stay in touch, and let
  us know what you’ll be getting up to!&nbsp;&nbsp;</p><p>Best wishes,&nbsp;
 &nbsp;</p><p>Madeline Anderson &amp; Victoria Dutch&nbsp;</p><p>EDI Co-Offi
 cers, UK Polar Network (<a href="https://polarnetwork.org/"></a><a href="ht
 tps://polarnetwork.org/">https://polarnetwork.org/</a>)&nbsp;</p><p>Twitter
 :@UKPolarNetwork</p>
DTSTAMP:20260420T094027Z
DTSTART;TZID=UTC;VALUE=DATE:20211118
DTEND;TZID=UTC;VALUE=DATE:20211119
SEQUENCE:0
TRANSP:OPAQUE
END:VEVENT
END:VCALENDAR