BEGIN:VCALENDAR
VERSION:2.0
PRODID:-//jEvents 2.0 for Joomla//EN
CALSCALE:GREGORIAN
METHOD:PUBLISH
BEGIN:VEVENT
UID:3185bad21fa793795c7d16aa838d4a79
CATEGORIES:Polar Conferences, Meetings and Events
CREATED:20210921T110604
SUMMARY:International conference on Cryosphere Transformation and Geotechnical Safety Issues for Construction in the Arctic
LOCATION:Salekhard\, Russia
DESCRIPTION:The International conference on Cryosphere Transformation and Geotechnical 
 Safety Issues for Construction in the Arctic (https://en.ctgs21.ru/) will t
 ake place 8-12 November 2021 in Salekhard, Russia. It is supported by the I
 nternational Permafrost Association and will be held in a combined in-perso
 n / online format. More info could be found on the <a href="https://en.ctgs
 21.ru/" target="_blank" rel="noopener">official web-site</a>. The link to t
 he online translation of the conference will be provided for free on the we
 bsite. \nOpening with the conference, the art/science/practice exhibition a
 nd short lecture course on permafrost for a broader audience of engineers, 
 decision makers, educators and general public will last for several weeks. 
 If you have stunning photos and videos on permafrost and want to be credite
 d on one of the most representative events, please share them with the conf
 erence organizers at  (mailto:kraevgn@yanao.ru)This email address is being 
 protected from spambots. You need JavaScript enabled to view it.
				docume
 nt.getElementById('cloak5d05cd3261c03773d0a2aa24976ef478').innerHTML = '';

 				var prefix = '&#109;a' + 'i&#108;' + '&#116;o';
				var path = 'hr' + '
 ef' + '=';
				var addy5d05cd3261c03773d0a2aa24976ef478 = 'kr&#97;&#101;vgn
 ' + '&#64;';
				addy5d05cd3261c03773d0a2aa24976ef478 = addy5d05cd3261c0377
 3d0a2aa24976ef478 + 'y&#97;n&#97;&#111;' + '&#46;' + 'r&#117;';
				var add
 y_text5d05cd3261c03773d0a2aa24976ef478 = 'kr&#97;&#101;vgn' + '&#64;' + 'y&
 #97;n&#97;&#111;' + '&#46;' + 'r&#117;';document.getElementById('cloak5d05c
 d3261c03773d0a2aa24976ef478').innerHTML += '<a ' + path + '\'' + prefix + '
 :' + addy5d05cd3261c03773d0a2aa24976ef478 + '\'>'+addy_text5d05cd3261c03773
 d0a2aa24976ef478+'';
		 and <a href="mailto:naukayanao@yandex.ru" target="_
 blank"></a>This email address is being protected from spambots. You need Ja
 vaScript enabled to view it.
				document.getElementById('cloak7bf4ec23358b
 3291edf65cbe61fd24fa').innerHTML = '';
				var prefix = '&#109;a' + 'i&#108
 ;' + '&#116;o';
				var path = 'hr' + 'ef' + '=';
				var addy7bf4ec23358b3
 291edf65cbe61fd24fa = 'n&#97;&#117;k&#97;y&#97;n&#97;&#111;' + '&#64;';
			
 	addy7bf4ec23358b3291edf65cbe61fd24fa = addy7bf4ec23358b3291edf65cbe61fd24f
 a + 'y&#97;nd&#101;x' + '&#46;' + 'r&#117;';
				var addy_text7bf4ec23358b3
 291edf65cbe61fd24fa = 'n&#97;&#117;k&#97;y&#97;n&#97;&#111;' + '&#64;' + 'y
 &#97;nd&#101;x' + '&#46;' + 'r&#117;';document.getElementById('cloak7bf4ec2
 3358b3291edf65cbe61fd24fa').innerHTML += '<a ' + path + '\'' + prefix + ':'
  + addy7bf4ec23358b3291edf65cbe61fd24fa + '\'>'+addy_text7bf4ec23358b3291ed
 f65cbe61fd24fa+'';
		. Please attach 2-3 sentences to focus attention on th
 e features/processes shown. Links to your cloud repositories are more than 
 welcome.  This is a chance to contribute to the work of the conference even
  without attending it!
X-ALT-DESC;FMTTYPE=text/html:<p style="text-align: justify;">The <a href="https://en.ctgs21.ru/" target=
 "_blank" rel="noopener">International conference on Cryosphere Transformati
 on and Geotechnical Safety Issues for Construction in the Arctic</a> will t
 ake place <strong>8-12 November 2021</strong> in Salekhard, Russia. It&nbsp
 ;is supported by the International Permafrost Association and&nbsp;will be&
 nbsp;held in a combined in-person / online format. More info could be found
  on the <a href="https://en.ctgs21.ru/" target="_blank" rel="noopener">offi
 cial web-site</a>. The link to the online translation of the conference wil
 l be provided for free on the website. </p><div dir="auto" style="text-alig
 n: justify;">Opening with the conference, the art/science/practice exhibiti
 on and short lecture course on permafrost for a broader audience of enginee
 rs, decision&nbsp;makers, educators and general public will last for severa
 l weeks.&nbsp;</div><div dir="auto" style="text-align: justify;">If you hav
 e stunning photos and videos on permafrost and want to be credited on one o
 f the most representative events, please share them with the conference org
 anizers at <a href="mailto:kraevgn@yanao.ru" target="_blank"></a><span id="
 cloak5d05cd3261c03773d0a2aa24976ef478">This email address is being protecte
 d from spambots. You need JavaScript enabled to view it.</span><script type
 ='text/javascript'>
				document.getElementById('cloak5d05cd3261c03773d0a2a
 a24976ef478').innerHTML = '';
				var prefix = '&#109;a' + 'i&#108;' + '&#1
 16;o';
				var path = 'hr' + 'ef' + '=';
				var addy5d05cd3261c03773d0a2aa
 24976ef478 = 'kr&#97;&#101;vgn' + '&#64;';
				addy5d05cd3261c03773d0a2aa24
 976ef478 = addy5d05cd3261c03773d0a2aa24976ef478 + 'y&#97;n&#97;&#111;' + '&
 #46;' + 'r&#117;';
				var addy_text5d05cd3261c03773d0a2aa24976ef478 = 'kr&
 #97;&#101;vgn' + '&#64;' + 'y&#97;n&#97;&#111;' + '&#46;' + 'r&#117;';docum
 ent.getElementById('cloak5d05cd3261c03773d0a2aa24976ef478').innerHTML += '<
 a ' + path + '\'' + prefix + ':' + addy5d05cd3261c03773d0a2aa24976ef478 + '
 \'>'+addy_text5d05cd3261c03773d0a2aa24976ef478+'<\/a>';
		</script>&nbsp;an
 d <a href="mailto:naukayanao@yandex.ru" target="_blank"></a><span id="cloak
 7bf4ec23358b3291edf65cbe61fd24fa">This email address is being protected fro
 m spambots. You need JavaScript enabled to view it.</span><script type='tex
 t/javascript'>
				document.getElementById('cloak7bf4ec23358b3291edf65cbe61
 fd24fa').innerHTML = '';
				var prefix = '&#109;a' + 'i&#108;' + '&#116;o'
 ;
				var path = 'hr' + 'ef' + '=';
				var addy7bf4ec23358b3291edf65cbe61f
 d24fa = 'n&#97;&#117;k&#97;y&#97;n&#97;&#111;' + '&#64;';
				addy7bf4ec233
 58b3291edf65cbe61fd24fa = addy7bf4ec23358b3291edf65cbe61fd24fa + 'y&#97;nd&
 #101;x' + '&#46;' + 'r&#117;';
				var addy_text7bf4ec23358b3291edf65cbe61f
 d24fa = 'n&#97;&#117;k&#97;y&#97;n&#97;&#111;' + '&#64;' + 'y&#97;nd&#101;x
 ' + '&#46;' + 'r&#117;';document.getElementById('cloak7bf4ec23358b3291edf65
 cbe61fd24fa').innerHTML += '<a ' + path + '\'' + prefix + ':' + addy7bf4ec2
 3358b3291edf65cbe61fd24fa + '\'>'+addy_text7bf4ec23358b3291edf65cbe61fd24fa
 +'<\/a>';
		</script>.&nbsp;Please attach 2-3 sentences to focus attention 
 on the features/processes shown. Links to your cloud repositories are more 
 than welcome.&nbsp;</div><div dir="auto" style="text-align: justify;">&nbsp
 ;</div><div dir="auto" style="text-align: justify;">This is a chance to con
 tribute to the work of the conference even without attending it!</div>
DTSTAMP:20260420T071451Z
DTSTART;TZID=UTC;VALUE=DATE:20211108
DTEND;TZID=UTC;VALUE=DATE:20211113
SEQUENCE:0
TRANSP:OPAQUE
END:VEVENT
END:VCALENDAR