BEGIN:VCALENDAR
VERSION:2.0
PRODID:-//jEvents 2.0 for Joomla//EN
CALSCALE:GREGORIAN
METHOD:PUBLISH
BEGIN:VEVENT
UID:2f1c1c79e69a71d3e11abb7ff6b023c4
CATEGORIES:Polar Online Events
CREATED:20210914T075655
SUMMARY:Webinar:  Ice-Earth interactions in Greenland across timescales: Probing mechanics of Earth deformation and glacial mass transport
LOCATION:Online
DESCRIPTION:Dear Friends of Geodesy and the Cryosphere,\nWe are pleased to announce a n
 ew monthly webinar hosted by the AGU Geodesy section featuring research by 
 early career geodesists from around the world. The link for the live presen
 tations is below and recordings will be made available.\nThe first 2 semina
 rs will be given by the co-recipients of the 2021 John Wahr early career aw
 ard from the AGU Geodesy section:\nOct. 28, 2021 at 10am EDT: Lin Liu, Chin
 ese University of Hong Kong\nTitle: Geodetic Studies of (Not-so) Frozen Gro
 und\nhttps://agu.zoom.us/j/95135284444?pwd=cmZHOTJrZ21GdWtFcStlcTgyRUErUT09
 \nNov. 16, 2021 at 1pm EST: Surendra Adhikari, Jet Propulsion Laboratory, C
 alifornia Institute of Technology\nTitle: Ice-Earth interactions in Greenla
 nd across timescales: Probing mechanics of Earth deformation and glacial ma
 ss transport\n<a href="https://agu.zoom.us/j/96106325671?pwd=VUNrdFNTSUNYUj
 k3dG9jT1lKNjJ3Zz09">https://agu.zoom.us/j/96106325671?pwd=VUNrdFNTSUNYUjk3d
 G9jT1lKNjJ3Zz09</a>\nThe January webinar (date/time TBD) will be given by J
 ulia Pfeffer, Department of Earth Observation, Magellium, Toulouse, France\
 nWe encourage nominations for future speakers -- feel free to contact any o
 f us on the Executive Committee with suggestions.\nSincerely,\nAGU Geodesy 
 Executive Committee\nAnny Cazenave, President\nMatt Pritchard, President-El
 ect\nBill Hammond, Secretary and website\nStacy Larochelle, Student Represe
 ntative\nHilary Martens, Early Career Representative\nSteve Nerem, At-Large
  Member\nLei Wang, Early Career Representative\n
X-ALT-DESC;FMTTYPE=text/html:<p>Dear Friends of Geodesy and the Cryosphere,</p><p>We are pleased to anno
 unce a new monthly webinar hosted by the AGU Geodesy section featuring rese
 arch by early career geodesists from around the world. The link for the liv
 e presentations is below and recordings will be made available.</p><p>The f
 irst 2 seminars will be given by the co-recipients of the 2021 John Wahr ea
 rly career award from the AGU Geodesy section:</p><p><strong>Oct. 28, 2021 
 at 10am EDT</strong>: Lin Liu, Chinese University of Hong Kong<br />Title: 
 Geodetic Studies of (Not-so) Frozen Ground<br /><a href="https://agu.zoom.u
 s/j/95135284444?pwd=cmZHOTJrZ21GdWtFcStlcTgyRUErUT09">https://agu.zoom.us/j
 /95135284444?pwd=cmZHOTJrZ21GdWtFcStlcTgyRUErUT09</a></p><p><strong>Nov. 16
 , 2021 at 1pm EST</strong>: Surendra Adhikari, Jet Propulsion Laboratory, C
 alifornia Institute of Technology<br /><strong>Title:</strong> Ice-Earth in
 teractions in Greenland across timescales: Probing mechanics of Earth defor
 mation and glacial mass transport<br /><a href="https://agu.zoom.us/j/96106
 325671?pwd=VUNrdFNTSUNYUjk3dG9jT1lKNjJ3Zz09">https://agu.zoom.us/j/96106325
 671?pwd=VUNrdFNTSUNYUjk3dG9jT1lKNjJ3Zz09</a></p><p>The January webinar (dat
 e/time TBD) will be given by Julia Pfeffer, Department of Earth Observation
 , Magellium, Toulouse, France</p><p>We encourage nominations for future spe
 akers -- feel free to contact any of us on the Executive Committee with sug
 gestions.</p><p>Sincerely,</p><p>AGU Geodesy Executive Committee<br />Anny 
 Cazenave, President<br />Matt Pritchard, President-Elect<br />Bill Hammond,
  Secretary and website<br />Stacy Larochelle, Student Representative<br />H
 ilary Martens, Early Career Representative<br />Steve Nerem, At-Large Membe
 r<br />Lei Wang, Early Career Representative</p>
DTSTAMP:20260420T071446Z
DTSTART;TZID=UTC:20211116T130000
SEQUENCE:0
TRANSP:OPAQUE
END:VEVENT
END:VCALENDAR