BEGIN:VCALENDAR
VERSION:2.0
PRODID:-//jEvents 2.0 for Joomla//EN
CALSCALE:GREGORIAN
METHOD:PUBLISH
BEGIN:VEVENT
UID:6dfab48d7b5dad912cb31bcdebac11fe
CATEGORIES:Polar Conferences, Meetings and Events
CREATED:20210914T075254
SUMMARY:Arctic Frontiers Emerging Leaders 2022
LOCATION:Tromsø\, Norway
DESCRIPTION:The Emerging Leaders program 2022 evolves around the theme of the UN Decade
  of Ocean Science for sustainable development. Selected speakers and mentor
 s will present current issues of the Ocean Decade from an arctic perspectiv
 e. The participants will be challenged to relate challenges outlined by the
  Ocean Decade to their own local and sectoral context and develop innovativ
 e ideas on how to address these through teamwork and creative thinking.\n\n
 The event is planned as a physical meeting in Norway from 28 January - 3 Fe
 bruary 2022, following national and local Covid-19 regulations.\nA short de
 scription of the program (images/Articles/Files/About_Emerging_Leaders.pdf)
  and the <a href="images/Articles/Files/Emerging_Leaders_2022_Call_for_Appl
 ications.pdf" target="_blank">call for applications</a> (including applicat
 ion criteria). Application deadline is 1st of November 2021.\n
X-ALT-DESC;FMTTYPE=text/html:<p style="text-align: justify;">The Emerging Leaders program 2022 evolves a
 round the theme of the UN Decade of Ocean Science for sustainable developme
 nt. Selected speakers and mentors will present current issues of the Ocean 
 Decade from an arctic perspective. The participants will be challenged to r
 elate challenges outlined by the Ocean Decade to their own local and sector
 al context and develop innovative ideas on how to address these through tea
 mwork and creative thinking.<br /><br />The event is planned as a physical 
 meeting in <strong>Norway from 28 January - 3 February 2022</strong>, follo
 wing national and local Covid-19 regulations.</p><p style="text-align: just
 ify;">A short description of the <a href="images/Articles/Files/About_Emerg
 ing_Leaders.pdf" target="_blank">program</a> and the <a href="images/Articl
 es/Files/Emerging_Leaders_2022_Call_for_Applications.pdf" target="_blank"><
 strong>call for applications</strong></a> (including application criteria).
  Application deadline is <strong>1<sup>st</sup>&nbsp;of November 2021</stro
 ng>.</p>
DTSTAMP:20260421T021324Z
DTSTART;TZID=UTC;VALUE=DATE:20220128
DTEND;TZID=UTC;VALUE=DATE:20220204
SEQUENCE:0
TRANSP:OPAQUE
END:VEVENT
END:VCALENDAR