BEGIN:VCALENDAR
VERSION:2.0
PRODID:-//jEvents 2.0 for Joomla//EN
CALSCALE:GREGORIAN
METHOD:PUBLISH
BEGIN:VEVENT
UID:0441f8b8ab6ef971dbc1ad511b17e8fe
CATEGORIES:Polar Conferences, Meetings and Events
CREATED:20170104T201032
SUMMARY:The Future Shape of a Greenland GNSS Observation Network
LOCATION:Greenbelt\, Maryland\, US
DESCRIPTION:<p style="text-align: justify;">Organizers of a workshop, entitled "The Fut
 ure Shape of a Greenland Global Navigation Satellite System (GNSS) Observat
 ion Network" call for participant registration. The one- and one half-day w
 orkshop will convene 24-25 January 2017 at the National Aeronautics and Spa
 ce Administration (NASA) Goddard Space Flight Center in Greenbelt, Maryland
 .</p><p style="text-align: justify;">The goal of the workshop is to define 
 a path forward for a Global Navigation Satellite System (GNSS) observation 
 network in Greenland.<br />Such a network already exists in the form of the
  Greenland network GNET, a joint U.S./Danish network of GPS receivers. Exis
 ting funding for GNET is drawing to a close, and the future of the network 
 remains uncertain. This workshop aims to bring the various stakeholders and
  potential users of these data together to define the system requirements a
 nd the path forward.</p><p style="text-align: justify;">There is no cost fo
 r attending this NSF-sponsored workshop, and a limited amount of travel fun
 ding is available for those in need.</p><p style="text-align: justify;">Acc
 ess to Goddard Space Flight Center requires documentation to be submitted t
 o NASA in advance.</p><p style="text-align: justify;">For details about req
 uired documentation, go to: <br /><a href="http://neptune.gsfc.nasa.gov/csb
 /index.php?section=268">http://neptune.gsfc.nasa.gov/csb/index.php?section=
 268</a> .</p><p style="text-align: justify;">NASA documentation submission 
 deadline: Tuesday, 3 January 2017.</p><p style="text-align: justify;">NASA 
 documentation submission for foreign visitors deadline:<br />Friday, 23 Dec
 ember 2017</p><p style="text-align: justify;">Workshop registration is open
  until filled.</p><p style="text-align: justify;">For more information and 
 registration instructions, go to:<br /><a href="http://www.dartmouth.edu/~i
 ce/GNET_workshop.php">http://www.dartmouth.edu/~ice/GNET_workshop.php</a> .
 </p><p style="text-align: justify;"><strong>For questions, contact:</strong
 ><br />Robert Hawley Email: <span id="cloakb40d07bbeee67695d9a3f44f4e9beca8
 ">This email address is being protected from spambots. You need JavaScript 
 enabled to view it.</span><script type='text/javascript'>
				document.getE
 lementById('cloakb40d07bbeee67695d9a3f44f4e9beca8').innerHTML = '';
				var
  prefix = '&#109;a' + 'i&#108;' + '&#116;o';
				var path = 'hr' + 'ef' + '
 =';
				var addyb40d07bbeee67695d9a3f44f4e9beca8 = 'r&#111;b&#101;rt.l.h&#9
 7;wl&#101;y' + '&#64;';
				addyb40d07bbeee67695d9a3f44f4e9beca8 = addyb40d
 07bbeee67695d9a3f44f4e9beca8 + 'd&#97;rtm&#111;&#117;th' + '&#46;' + '&#101
 ;d&#117;';
				var addy_textb40d07bbeee67695d9a3f44f4e9beca8 = 'r&#111;b&#1
 01;rt.l.h&#97;wl&#101;y' + '&#64;' + 'd&#97;rtm&#111;&#117;th' + '&#46;' + 
 '&#101;d&#117;';document.getElementById('cloakb40d07bbeee67695d9a3f44f4e9be
 ca8').innerHTML += '<a ' + path + '\'' + prefix + ':' + addyb40d07bbeee6769
 5d9a3f44f4e9beca8 + '\'>'+addy_textb40d07bbeee67695d9a3f44f4e9beca8+'<\/a>'
 ;
		</script> Phone: 603-646-1425<br />Or Joanna Millstei Email: <span id="
 cloakdc9eb8970bf44141eb6a63c0a7c89f0d">This email address is being protecte
 d from spambots. You need JavaScript enabled to view it.</span><script type
 ='text/javascript'>
				document.getElementById('cloakdc9eb8970bf44141eb6a6
 3c0a7c89f0d').innerHTML = '';
				var prefix = '&#109;a' + 'i&#108;' + '&#1
 16;o';
				var path = 'hr' + 'ef' + '=';
				var addydc9eb8970bf44141eb6a63
 c0a7c89f0d = 'j&#111;&#97;nn&#97;.d.m&#105;llst&#101;&#105;n.17' + '&#64;';
 
				addydc9eb8970bf44141eb6a63c0a7c89f0d = addydc9eb8970bf44141eb6a63c0a7c
 89f0d + 'd&#97;rtm&#111;&#117;th' + '&#46;' + '&#101;d&#117;';
				var addy
 _textdc9eb8970bf44141eb6a63c0a7c89f0d = 'j&#111;&#97;nn&#97;.d.m&#105;llst&
 #101;&#105;n.17' + '&#64;' + 'd&#97;rtm&#111;&#117;th' + '&#46;' + '&#101;d
 &#117;';document.getElementById('cloakdc9eb8970bf44141eb6a63c0a7c89f0d').in
 nerHTML += '<a ' + path + '\'' + prefix + ':' + addydc9eb8970bf44141eb6a63c
 0a7c89f0d + '\'>'+addy_textdc9eb8970bf44141eb6a63c0a7c89f0d+'<\/a>';
		</sc
 ript> </p>
DTSTAMP:20260422T043413Z
DTSTART;TZID=UTC;VALUE=DATE:20170124
DTEND;TZID=UTC;VALUE=DATE:20170126
SEQUENCE:0
TRANSP:OPAQUE
END:VEVENT
END:VCALENDAR