BEGIN:VCALENDAR
VERSION:2.0
PRODID:-//jEvents 2.0 for Joomla//EN
CALSCALE:GREGORIAN
METHOD:PUBLISH
BEGIN:VEVENT
UID:27a5bfbdb599df61da4fadf7ec4cfe0d
CATEGORIES:Polar Conferences, Meetings and Events
CREATED:20210909T121025
SUMMARY:Ocean Science Meeting (OSM) 2022 - Call for abstracts
LOCATION:Honolulu\, HI\, USA
DESCRIPTION:Abstract and Town Hall/Event submission is open. The submission deadline is
  29 September, 11:59 pm Eastern Daylight Time.\nSouthern Ocean freshening h
 as various sources linking to land ice, sea ice, the atmosphere and ocean d
 ynamics itself. We thus must work across disciplines to fully understand so
 urces and consequences, to be able to detect, attribute and predict. For th
 e Ocean Sciences Meeting 2022 (https://www.aslo.org/osm2022/) we thus invit
 e you to contribute with your work and experience to this discussion in ord
 er to bridge still existing gaps in knowledge, data coverage and model capa
 bilities.\nPlease submit an abstract to\n\nHL16 Sources and consequences of
  Southern Ocean freshening: Toward synthesising observations and modelling\
 n\nThe Southern Ocean is consistently freshening, particularly in the upper
  layers and near the Antarctic coast. Freshening has been attributed to an 
 increase in precipitation, basal melting of ice shelves and enhanced sea-ic
 e melt and export. Freshening has also been observed in the abyssal Antarct
 ic bottom water, formed close to the Antarctic coast and exported globally.
  The exact proportionality is highly uncertain, but all these processes con
 tribute to formation of sea ice through strengthening surface stratificatio
 n, changes in ocean circulation, and sea level rise. Implications for the o
 ceanic heat content and the stability of the Antarctic ice sheet are likely
  but not yet well known. As the climate system continues to warm the relati
 ve magnitude of these processes and associated feedbacks may change leading
  to uncertain impacts on polar and global climate.\nWith this session we ai
 m beyond sharing most recent research and plan for an engaged exchange amon
 g the scientific communities of ocean and cryosphere, modeling and observat
 ions, early career researchers and senior experts to examine the current st
 ate of knowledge on Southern Ocean freshening and discuss future research. 
 We are particularly interested in work closing the gap between observations
  and modelling; this includes coordinated monitoring approaches and targete
 d joint model experiments. We specifically welcome ideas and proposals for 
 highlighting the Southern Ocean in the just starting UN decade of ocean sci
 ence.\n\nAbstract submission is open until 29 September, 11:59 pm EDT at <a
  href="https://osm2022.secure-platform.com/a" target="_blank" rel="noopener
 ">https://osm2022.secure-platform.com/a</a>\n\nLooking forward to your pres
 entation and an exciting discussion\nTorge Martin and Inga Smith\n
X-ALT-DESC;FMTTYPE=text/html:<p><strong>Abstract and Town Hall/Event submission is open. The submission 
 deadline is 29 September, 11:59 pm Eastern Daylight Time.</strong></p><p st
 yle="text-align: justify;">Southern Ocean freshening has various sources li
 nking to land ice, sea ice, the atmosphere and ocean dynamics itself. We th
 us must work across disciplines to fully understand sources and consequence
 s, to be able to detect, attribute and predict. For the <strong><a href="ht
 tps://www.aslo.org/osm2022/" target="_blank" rel="noopener">Ocean Sciences 
 Meeting 2022</a></strong> we thus invite you to contribute with your work a
 nd experience to this discussion in order to bridge still existing gaps in 
 knowledge, data coverage and model capabilities.</p><p style="text-align: j
 ustify;">Please submit an abstract to<br /><br /><strong>HL16 Sources and c
 onsequences of Southern Ocean freshening: Toward synthesising observations 
 and modelling</strong><br /><br />The Southern Ocean is consistently freshe
 ning, particularly in the upper layers and near the Antarctic coast. Freshe
 ning has been attributed to an increase in precipitation, basal melting of 
 ice shelves and enhanced sea-ice melt and export. Freshening has also been 
 observed in the abyssal Antarctic bottom water, formed close to the Antarct
 ic coast and exported globally. The exact proportionality is highly uncerta
 in, but all these processes contribute to formation of sea ice through stre
 ngthening surface stratification, changes in ocean circulation, and sea lev
 el rise. Implications for the oceanic heat content and the stability of the
  Antarctic ice sheet are likely but not yet well known. As the climate syst
 em continues to warm the relative magnitude of these processes and associat
 ed feedbacks may change leading to uncertain impacts on polar and global cl
 imate.<br />With this session we aim beyond sharing most recent research an
 d plan for an engaged exchange among the scientific communities of ocean an
 d cryosphere, modeling and observations, early career researchers and senio
 r experts to examine the current state of knowledge on Southern Ocean fresh
 ening and discuss future research. We are particularly interested in work c
 losing the gap between observations and modelling; this includes coordinate
 d monitoring approaches and targeted joint model experiments. We specifical
 ly welcome ideas and proposals for highlighting the Southern Ocean in the j
 ust starting UN decade of ocean science.<br /><br /><strong>Abstract submis
 sion is open until 29 September, 11:59 pm EDT at <a href="https://osm2022.s
 ecure-platform.com/a" target="_blank" rel="noopener">https://osm2022.secure
 -platform.com/a</a></strong><br /><br />Looking forward to your presentatio
 n and an exciting discussion<br />Torge Martin and Inga Smith</p>
DTSTAMP:20260422T095825Z
DTSTART;TZID=UTC;VALUE=DATE:20220227
DTEND;TZID=UTC;VALUE=DATE:20220305
SEQUENCE:0
TRANSP:OPAQUE
END:VEVENT
END:VCALENDAR