BEGIN:VCALENDAR
VERSION:2.0
PRODID:-//jEvents 2.0 for Joomla//EN
CALSCALE:GREGORIAN
METHOD:PUBLISH
BEGIN:VEVENT
UID:a6a36f7335ef725a888b1850bfabff00
CATEGORIES:Polar Conferences, Meetings and Events
CREATED:20210909T082607
SUMMARY:The 10th Nordic Conference on Plasma Spectrochemistry
LOCATION:Loen\, Norway
DESCRIPTION:The Analytical Section of the Norwegian Chemical Society invites scientists
  and users of science to this 10th Nordic Conference on Plasma Spectrochemi
 stry (http://nordicplasma.com/). We sincerely hope that you will respond po
 sitively to this invitation and call for papers. Please inform your colleag
 ues about this opportunity to share and discuss their recent experiences an
 d to be scientifically updated through a number of \n short courses given b
 y international leading specialists in typical Norwegian informal surroundi
 ngs. We look forward to your attendance at and participation in this scient
 ific event.\nObjectives and Main Topics\nBy contrast to other plasma spectr
 ochemistry meetings, the FREE short courses (2 hours duration) will be offe
 red to all participants during the four day meeting which may be very attra
 ctive to participants to learn about and to be updated on plasma spectroche
 mistry. We are planning to organise 16 short courses, two or three in paral
 lel each day , as part of the conference. This concept is ment to stimulate
  Nordic users of plasma based techniques to learn more about theoretical an
 d practical issues as well as obtain specialists recommendations for method
 s improvements. Thus these short courses are also a unique opportunity for 
 laboratory engineers to be updated.\nThe aim of the conference is to provid
 e a forum to encourage the exchange of ideas and knowledge about recent dev
 elopments and state-of-the-art knowledge in main areas of plasma spectroche
 mistry. The conference will bring together international participants exper
 ienced in fundamental aspects, instrumentation and applications in typical 
 Norwegian informal settings to examine recent progress in this continuing g
 rowing field; approximately 120 participants are expected to attend.\nFunda
 mental aspects and instrumental developments of:\nplasma fundamentals and m
 echanisms\nplasma sources for atomization and excitation in atomic spectrom
 etry and ionization in mass spectrometry\nplasma source atomic emission and
  mass spectrometry\n laser-assisted plasma spectrometry \n plasma source de
 tectors in speciation analysis \n sample preparation, sample introduction a
 nd transport phenomena\nminiaturisation and nanotechnology\nhyphenated and 
 imaging techniques\nApplications of plasma spectrochemistry in the analysis
  of:\nnew materials - nanomaterials\nspeciation analysis\nindustrial produc
 ts - analysis and characterisation \n environmental and occupational pollut
 ants \n food and agriculture products\n aquatic systems \n terrestrial/geol
 ogical materials \n biological/clinical materials/pharmaceutical materials 
 \n reference materials \n radioactive and stable element species\nmetallomi
 cs and biodistribution\nforensic analysis\nfuels/ biofuels/oils\nAn one-pag
 e abstract must reach the Chairman of the Organising Committee by March 31,
  2022\nVenue:\nThe conference venue will be the <a href="https://www.alexan
 dra.no/en/frontpage/" target="_blank" rel="noopener">Hotel Alexandra</a> lo
 cated in the most beautiful Fjord and Glacier Districts of Norway (https://
 www.fjordnorway.com/). The hotel is recognised as one of the best conferenc
 e venues in Norway. We can guarantee that participants will not quickly for
 get the extraordinary beauty &amp; hospitality of this region. The particip
 ants are expected to arrive at the hotel Saturday, June 6, and to travel ho
 me, either Wednesday after lunch or Thursday morning June 11.\nWe would str
 ongly recommend you to arrange your travel to Loen as soon as possible to o
 btain cheapest available flights. The most convenient travel is by plane fr
 om Oslo Gardermoen airport to Sandane and or Ørsta/Volda Hovden airports op
 erated by Widerøe (WF), local airports with hotel transfer service (60 min 
 drive).Vigra, Ålesund airport is operated by SAS and Norwegian (2h45 min tr
 ansfer).\nYngvar Thomassen \n Conference chairman, NIOH, Oslo\n<a href="htt
 p://www.nordicplasma.com" target="_blank" rel="noopener">http://www.nordicp
 lasma.com</a>\n
X-ALT-DESC;FMTTYPE=text/html:<p style="text-align: justify;">The Analytical Section of the Norwegian Che
 mical Society invites scientists and users of science to this <a href="http
 ://nordicplasma.com/" target="_blank" rel="noopener"><strong>10th Nordic Co
 nference on Plasma Spectrochemistry</strong></a>. We sincerely hope that yo
 u will respond positively to this invitation and call for papers. Please in
 form your colleagues about this opportunity to share and discuss their rece
 nt experiences and to be scientifically updated through a number of <br /> 
 short courses given by international leading specialists in typical Norwegi
 an informal surroundings. We look forward to your attendance at and partici
 pation in this scientific event.</p><p style="text-align: justify;"><strong
 >Objectives and Main Topics</strong></p><p style="text-align: justify;">By 
 contrast to other plasma spectrochemistry meetings, the FREE short courses 
 (2 hours duration) will be offered to all participants during the four day 
 meeting which may be very attractive to participants to learn about and to 
 be updated on plasma spectrochemistry. We are planning to organise 16 short
  courses, two or three in parallel each day , as part of the conference. Th
 is concept is ment to stimulate Nordic users of plasma based techniques to 
 learn more about theoretical and practical issues as well as obtain special
 ists recommendations for methods improvements. Thus these short courses are
  also a unique opportunity for laboratory engineers to be updated.</p><p st
 yle="text-align: justify;">The aim of the conference is to provide a forum 
 to encourage the exchange of ideas and knowledge about recent developments 
 and state-of-the-art knowledge in main areas of plasma spectrochemistry. Th
 e conference will bring together international participants experienced in 
 fundamental aspects, instrumentation and applications in typical Norwegian 
 informal settings to examine recent progress in this continuing growing fie
 ld; approximately 120 participants are expected to attend.</p><p style="tex
 t-align: center;"><strong>Fundamental aspects and instrumental developments
  of:</strong></p><p style="text-align: center;">plasma fundamentals and mec
 hanisms<br />plasma sources for atomization and excitation in atomic spectr
 ometry and ionization in mass spectrometry<br />plasma source atomic emissi
 on and mass spectrometry<br /> laser-assisted plasma spectrometry <br /> pl
 asma source detectors in speciation analysis <br /> sample preparation, sam
 ple introduction and transport phenomena<br />miniaturisation and nanotechn
 ology<br />hyphenated and imaging techniques</p><p style="text-align: cente
 r;"><strong>Applications of plasma spectrochemistry in the analysis of:</st
 rong></p><p style="text-align: center;">new materials - nanomaterials<br />
 speciation analysis<br />industrial products - analysis and characterisatio
 n <br /> environmental and occupational pollutants <br /> food and agricult
 ure products<br /> aquatic systems <br /> terrestrial/geological materials 
 <br /> biological/clinical materials/pharmaceutical materials <br /> refere
 nce materials <br /> radioactive and stable element species<br />metallomic
 s and biodistribution<br />forensic analysis<br />fuels/ biofuels/oils</p><
 p style="text-align: justify;"><strong>An one-page abstract must reach the 
 Chairman of the Organising Committee by March 31, 2022</strong></p><p style
 ="text-align: justify;"><strong>Venue:</strong></p><p style="text-align: ju
 stify;">The conference venue will be the <a href="https://www.alexandra.no/
 en/frontpage/" target="_blank" rel="noopener">Hotel Alexandra</a> located i
 n the most beautiful <a href="https://www.fjordnorway.com/" target="_blank"
  rel="noopener">Fjord and Glacier Districts of Norway</a>. The hotel is rec
 ognised as one of the best conference venues in Norway. We can guarantee th
 at participants will not quickly forget the extraordinary beauty &amp; hosp
 itality of this region. The participants are expected to arrive at the hote
 l Saturday, June 6, and to travel home, either Wednesday after lunch or Thu
 rsday morning June 11.</p><p style="text-align: justify;"><em>We would stro
 ngly recommend you to arrange your travel to Loen as soon as possible to ob
 tain cheapest available flights. The most convenient travel is by plane fro
 m Oslo Gardermoen airport to Sandane and or Ørsta/Volda Hovden airports ope
 rated by Widerøe (WF), local airports with hotel transfer service (60 min d
 rive).Vigra, Ålesund airport is operated by SAS and Norwegian </em><em>(2h4
 5 min transfer).</em></p><p style="text-align: justify;">Yngvar Thomassen <
 br /> Conference chairman, NIOH, Oslo</p><p style="text-align: justify;"><s
 trong><a href="http://www.nordicplasma.com" target="_blank" rel="noopener">
 http://www.nordicplasma.com</a></strong></p>
DTSTAMP:20260420T180815Z
DTSTART;TZID=UTC;VALUE=DATE:20220612
DTEND;TZID=UTC;VALUE=DATE:20220616
SEQUENCE:0
TRANSP:OPAQUE
END:VEVENT
END:VCALENDAR