BEGIN:VCALENDAR
VERSION:2.0
PRODID:-//jEvents 2.0 for Joomla//EN
CALSCALE:GREGORIAN
METHOD:PUBLISH
BEGIN:VEVENT
UID:4e5c892f829d326c509d03467f420828
CATEGORIES:Polar Conferences, Meetings and Events
CREATED:20210902T135620
SUMMARY:UArctic Congress 2022 Moscow
LOCATION:Moscow
DESCRIPTION:<p>The<strong> UArctic Congress 2022</strong> takes place in Moscow, Russia
 n Federation <strong>October 4-7 2022</strong>, hosted by <a href="https://
 www.uarctic.org/member-profiles/russia/8558/lomonosov-moscow-state-universi
 ty" target="_blank" rel="noopener" title="Lomonosov Moscow State University
 " data-udi="umb://document/27e76ef5cc9e40f0a9af6062e55b860f">Moscow State U
 niversity</a>.</p><p><strong>Key dates</strong></p><ul><li>September 1 – No
 vember 15 2021 – Call for Sessions</li><li>December 2021 Decisions on accep
 ted sessions</li><li>January 2 -February 15, 2022 – Call for Abstracts</li>
 <li>March 2022 – Registration open, decisions on abstracts</li></ul>
DTSTAMP:20260420T035547Z
DTSTART;TZID=UTC;VALUE=DATE:20221004
DTEND;TZID=UTC;VALUE=DATE:20221008
SEQUENCE:0
TRANSP:OPAQUE
END:VEVENT
END:VCALENDAR