BEGIN:VCALENDAR
VERSION:2.0
PRODID:-//jEvents 2.0 for Joomla//EN
CALSCALE:GREGORIAN
METHOD:PUBLISH
BEGIN:VEVENT
UID:3ed83a7da458b072cbbb294cc313a1c8
CATEGORIES:Polar Conferences, Meetings and Events
CREATED:20210902T122033
SUMMARY:Ice Core Early Career Researcher Workshop - Registration deadline September 30th
LOCATION:Salt Lake City and Online
DESCRIPTION:We are delighted to announce the first ever Ice Core Early Career Researche
 rs Workshop (ICECReW) sponsored by the U.S. Drilling Program!\n\nICECReW is
  a professional development workshop for early career researchers. It will 
 be held both in-person and online January 5-8, 2022 at the University of Ut
 ah in Salt Lake City, UT.\nThe workshop is free to attend. Travel stipends 
 and child care are available. ICECReW is intended for early-career research
 ers whose work contributes to the drilling, processing, or interpretation o
 f ice core data. We hope to attract a diverse group of participants who may
  not have extensive experience working with ice core data. \nParticipants w
 ill connect with potential collaborators, learn about opportunities of futu
 re ice core drilling and research efforts, learn how to utilize resources a
 vailable from past ice core projects, and engage in career development acti
 vities. Participants will also work together to develop two synthesis paper
 s.\nDeadline for registration is September 30th. Participants must be affil
 iated with a U.S. institution to be eligible. Please see the workshop websi
 te (https://icedrill.org/meetings/ice-core-early-career-researchers-worksho
 p-icecrew) for additional information.\nICECReW committee,\nSummer Rupper, 
 Bess Koffman, T.J. Fudge, Jess Badgeley, Asmita Banerjee, and Katie Wendt\n
X-ALT-DESC;FMTTYPE=text/html:<p dir="ltr" style="text-align: justify;"><span style="font-size: small;">W
 e are delighted to announce the first ever <strong>Ice Core Early Career Re
 searchers Workshop (ICECReW)</strong> sponsored by the U.S. Drilling Progra
 m!</span><span style="font-size: small;"></span><br /><span style="font-siz
 e: small;"></span></p><div class="gmail_default"><p dir="ltr" style="text-a
 lign: justify;"><span style="font-size: small;"><strong>ICECReW</strong> is
  a professional development workshop for early career researchers. It will 
 be held both in-person and online <strong>January 5-8, 2022</strong> at the
  University of Utah in Salt Lake City, UT.</span></p><span style="font-size
 : small;"></span><span style="font-size: small;">The workshop is free to at
 tend. Travel stipends and child care are available.&nbsp;</span><span style
 ="font-size: small;"></span><p dir="ltr" style="text-align: justify;"><span
  style="font-size: small;">ICECReW is intended for early-career researchers
  whose work contributes to the drilling, processing, or interpretation of i
 ce core data. We hope to attract a diverse group of participants who may no
 t have extensive experience working with ice core data.&nbsp;</span></p><p 
 dir="ltr" style="text-align: justify;"><span style="font-size: small;">Part
 icipants will connect with potential collaborators, learn about opportuniti
 es of future ice core drilling and research efforts, learn how to utilize r
 esources available from past ice core projects, and engage in career develo
 pment activities. Participants will also work together to develop two synth
 esis papers.</span></p><p dir="ltr" style="text-align: justify;"><span styl
 e="font-size: small;"><strong>Deadline for registration is September 30th</
 strong>. Participants must be affiliated with a U.S. institution to be elig
 ible. Please see the <a href="https://icedrill.org/meetings/ice-core-early-
 career-researchers-workshop-icecrew" target="_blank" rel="noopener">worksho
 p website</a> for additional information.</span></p><span style="font-size:
  small;"></span><p dir="ltr" style="text-align: justify;"><span style="font
 -size: small;">ICECReW committee,</span></p><p dir="ltr" style="text-align:
  justify;"><span style="font-size: small;">Summer Rupper, Bess Koffman, T.J
 . Fudge, Jess Badgeley, Asmita Banerjee, and Katie Wendt</span></p></div>
DTSTAMP:20260421T021328Z
DTSTART;TZID=UTC;VALUE=DATE:20220105
DTEND;TZID=UTC;VALUE=DATE:20220109
SEQUENCE:0
TRANSP:OPAQUE
END:VEVENT
END:VCALENDAR