BEGIN:VCALENDAR
VERSION:2.0
PRODID:-//jEvents 2.0 for Joomla//EN
CALSCALE:GREGORIAN
METHOD:PUBLISH
BEGIN:VEVENT
UID:874cef2f9eba959c52de3bed67f97fbe
CATEGORIES:Polar Online Events
CREATED:20210824T125518
SUMMARY:North Pacific Arctic Conference 2021 Science, Technology and the Path Forward for a New Arctic
LOCATION:Online
DESCRIPTION:The East-West Center and the Korea Maritime Institute are pleased to announ
 ce the 11th North Pacific Arctic Conference, Science, Technology and the Pa
 th Forward for a New Arctic, which will be held October 31-November 6, 2021
 , virtually on Zoom. \n \n The innovative conference provides a venue for o
 ff-the-record engagement among policymakers/practitioners and scientists/an
 alysists regarding Arctic issues of mutual interest to leading North Pacifi
 c Arctic states (Canada, Russia and the United States) and non-Arctic State
 s (China, Japan and South Korea).\nWebpage: https://www.eastwestcenter.org/
 research/research-projects/north-pacific-arctic-conference\n \n An importan
 t goal of NPAC is to attract and involve the next generation of policy, sci
 ence, and practice leaders: explicitly, to solicit the contributions of kno
 wledgeable early to mid-career individuals who will become leaders in addre
 ssing the Arctic science and policy issues emerging in global affairs. \n \
 nIn support of this goal, funds are available to support the participation 
 of a small number of competitive Early-Career Arctic researchers, policy ma
 kers and practitioners as NPAC 2021 Fellows.\n \n Those chosen this year wi
 ll be the fourth cohort of NPAC Fellows. They will join a group of world cl
 ass international researchers and policy makers in addressing contemporary 
 issues affecting the Arctic. For further information please see the <a href
 ="https://www.eastwestcenter.org/scholarships-fellowships/north-pacific-arc
 tic-conference-npac-fellowship" target="_blank" rel="noopener">NPAC Fellow’
 s webpage</a>.\n\n For further information or questions, please contact Mr.
  Jaymen Laupola, East-West Center Senior Program Officer ( (mailto:laupolaj
 @eastwestcenter.org)This email address is being protected from spambots. Yo
 u need JavaScript enabled to view it.
				document.getElementById('cloakd71
 bc210a546fc8dc3043587cbfb3228').innerHTML = '';
				var prefix = '&#109;a' 
 + 'i&#108;' + '&#116;o';
				var path = 'hr' + 'ef' + '=';
				var addyd71b
 c210a546fc8dc3043587cbfb3228 = 'l&#97;&#117;p&#111;l&#97;j' + '&#64;';
				
 addyd71bc210a546fc8dc3043587cbfb3228 = addyd71bc210a546fc8dc3043587cbfb3228
  + '&#101;&#97;stw&#101;stc&#101;nt&#101;r' + '&#46;' + '&#111;rg';
				var
  addy_textd71bc210a546fc8dc3043587cbfb3228 = 'l&#97;&#117;p&#111;l&#97;j' +
  '&#64;' + '&#101;&#97;stw&#101;stc&#101;nt&#101;r' + '&#46;' + '&#111;rg';
 document.getElementById('cloakd71bc210a546fc8dc3043587cbfb3228').innerHTML 
 += '<a ' + path + '\'' + prefix + ':' + addyd71bc210a546fc8dc3043587cbfb322
 8 + '\'>'+addy_textd71bc210a546fc8dc3043587cbfb3228+'';
		).\n
X-ALT-DESC;FMTTYPE=text/html:<p style="text-align: justify;">The East-West Center and the Korea Maritime
  Institute are pleased to announce the <strong>11th&nbsp;North Pacific Arct
 ic Conference, Science, Technology and the Path Forward for a New Arctic</s
 trong>, which will be held <strong>October 31-November 6, 2021, virtually o
 n Zoom</strong>.&nbsp;<br /> <br /> The innovative conference provides a ve
 nue for off-the-record engagement among policymakers/practitioners and scie
 ntists/analysists regarding Arctic issues of mutual interest to leading Nor
 th Pacific Arctic states (Canada, Russia and the United States) and non-Arc
 tic States (China, Japan and South Korea).</p><p style="text-align: justify
 ;">Webpage: <a href="https://www.eastwestcenter.org/research/research-proje
 cts/north-pacific-arctic-conference" target="_blank" rel="noopener">https:/
 /www.eastwestcenter.org/research/research-projects/north-pacific-arctic-con
 ference</a><br /> <br /> An important goal of NPAC is to attract and involv
 e the next generation of policy, science, and practice leaders: explicitly,
  to solicit the contributions of knowledgeable early to mid-career individu
 als who will become leaders in addressing the Arctic science and policy iss
 ues emerging in global affairs.&nbsp;<br /> <br />In support of this goal, 
 funds are available to support the participation of a small number of compe
 titive Early-Career Arctic researchers, policy makers and practitioners as 
 NPAC 2021 Fellows.<br /> <br /> Those chosen this year will be the fourth c
 ohort of NPAC Fellows. They will join a group of world class international 
 researchers and policy makers in addressing contemporary issues affecting t
 he Arctic. For further information please see the <a href="https://www.east
 westcenter.org/scholarships-fellowships/north-pacific-arctic-conference-npa
 c-fellowship" target="_blank" rel="noopener">NPAC Fellow’s webpage</a>.</p>
 <p style="text-align: justify;"><br /> For further information or questions
 , please contact Mr. Jaymen Laupola, East-West Center Senior Program Office
 r (<a href="mailto:laupolaj@eastwestcenter.org" target="_blank"></a><span i
 d="cloakd71bc210a546fc8dc3043587cbfb3228">This email address is being prote
 cted from spambots. You need JavaScript enabled to view it.</span><script t
 ype='text/javascript'>
				document.getElementById('cloakd71bc210a546fc8dc3
 043587cbfb3228').innerHTML = '';
				var prefix = '&#109;a' + 'i&#108;' + '
 &#116;o';
				var path = 'hr' + 'ef' + '=';
				var addyd71bc210a546fc8dc30
 43587cbfb3228 = 'l&#97;&#117;p&#111;l&#97;j' + '&#64;';
				addyd71bc210a54
 6fc8dc3043587cbfb3228 = addyd71bc210a546fc8dc3043587cbfb3228 + '&#101;&#97;
 stw&#101;stc&#101;nt&#101;r' + '&#46;' + '&#111;rg';
				var addy_textd71bc
 210a546fc8dc3043587cbfb3228 = 'l&#97;&#117;p&#111;l&#97;j' + '&#64;' + '&#1
 01;&#97;stw&#101;stc&#101;nt&#101;r' + '&#46;' + '&#111;rg';document.getEle
 mentById('cloakd71bc210a546fc8dc3043587cbfb3228').innerHTML += '<a ' + path
  + '\'' + prefix + ':' + addyd71bc210a546fc8dc3043587cbfb3228 + '\'>'+addy_
 textd71bc210a546fc8dc3043587cbfb3228+'<\/a>';
		</script>).</p>
DTSTAMP:20260420T015239Z
DTSTART;TZID=UTC;VALUE=DATE:20211031
DTEND;TZID=UTC;VALUE=DATE:20211107
SEQUENCE:0
TRANSP:OPAQUE
END:VEVENT
END:VCALENDAR