BEGIN:VCALENDAR
VERSION:2.0
PRODID:-//jEvents 2.0 for Joomla//EN
CALSCALE:GREGORIAN
METHOD:PUBLISH
BEGIN:VEVENT
UID:e3380edc5409e8fd02b2479377ee2049
CATEGORIES:Polar Conferences, Meetings and Events
CREATED:20160419T191131
SUMMARY:Arctic Frontiers 2017
LOCATION:Tromsø\, Norway
DESCRIPTION:Arctic Frontiers is an international arena on sustainable development in th
 e Arctic. The conference addresses the management of opportunities and chal
 lenges to achieve viable economic growth with societal and environmental su
 stainability.\nArctic Frontiers brings academia, government and business to
 gether to create a firmer foundation for decision-making and sustainable ec
 onomic development in the Arctic. Join the Arctic Frontiers conference prep
 aring the new Arctic future.\nThe conference takes place the fourth week of
  January in the Norwegian city of Tromsø, known as the Gateway to the Arcti
 c.\nMore information: http://www.arcticfrontiers.com/\n
X-ALT-DESC;FMTTYPE=text/html:<p>Arctic Frontiers is an international arena on sustainable development in
  the Arctic. The conference addresses the management of opportunities and c
 hallenges to achieve viable economic growth with societal and environmental
  sustainability.</p><p>Arctic Frontiers brings academia, government and bus
 iness together to create a firmer foundation for decision-making and sustai
 nable economic development in the Arctic. Join the Arctic Frontiers confere
 nce preparing the new Arctic future.</p><p>The conference takes place the f
 ourth week of January in the Norwegian city of Tromsø, known as the Gateway
  to the Arctic.</p><p>More information: <a href="http://www.arcticfrontiers
 .com/">http://www.arcticfrontiers.com/</a></p>
DTSTAMP:20260422T024649Z
DTSTART;TZID=UTC;VALUE=DATE:20170122
DTEND;TZID=UTC;VALUE=DATE:20170128
SEQUENCE:0
TRANSP:OPAQUE
END:VEVENT
END:VCALENDAR