BEGIN:VCALENDAR
VERSION:2.0
PRODID:-//jEvents 2.0 for Joomla//EN
CALSCALE:GREGORIAN
METHOD:PUBLISH
BEGIN:VEVENT
UID:47450d5d4cf2782c05b11f64603ba515
CATEGORIES:Polar Conferences, Meetings and Events
CREATED:20210824T125004
SUMMARY:Multi-annual to Decadal Climate Predictability in the North Atlantic-Arctic
LOCATION:Copenhagen and Online
DESCRIPTION:Please find below information on the final conference organised by Blue-Act
 ion on Multi-annual to Decadal Climate Predictability in the North Atlantic
 -Arctic.\nThe conference is to be held on the 20-22 September 2021 live in 
 Copenhagen and online via MS Teams. \nRegistrations to the workshop are ope
 n until the 10 September.\nIf you have not registered yet, please register 
 on Eventbrite:\n https://www.eventbrite.dk/e/multi-annual-to-decadal-climat
 e-predictability-in-the-north-atlantic-arctic-tickets-163494415197\n
X-ALT-DESC;FMTTYPE=text/html:<p style="text-align: justify;">Please find below information on the final 
 conference organised by Blue-Action on <strong>Multi-annual to Decadal Clim
 ate Predictability in the North Atlantic-Arctic.</strong></p><p style="text
 -align: justify;">The conference is to be held on the <strong>20-22 Septemb
 er 2021 live in Copenhagen and online via MS Teams</strong>.&nbsp;</p><p st
 yle="text-align: justify;"><strong>Registrations to the workshop are open u
 ntil the 10 September.</strong></p><p style="text-align: justify;">If you h
 ave not registered yet, please register on Eventbrite:<br /> <a href="https
 ://www.eventbrite.dk/e/multi-annual-to-decadal-climate-predictability-in-th
 e-north-atlantic-arctic-tickets-163494415197" target="_blank" rel="noopener
 ">https://www.eventbrite.dk/e/multi-annual-to-decadal-climate-predictabilit
 y-in-the-north-atlantic-arctic-tickets-163494415197</a></p>
DTSTAMP:20260423T163626Z
DTSTART;TZID=UTC;VALUE=DATE:20210920
DTEND;TZID=UTC;VALUE=DATE:20210923
SEQUENCE:0
TRANSP:OPAQUE
END:VEVENT
END:VCALENDAR