BEGIN:VCALENDAR
VERSION:2.0
PRODID:-//jEvents 2.0 for Joomla//EN
CALSCALE:GREGORIAN
METHOD:PUBLISH
BEGIN:VEVENT
UID:6f4961f90b21a54750706ed7d37a3a60
CATEGORIES:Polar Conferences, Meetings and Events
CREATED:20210819T094022
SUMMARY:Norwegian Environmental Chemistry Symposium
LOCATION:Geilo\, Norway
DESCRIPTION:The Norwegian Environmental Chemistry Symposium Series builds upon a long l
 asting tradition of Norwegian conferences on environmental chemistry. After
  pausing of the conferences since 2013, they resurged as a continuous meeti
 ng series with NECS 2020 held in September 2020 in Loen, Norway. The new sy
 mposium series is organized under the auspices of the Norwegian Chemical So
 ciety´s Division for Analytical Chemistry. \nCatch the pulse of environment
 al chemistry at Geilo in 2022 \nThis symposium is addressing leading expert
 s, authorities, regulators and scientists within all aspects of environment
 al chemistry. The symposium will provide an interdisciplinary platform for 
 students, academic, industrial researchers and public managers to present a
 nd discuss the most recent advancements, trends and concerns as well as pra
 ctical challenges and solutions in environmental chemistry. \nEnvironmental
  researchers and managers will be invited for plenary lectures to address t
 he past, present and future issues of environmental chemistry. We invite yo
 u to provide an oral platform or poster presentation at this symposium. We 
 sincerely hope that you will respond positively to this invitation and call
  for papers. Please inform your colleagues about this opportunity to share 
 and discuss recent research results and to get scientifically updated in a 
 typical Norwegian informal setting. We look forward to your active particip
 ation in this scientific event. Following tradition, there will be time for
  outdoor activities during a three hours lunch break. \nThe symposium invit
 es contributions on characterization, analysis, monitoring, prevention, tre
 atment and control of anthropogenic and naturally occurring chemical contam
 inants across all environmental matrices as well as related natural element
  cycling processes. Contributions that address the impact of chemical compo
 unds on ecosystems and human health are appreciated. \nSpecial attention wi
 ll be given to: \n\n - Life cycle assessment \n - Material flow analysis \n
  - Environmental decision making \n - Biogeochemistry in the Anthropocene \
 n - Risk assessments  \n \n\n - Trends in boreal and polar environments \n 
 - Climate change and green energy \n - Human exposure and health \n - Green
  and sustainable chemistry \n - Ambient and workplace air pollutants  \n \n
  Register at our website www.envirochem.no and send a one-page abstract to 
 the Chairman by 3 January 2022. \n Visit our website for more information w
 ww.envirochem.no \n
X-ALT-DESC;FMTTYPE=text/html:<p>The Norwegian Environmental Chemistry Symposium Series builds upon a lon
 g lasting tradition of Norwegian conferences on environmental chemistry. Af
 ter pausing of the conferences since 2013, they resurged as a continuous me
 eting series with NECS 2020 held in September 2020 in Loen, Norway. The new
  symposium series is organized under the auspices of the Norwegian Chemical
  Society´s Division for Analytical Chemistry.&nbsp;</p><p><strong>Catch the
  pulse of environmental chemistry at Geilo in 2022&nbsp;</strong></p><p>Thi
 s symposium is addressing leading experts, authorities, regulators and scie
 ntists within all aspects of environmental chemistry. The symposium will pr
 ovide an interdisciplinary platform for students, academic, industrial rese
 archers and public managers to present and discuss the most recent advancem
 ents, trends and concerns as well as practical challenges and solutions in 
 environmental chemistry.&nbsp;</p><p>Environmental researchers and managers
  will be invited for plenary lectures to address the past, present and futu
 re issues of environmental chemistry. We invite you to provide an oral plat
 form or poster presentation at this symposium. We sincerely hope that you w
 ill respond positively to this invitation and call for papers. Please infor
 m your colleagues about this opportunity to share and discuss recent resear
 ch results and to get scientifically updated in a typical Norwegian informa
 l setting. We look forward to your active participation in this scientific 
 event. Following tradition, there will be time for outdoor activities durin
 g a three hours lunch break.&nbsp;</p><p>The symposium invites contribution
 s on characterization, analysis, monitoring, prevention, treatment and cont
 rol of anthropogenic and naturally occurring chemical contaminants across a
 ll environmental matrices as well as related natural element cycling proces
 ses. Contributions that address the impact of chemical compounds on ecosyst
 ems and human health are appreciated.&nbsp;</p><table cellspacing="0" cellp
 adding="0" align="center"><tbody><tr><td valign="top"><p><strong>Special at
 tention will be given to:&nbsp;</strong></p><ul><li>Life cycle assessment&n
 bsp;</li><li>Material flow analysis&nbsp;</li><li>Environmental decision ma
 king&nbsp;</li><li>Biogeochemistry in the Anthropocene&nbsp;</li><li>Risk a
 ssessments&nbsp;</li></ul><p>&nbsp;</p></td><td valign="top"><p>&nbsp;</p><
 ul><li>Trends in boreal and polar environments&nbsp;</li><li>Climate change
  and green energy&nbsp;</li><li>Human exposure and health&nbsp;</li><li>Gre
 en and sustainable chemistry&nbsp;</li><li>Ambient and workplace air pollut
 ants&nbsp;</li></ul><p>&nbsp;</p></td></tr></tbody></table><p>&nbsp;</p><p>
 <strong>&nbsp;Register</strong> at our website www.envirochem.no and send a
  one-page abstract to the Chairman <strong>by 3 January 2022</strong>.&nbsp
 ;</p><p>&nbsp;<strong>Visit our website for more information www.envirochem
 .no&nbsp;</strong></p>
CONTACT:Yngvar Thomassen, E-mail: This email address is being protected from spambots. You need JavaScript enabled to view it.
				document.getElementById('cloak4ce1b8240d01417714ecc886a16cb992').innerHTML = '';
				var prefix = '&#109;a' + 'i&#108;' + '&#116;o';
				var path = 'hr' + 'ef' + '=';
				var addy4ce1b8240d01417714ecc886a16cb992 = 'Yngv&#97;r.Th&#111;m&#97;ss&#101;n' + '&#64;';
				addy4ce1b8240d01417714ecc886a16cb992 = addy4ce1b8240d01417714ecc886a16cb992 + 'st&#97;m&#105;' + '&#46;' + 'n&#111;';
				var addy_text4ce1b8240d01417714ecc886a16cb992 = 'Yngv&#97;r.Th&#111;m&#97;ss&#101;n' + '&#64;' + 'st&#97;m&#105;' + '&#46;' + 'n&#111;';document.getElementById('cloak4ce1b8240d01417714ecc886a16cb992').innerHTML += '<a ' + path + '\'' + prefix + ':' + addy4ce1b8240d01417714ecc886a16cb992 + '\'>'+addy_text4ce1b8240d01417714ecc886a16cb992+'';
		, Tel +47-23 19 53 20, Mobile +47-995 10 521
DTSTAMP:20260421T004607Z
DTSTART;TZID=UTC;VALUE=DATE:20220131
DTEND;TZID=UTC;VALUE=DATE:20220203
SEQUENCE:0
TRANSP:OPAQUE
END:VEVENT
END:VCALENDAR