BEGIN:VCALENDAR
VERSION:2.0
PRODID:-//jEvents 2.0 for Joomla//EN
CALSCALE:GREGORIAN
METHOD:PUBLISH
BEGIN:VEVENT
UID:c355dcfec6a7be51fa22f40829be1229
CATEGORIES:Polar Conferences, Meetings and Events
CREATED:20210802T122014
SUMMARY:3rd International conference on Snow hydrology - Abstract submission open until 15th October
LOCATION:Grenoble\, France
DESCRIPTION:3rd International conference on Snow hydrology - Snow Hydro 2022 (https://s
 nowhydro2022.sciencesconf.org/), Feb. 1-4, Grenoble, France\n***Call for ab
 stracts***\nSubmission of abstracts for SnowHydro 2022 is now open until Oc
 tober-15th 2021.We solicit abstracts on all aspects of snow hydrology witho
 ut predefining thematic sessions. A program will be organized into topical 
 blocks based on the received abstracts. SnowHydro 2022 will also include po
 ster sessions to encourage focused research discussions and networking. Abs
 tracts can be submitted via the conference webpage using the <a href="https
 ://snowhydro2022.sciencesconf.org/index/unauthorized" target="_blank" rel="
 noopener">following link</a> (please create an account via the login button
 ). Please note that the adjoint SHF annual meeting with a session on permaf
 rost and glaciers will issue a separate call for abstracts later.- - - - - 
 - - - - - - - - - - - - - - - - - - - - - - - - - - - - - - - - - - - - - -
  - - - - - - - - - - -\nSnowHydro 2022 will provide an exceptional opportun
 ity to discuss recent advances in all aspects of snow hydrology in a dedica
 ted conference setting, including snow cover processes, distribution dynami
 cs, model development, data assimilation, operational snowmelt forecasting,
  remote sensing of snow, climate change effects on snow water resources, sn
 ow vegetation interactions, and ecohydrology. It is the event to meet your 
 international peers and exchange latest ideas in a focused and informal set
 ting. Following on from the two previous meetings in 2018 and 2020, SnowHyd
 ro 2022 will take place next February in Grenoble, France in the foothills 
 of the Alps not far from the famous Mont-Blanc.\n- - - - - - - - - - - - - 
 - - - - - - - - - - - - - - - - - - - - - - - - - - - - - - - - - - - - - -
  - - -\nAt a glance\nFormat: in-person meeting if COVID-19 conditions permi
 tting. We greatly value networking via informal discussions and the exchang
 e of ideas throughout the conference, and will only consider a virtual form
 at if required.\nProgram: days #1 to #3 will feature dedicated oral and pos
 ter sessions related to the above topics, with no concurrent sessions. An o
 ptional field excursion on day #4 will be organized.\nAdjoint event: the an
 nual meeting of the local glacier-snow-permafrost section of the French Hyd
 rotechnics Society (SHF) will be held as part of SnowHydro 2022, with speci
 fic permafrost and glacier topics integrated into the program on day #3 (a 
 separate announcement will follow).\nExcursion: an excursion on day #4 will
  take you to Chamonix and the famous Aiguille du Midi cable car with a fant
 astic view on Mont-Blanc and its glaciers !\nVenue: hosted by the Institut 
 National de Recherche pour l’Agriculture, l’alimentation et l’Environnement
  (INRAE), the conference will take place in the historic building of the in
 stitute on Saint-Martin d'Hères campus near Grenoble, France.\nCall for abs
 tracts: submission of abstracts opens on September 1st. The program will be
  announced and the registration opened on November 1st. This tight timeline
  is intentional to have a better understanding of the COVID-19 conditions a
 t that time to allow adjustments of the meeting format if necessary.\nOrgan
 izers: SnowHydro 2022 is jointly organized by the International Commission 
 on Snow and Ice Hydrology (ICSIH) of the International Association of Hydro
 logical Sciences (IAHS), and the local research institutes in Grenoble invo
 lved with snow hydrology, which are the Centre d’Etudes de la Neige (CEN), 
 the Institut des Géosciences de l’Environnement (IGE), and the Institut Nat
 ional de Recherche pour l’Agriculture, l’alimentation et l’Environnement (I
 NRAE).\n- - - - - - - - - - - - - - - - - - - - - - - - - - - - - - - - - -
  - - - - - - - - - - - - - - - - - - - -\nImportant dates\nAug-1 2021: firs
 t circular / save the date\nSep-1 2021: second circular / call for abstract
 s / submission of abstracts opens\nOct-15 2021: submission of abstracts end
 s\nNov-1 2021: program will be announced / registration starts\nDec-31 2021
 : registration ends\nFeb-1 2022: begin of conference\n- - - - - - - - - - -
  - - - - - - - - - - - - - - - - - - - - - - - - - - - - - - - - - - - - - 
 - - - - - -\nConference webpage\nFor more information visit https://snowhyd
 ro2022.sciencesconf.org/\n
X-ALT-DESC;FMTTYPE=text/html:<p style="text-align: justify;"><strong>3rd International conference on Sno
 w hydrology - <a href="https://snowhydro2022.sciencesconf.org/" target="_bl
 ank" rel="noopener">Snow Hydro 2022</a>, Feb. 1-4, Grenoble, France</strong
 ></p><p style="text-align: justify;">***<strong>Call for abstracts***</stro
 ng></p><div style="text-align: justify;">Submission of abstracts for <stron
 g>SnowHydro 2022 is now open until October-15th 2021.</strong></div><div st
 yle="text-align: justify;">We solicit abstracts on all aspects of snow hydr
 ology without predefining thematic sessions. A program will be organized in
 to topical blocks based on the received abstracts. SnowHydro 2022 will also
  include poster sessions to encourage focused research discussions and netw
 orking. Abstracts can be submitted via the conference webpage using the <a 
 href="https://snowhydro2022.sciencesconf.org/index/unauthorized" target="_b
 lank" rel="noopener">following link</a> (please create an account via the l
 ogin button). Please note that the adjoint SHF annual meeting with a sessio
 n on permafrost and glaciers will issue a separate call for abstracts later
 .</div><p style="text-align: justify;">- - - - - - - - - - - - - - - - - - 
 - - - - - - - - - - - - - - - - - - - - - - - - - - - - - - - - - - - -</p>
 <p style="text-align: justify;"><strong>SnowHydro 2022</strong> will provid
 e an exceptional opportunity to discuss recent advances in all aspects of s
 now hydrology in a dedicated conference setting, including snow cover proce
 sses, distribution dynamics, model development, data assimilation, operatio
 nal snowmelt forecasting, remote sensing of snow, climate change effects on
  snow water resources, snow vegetation interactions, and ecohydrology. It i
 s the event to meet your international peers and exchange latest ideas in a
  focused and informal setting. Following on from the two previous meetings 
 in 2018 and 2020, SnowHydro 2022 will take place next February in Grenoble,
  France in the foothills of the Alps not far from the famous Mont-Blanc.</p
 ><p style="text-align: justify;">- - - - - - - - - - - - - - - - - - - - - 
 - - - - - - - - - - - - - - - - - - - - - - - - - - - - - - - - -</p><p sty
 le="text-align: justify;">At a glance</p><p style="text-align: justify;"><s
 trong>Format</strong>: in-person meeting if COVID-19 conditions permitting.
  We greatly value networking via informal discussions and the exchange of i
 deas throughout the conference, and will only consider a virtual format if 
 required.</p><p style="text-align: justify;"><strong>Program</strong>: days
  #1 to #3 will feature dedicated oral and poster sessions related to the ab
 ove topics, with no concurrent sessions. An optional field excursion on day
  #4 will be organized.</p><p style="text-align: justify;"><strong>Adjoint e
 vent:</strong> the annual meeting of the local glacier-snow-permafrost sect
 ion of the French Hydrotechnics Society (SHF) will be held as part of SnowH
 ydro 2022, with specific permafrost and glacier topics integrated into the 
 program on day #3 (a separate announcement will follow).</p><p style="text-
 align: justify;"><strong>Excursion</strong>: an excursion on day #4 will ta
 ke you to Chamonix and the famous Aiguille du Midi cable car with a fantast
 ic view on Mont-Blanc and its glaciers !</p><p style="text-align: justify;"
 ><strong>Venue</strong>: hosted by the Institut National de Recherche pour 
 l’Agriculture, l’alimentation et l’Environnement (INRAE), the conference wi
 ll take place in the historic building of the institute on Saint-Martin d'H
 ères campus near Grenoble, France.</p><p style="text-align: justify;"><stro
 ng>Call for abstracts</strong>: <strong>submission of abstracts opens on Se
 ptember 1st</strong>. The program will be announced and the registration op
 ened on November 1st. This tight timeline is intentional to have a better u
 nderstanding of the COVID-19 conditions at that time to allow adjustments o
 f the meeting format if necessary.</p><p style="text-align: justify;"><stro
 ng>Organizers</strong>: SnowHydro 2022 is jointly organized by the Internat
 ional Commission on Snow and Ice Hydrology (ICSIH) of the International Ass
 ociation of Hydrological Sciences (IAHS), and the local research institutes
  in Grenoble involved with snow hydrology, which are the Centre d’Etudes de
  la Neige (CEN), the Institut des Géosciences de l’Environnement (IGE), and
  the Institut National de Recherche pour l’Agriculture, l’alimentation et l
 ’Environnement (INRAE).</p><p style="text-align: justify;">- - - - - - - - 
 - - - - - - - - - - - - - - - - - - - - - - - - - - - - - - - - - - - - - -
  - - - - - - - -</p><p style="text-align: justify;"><strong>Important dates
 </strong></p><p style="text-align: justify;">Aug-1 2021: first circular / s
 ave the date</p><p style="text-align: justify;">Sep-1 2021: second circular
  / call for abstracts / submission of abstracts opens</p><p style="text-ali
 gn: justify;">Oct-15 2021: submission of abstracts ends</p><p style="text-a
 lign: justify;">Nov-1 2021: program will be announced / registration starts
 </p><p style="text-align: justify;">Dec-31 2021: registration ends</p><p st
 yle="text-align: justify;">Feb-1 2022: begin of conference</p><p style="tex
 t-align: justify;">- - - - - - - - - - - - - - - - - - - - - - - - - - - - 
 - - - - - - - - - - - - - - - - - - - - - - - - - -</p><p style="text-align
 : justify;">Conference webpage</p><p style="text-align: justify;">For more 
 information visit <a href="https://snowhydro2022.sciencesconf.org/" target=
 "_blank" rel="noopener">https://snowhydro2022.sciencesconf.org/</a></p>
DTSTAMP:20260421T022802Z
DTSTART;TZID=UTC;VALUE=DATE:20220201
DTEND;TZID=UTC;VALUE=DATE:20220205
SEQUENCE:0
TRANSP:OPAQUE
END:VEVENT
END:VCALENDAR