BEGIN:VCALENDAR
VERSION:2.0
PRODID:-//jEvents 2.0 for Joomla//EN
CALSCALE:GREGORIAN
METHOD:PUBLISH
BEGIN:VEVENT
UID:8280ff4cfa1ce2282d978fcb18c94305
CATEGORIES:Polar Conferences, Meetings and Events
CREATED:20210629T125321
SUMMARY:Arctic Frontiers 2022 "Pathways" - Abstract submission deadline 22 September 2021
LOCATION:Tromsø\, Norway
DESCRIPTION:Arctic Frontiers conference entitled "Pathways" will take place on 31 Janua
 ry - 3 February 2022. On behalf of the Arctic Frontiers Session Committees,
  we have great pleasure in inviting you to submit one or more abstracts to 
 any of the following five science sessions:\n\n - Pan-Arctic Infrastructure
  Development\n - Food from the Ocean and Ocean Science for Sustainable Deve
 lopment – Bridging the UN Decades\n - Arctic Coasts in Transition\n - The A
 rctic, ocean conflicts, and pathways to sustainability\n - Experiences from
  the science-policy interface in the ArcticTentatively, there will be an op
 portunity to contribute to several publications (special issues and a book 
 volume) in conjunction with the sessions. For more details, visit  (https:/
 /www.arcticfrontiers.com/pillar/science/)<a href="https://www.arcticfrontie
 rs.com/pillar/science/" target="_blank" rel="noopener">https://www.arcticfr
 ontiers.com/pillar/science/</a>.\nThe online abstract submission system is 
 open. The new submission deadline is 22 September 2021.\n
X-ALT-DESC;FMTTYPE=text/html:<p style="text-align: justify;">Arctic Frontiers conference entitled "Pathw
 ays" will take place on <strong>31 January - 3 February 2022</strong>. On b
 ehalf of the Arctic Frontiers Session Committees, we have great pleasure in
  inviting you to submit one or more abstracts to any of the following five 
 science sessions:</p><ul style="text-align: justify;"><li>Pan-Arctic Infras
 tructure Development</li><li>Food from the Ocean and Ocean Science for Sust
 ainable Development – Bridging the UN Decades</li><li>Arctic Coasts in Tran
 sition</li><li>The Arctic, ocean conflicts, and pathways to sustainability<
 /li><li>Experiences from the science-policy interface in the Arctic</li></u
 l><p style="text-align: justify;">Tentatively, there will be an opportunity
  to contribute to several publications (special issues and a book volume) i
 n conjunction with the sessions. For more details, visit <a href="https://w
 ww.arcticfrontiers.com/pillar/science/" target="_blank" rel="noopener"></a>
 <a href="https://www.arcticfrontiers.com/pillar/science/" target="_blank" r
 el="noopener">https://www.arcticfrontiers.com/pillar/science/</a>.</p><p st
 yle="text-align: justify;"><strong>The online abstract submission system is
  open. The new submission deadline is 22 September 2021.</strong></p>
DTSTAMP:20260421T021327Z
DTSTART;TZID=UTC;VALUE=DATE:20220131
DTEND;TZID=UTC;VALUE=DATE:20220204
SEQUENCE:0
TRANSP:OPAQUE
END:VEVENT
END:VCALENDAR