BEGIN:VCALENDAR
VERSION:2.0
PRODID:-//jEvents 2.0 for Joomla//EN
CALSCALE:GREGORIAN
METHOD:PUBLISH
BEGIN:VEVENT
UID:7ff8ae746d2852d50b5014932a49b07c
CATEGORIES:Polar Online Events
CREATED:20210615T080913
SUMMARY:Webinar: Arctic Energy Office Program Manager Chat
LOCATION:Online
DESCRIPTION:On June 30, 8am AKT / 12pm ET, join IARPC for a webinar with the Department
  of Energy's Arctic Energy Office (https://www.energy.gov/arctic/arctic-ene
 rgy-office). This new office leads cross-cutting operations in the Arctic w
 ith a mission to tackle 21st century energy, science, and national security
  challenges. The webinar will highlight the office's mission, leadership, a
 nd partnerships, as well as opportunities for the research community to col
 laborate with the office. Arctic Energy Office Director George Roe will giv
 e a brief presentation and will be available for questions. This webinar wi
 ll be recorded. More info and Zoom connection details: <a href="https://www
 .iarpccollaborations.org/events/21220" target="_blank" rel="noopener">https
 ://www.iarpccollaborations.org/events/21220</a>
X-ALT-DESC;FMTTYPE=text/html:<div style="text-align: justify;">On <strong>June 30, 8am AKT / 12pm ET</st
 rong>, join <abbr>IARPC</abbr> for a webinar with the Department of Energy'
 s <a href="https://www.energy.gov/arctic/arctic-energy-office" target="_bla
 nk" rel="noopener">Arctic Energy Office</a>. This new office leads cross-cu
 tting operations in the Arctic with a mission to tackle 21st century energy
 , science, and national security challenges. The webinar will highlight the
  office's mission, leadership, and partnerships, as well as opportunities f
 or the research community to collaborate with the office. Arctic Energy Off
 ice Director George Roe will give a brief presentation and will be availabl
 e for questions. This webinar will be recorded.</div><div style="text-align
 : justify;">&nbsp;</div><div style="text-align: justify;">More info and Zoo
 m connection details: <a href="https://www.iarpccollaborations.org/events/2
 1220" target="_blank" rel="noopener">https://www.iarpccollaborations.org/ev
 ents/21220</a></div>
DTSTAMP:20260422T185854Z
DTSTART;TZID=UTC;VALUE=DATE:20210630
DTEND;TZID=UTC;VALUE=DATE:20210701
SEQUENCE:0
TRANSP:OPAQUE
END:VEVENT
END:VCALENDAR