BEGIN:VCALENDAR
VERSION:2.0
PRODID:-//jEvents 2.0 for Joomla//EN
CALSCALE:GREGORIAN
METHOD:PUBLISH
BEGIN:VEVENT
UID:09b507c52ae2a19b9194ce299246312e
CATEGORIES:Polar Online Events
CREATED:20210609T102532
SUMMARY:Training Course on Hyperspectral Remote Sensing in Svalbard
LOCATION:Online
DESCRIPTION:The Svalbard Integrated Arctic Earth Observing System (SIOS) invites applic
 ations for a training course on the use of hyperspectral remote sensing in 
 Svalbard. This online course will take place 6-10 September 2021 via Zoom.\
 nThe goal of the course is to teach participants the basic skills needed to
  acquire, analyze, and visualize hyperspectral data sets derived from aircr
 aft and satellites. The training course will cover various aspects of hyper
 spectral remote sensing, ranging from fundamental data parameters and proce
 ssing tools, to applications and calibration/validation techniques. The cou
 rse material will be delivered through a mixture of lectures and hands-on s
 essions from leading experts in the field. No prior knowledge is assumed.\n
 Topics covered during the training will include:\n\n - Introduction to hype
 rspectral remote sensing,\n - Key data quality parameters in hyperspectral 
 remote sensing,\n - Acquisition of airborne hyperspectral data from Dornier
  aircraft,\n - Basic processing of hyperspectral data acquired by Dornier a
 ircraft,\n - Applications of hyperspectral data in the Arctic,\n - Generati
 on of biophysical variables using PRISMA Hyperspectral data, and\n - Calibr
 ation/validation activities using in situ hyperspectral measurements.In the
  first round of applications, the training course will only be available fo
 r employees and students from SIOS member institutions. If there are still 
 places available after the first round of applications, applicants from oth
 er institutions can apply.\nApplication period for applicants from SIOS mem
 ber institutions only: 1-15 June 2021\n Application period for applicants f
 rom SIOS member and non-member institutions: 15-30 June 2021\nFor more info
 rmation, go to:\n Event webpage (https://sios-svalbard.org/HSRScourse)\nFor
  questions, contact:\n Shridhar Jawak\n Email: <a href="mailto:remotesensin
 g@sios-svalbard.org"></a>This email address is being protected from spambot
 s. You need JavaScript enabled to view it.
				document.getElementById('clo
 ak13f71dd6e469bacaa7f9cc197f228efa').innerHTML = '';
				var prefix = '&#10
 9;a' + 'i&#108;' + '&#116;o';
				var path = 'hr' + 'ef' + '=';
				var add
 y13f71dd6e469bacaa7f9cc197f228efa = 'r&#101;m&#111;t&#101;s&#101;ns&#105;ng
 ' + '&#64;';
				addy13f71dd6e469bacaa7f9cc197f228efa = addy13f71dd6e469bac
 aa7f9cc197f228efa + 's&#105;&#111;s-sv&#97;lb&#97;rd' + '&#46;' + '&#111;rg
 ';
				var addy_text13f71dd6e469bacaa7f9cc197f228efa = 'r&#101;m&#111;t&#10
 1;s&#101;ns&#105;ng' + '&#64;' + 's&#105;&#111;s-sv&#97;lb&#97;rd' + '&#46;
 ' + '&#111;rg';document.getElementById('cloak13f71dd6e469bacaa7f9cc197f228e
 fa').innerHTML += '<a ' + path + '\'' + prefix + ':' + addy13f71dd6e469baca
 a7f9cc197f228efa + '\'>'+addy_text13f71dd6e469bacaa7f9cc197f228efa+'';
		\n
X-ALT-DESC;FMTTYPE=text/html:<p>The <strong>Svalbard Integrated Arctic Earth Observing System (SIOS)</st
 rong> invites applications for a training course on the use of hyperspectra
 l remote sensing in Svalbard. This online course will take place <strong>6-
 10 September 2021</strong> via Zoom.</p><p>The goal of the course is to tea
 ch participants the basic skills needed to acquire, analyze, and visualize 
 hyperspectral data sets derived from aircraft and satellites. The training 
 course will cover various aspects of hyperspectral remote sensing, ranging 
 from fundamental data parameters and processing tools, to applications and 
 calibration/validation techniques. The course material will be delivered th
 rough a mixture of lectures and hands-on sessions from leading experts in t
 he field. No prior knowledge is assumed.</p><p><strong>Topics covered durin
 g the training will include:</strong></p><ul><li>Introduction to hyperspect
 ral remote sensing,</li><li>Key data quality parameters in hyperspectral re
 mote sensing,</li><li>Acquisition of airborne hyperspectral data from Dorni
 er aircraft,</li><li>Basic processing of hyperspectral data acquired by Dor
 nier aircraft,</li><li>Applications of hyperspectral data in the Arctic,</l
 i><li>Generation of biophysical variables using PRISMA Hyperspectral data, 
 and</li><li>Calibration/validation activities using in situ hyperspectral m
 easurements.</li></ul><p>In the first round of applications, the training c
 ourse will only be available for employees and students from SIOS member in
 stitutions. If there are still places available after the first round of ap
 plications, applicants from other institutions can apply.</p><p><strong>App
 lication period for applicants from SIOS member institutions only:</strong>
  1-15 June 2021<br /> <strong>Application period for applicants from SIOS m
 ember and non-member institutions: </strong>15-30 June 2021</p><p>For more 
 information, go to:<br /> <a href="https://sios-svalbard.org/HSRScourse" ta
 rget="_blank" rel="noopener">Event webpage</a></p><p>For questions, contact
 :<br /> Shridhar Jawak<br /> Email: <span id="cloakc4d4ce005b022ff9d342636c
 e43082fe"><a href="mailto:remotesensing@sios-svalbard.org"></a><span id="cl
 oak13f71dd6e469bacaa7f9cc197f228efa">This email address is being protected 
 from spambots. You need JavaScript enabled to view it.</span><script type='
 text/javascript'>
				document.getElementById('cloak13f71dd6e469bacaa7f9cc1
 97f228efa').innerHTML = '';
				var prefix = '&#109;a' + 'i&#108;' + '&#116
 ;o';
				var path = 'hr' + 'ef' + '=';
				var addy13f71dd6e469bacaa7f9cc19
 7f228efa = 'r&#101;m&#111;t&#101;s&#101;ns&#105;ng' + '&#64;';
				addy13f7
 1dd6e469bacaa7f9cc197f228efa = addy13f71dd6e469bacaa7f9cc197f228efa + 's&#1
 05;&#111;s-sv&#97;lb&#97;rd' + '&#46;' + '&#111;rg';
				var addy_text13f71
 dd6e469bacaa7f9cc197f228efa = 'r&#101;m&#111;t&#101;s&#101;ns&#105;ng' + '&
 #64;' + 's&#105;&#111;s-sv&#97;lb&#97;rd' + '&#46;' + '&#111;rg';document.g
 etElementById('cloak13f71dd6e469bacaa7f9cc197f228efa').innerHTML += '<a ' +
  path + '\'' + prefix + ':' + addy13f71dd6e469bacaa7f9cc197f228efa + '\'>'+
 addy_text13f71dd6e469bacaa7f9cc197f228efa+'<\/a>';
		</script></span></p>
DTSTAMP:20260420T093701Z
DTSTART;TZID=UTC;VALUE=DATE:20210906
DTEND;TZID=UTC;VALUE=DATE:20210911
SEQUENCE:0
TRANSP:OPAQUE
END:VEVENT
END:VCALENDAR