BEGIN:VCALENDAR
VERSION:2.0
PRODID:-//jEvents 2.0 for Joomla//EN
CALSCALE:GREGORIAN
METHOD:PUBLISH
BEGIN:VEVENT
UID:13112d8c81ac60e74031fe47710ba655
CATEGORIES:Polar Conferences, Meetings and Events
CREATED:20161207T230711
SUMMARY:Workshop on Future of Winter Tourism
LOCATION:Rovaniemi\, Finland
DESCRIPTION:We are inviting submissions to the first workshop on “The Future of Winter 
 Tourism” which will be held in Rovaniemi (Finland) on April 3-5, 2017. The 
 workshop is jointly organized by the University of Lapland and the Multidim
 ensional Tourism Institute (MTI).\nPaper submission deadline: December 20, 
 2016\nFor the guidelines of paper submission and details of the workshop, p
 lease visit our official website www.ulapland.fi/wintertourism2017 (http://
 www.ulapland.fi/wintertourism2017)\nWe are happy to announce our keynote sp
 eakers:\nDaniel Scott, Professor and Canada Research Chair in Global Change
  and Tourism, University of Waterloo, Waterloo, Canada\nAntti Honkanen, Pro
 fessor, Director, University of Lapland, Faculty of Social Sciences, Multid
 imensional Tourism Institute (MTI), Rovaniemi, Finland\nAri Vuorentausta CE
 O, Lapland Hotels Ltd., Finland\nPlease note that Outstanding papers will b
 e considered for publication in a Special Issue in Current Issues in Touris
 m <a href="http://www.tandfonline.com/toc/rcit20/current">http://www.tandfo
 nline.com/toc/rcit20/current</a> published by Taylor &amp; Francis Group. C
 urrent Issues in Tourism is a double peer-reviewed journal encouraging in-d
 epth discussion and critique of key questions within the subject. The final
  reviewing of papers (up to 7,000 words incl. refs) will be done by a blind
  referee process by the journal.\nWarm regards,\nMarkku Vieru\n
X-ALT-DESC;FMTTYPE=text/html:<p>We are inviting submissions to the first workshop on <strong>“The Future
  of Winter Tourism”</strong> which will be held in <strong>Rovaniemi (Finla
 nd) on April 3-5, 2017</strong>. The workshop is jointly organized by the U
 niversity of Lapland and the Multidimensional Tourism Institute (MTI).</p><
 p><strong>Paper submission deadline: December 20, 2016</strong></p><p>For t
 he guidelines of paper submission and details of the workshop, please visit
  our official website <a href="http://www.ulapland.fi/wintertourism2017">ww
 w.ulapland.fi/wintertourism2017</a></p><p>We are happy to announce our keyn
 ote speakers:</p><p>Daniel Scott, Professor and Canada Research Chair in Gl
 obal Change and Tourism, University of Waterloo, Waterloo, Canada<br />Antt
 i Honkanen, Professor, Director, University of Lapland, Faculty of Social S
 ciences, Multidimensional Tourism Institute (MTI), Rovaniemi, Finland<br />
 Ari Vuorentausta CEO, Lapland Hotels Ltd., Finland</p><p>Please note that O
 utstanding papers will be considered for publication in a Special Issue in 
 Current Issues in Tourism <a href="http://www.tandfonline.com/toc/rcit20/cu
 rrent">http://www.tandfonline.com/toc/rcit20/current</a> published by Taylo
 r & Francis Group. Current Issues in Tourism is a double peer-reviewed jour
 nal encouraging in-depth discussion and critique of key questions within th
 e subject. The final reviewing of papers (up to 7,000 words incl. refs) wil
 l be done by a blind referee process by the journal.</p><p>Warm regards,</p
 ><p>Markku Vieru</p>
DTSTAMP:20260423T004203Z
DTSTART;TZID=UTC;VALUE=DATE:20170403
DTEND;TZID=UTC;VALUE=DATE:20170406
SEQUENCE:0
TRANSP:OPAQUE
END:VEVENT
END:VCALENDAR