BEGIN:VCALENDAR
VERSION:2.0
PRODID:-//jEvents 2.0 for Joomla//EN
CALSCALE:GREGORIAN
METHOD:PUBLISH
BEGIN:VEVENT
UID:b77d47ed2433b700dfc1df545e1aea6b
CATEGORIES:Polar Online Events
CREATED:20210603T080345
SUMMARY:Webinar: Diversity in Arctic Federal Sphere
LOCATION:Online
DESCRIPTION:Learn how an interagency body like the Interagency Arctic Research Policy C
 ommittee create space for diversity &amp; inclusion discussions.In 2021, a 
 coalition of organizations including The Arctic Institute, Women in Polar S
 ciences, and Women of the Arctic are organizing a webinar series, Breaking 
 the Ice Ceiling, to illuminate polar research by those who identify as wome
 n and to foster discussion on systemic change in polar sciences (Indigenous
 , natural, and social sciences) to advance diversity, equity, and inclusion
 .\nIn this webinar, learn from Meredith LaValley, Dr. Olivia Lee, and Liz W
 einberg on how an interagency body like the Interagency Arctic Research Pol
 icy Committee (IARPC) create space for diversity and inclusion discussions 
 and progress across the federal government.\nDate and Time\nMon, June 14, 2
 021\n6:00 PM – 7:00 PM CEST\nRegister for free here (https://www.eventbrite
 .com/e/creating-space-for-diversity-inclusion-in-the-federal-sphere-tickets
 -132867553429?aff=ebdsoporgprofile).
X-ALT-DESC;FMTTYPE=text/html:<div class="g-cell g-cell-10-12 g-cell-md-1-1"><div class="has-user-generat
 ed-content"><div class="text-body-medium" style="text-align: justify;" data
 -automation="listing-event-description"><strong>Learn how an interagency bo
 dy like the Interagency Arctic Research Policy Committee create space for d
 iversity &amp; inclusion discussions.</strong></div></div></div><p style="t
 ext-align: justify;">In 2021, a coalition of organizations including The Ar
 ctic Institute, Women in Polar Sciences, and Women of the Arctic are organi
 zing a webinar series, <strong>Breaking the Ice Ceiling</strong>, to illumi
 nate polar research by those who identify as women and to foster discussion
  on systemic change in polar sciences (Indigenous, natural, and social scie
 nces) to advance diversity, equity, and inclusion.</p><p style="text-align:
  justify;">In this webinar, learn from <strong>Meredith LaValley</strong>, 
 <strong>Dr. Olivia Lee</strong>, and<strong> Liz Weinberg</strong> on how a
 n interagency body like the Interagency Arctic Research Policy Committee (I
 ARPC) create space for diversity and inclusion discussions and progress acr
 oss the federal government.</p><div class="event-details__data"><p style="t
 ext-align: justify;"><strong>Date and Time</strong></p><p class="js-date-ti
 me-second-line" style="text-align: justify;">Mon, June 14, 2021<br />6:00 P
 M – 7:00 PM CEST</p><div dir="ltr" style="text-align: justify;">Register fo
 r free <a href="https://www.eventbrite.com/e/creating-space-for-diversity-i
 nclusion-in-the-federal-sphere-tickets-132867553429?aff=ebdsoporgprofile" t
 arget="_blank" rel="noopener">here</a>.</div></div>
DTSTAMP:20260423T040112Z
DTSTART;TZID=UTC;VALUE=DATE:20210614
DTEND;TZID=UTC;VALUE=DATE:20210615
SEQUENCE:0
TRANSP:OPAQUE
END:VEVENT
END:VCALENDAR